BEGIN:VCALENDAR
VERSION:2.0
PRODID:-//Visit Newbury - ECPv6.13.2.1//NONSGML v1.0//EN
CALSCALE:GREGORIAN
METHOD:PUBLISH
X-ORIGINAL-URL:https://visitnewbury.org.uk
X-WR-CALDESC:Events for Visit Newbury
REFRESH-INTERVAL;VALUE=DURATION:PT1H
X-Robots-Tag:noindex
X-PUBLISHED-TTL:PT1H
BEGIN:VTIMEZONE
TZID:Europe/London
BEGIN:DAYLIGHT
TZOFFSETFROM:+0000
TZOFFSETTO:+0100
TZNAME:BST
DTSTART:20250330T010000
END:DAYLIGHT
BEGIN:STANDARD
TZOFFSETFROM:+0100
TZOFFSETTO:+0000
TZNAME:GMT
DTSTART:20251026T010000
END:STANDARD
BEGIN:DAYLIGHT
TZOFFSETFROM:+0000
TZOFFSETTO:+0100
TZNAME:BST
DTSTART:20260329T010000
END:DAYLIGHT
BEGIN:STANDARD
TZOFFSETFROM:+0100
TZOFFSETTO:+0000
TZNAME:GMT
DTSTART:20261025T010000
END:STANDARD
END:VTIMEZONE
BEGIN:VEVENT
DTSTART;TZID=Europe/London:20260331T083000
DTEND;TZID=Europe/London:20260331T153000
DTSTAMP:20260422T111701
CREATED:20260325T123236Z
LAST-MODIFIED:20260325T123833Z
UID:12003691-1774945800-1774971000@visitnewbury.org.uk
SUMMARY:Easter Holiday Junior Club
DESCRIPTION:Join the Waterside Centre for its Easter Holiday Junior Club\, where the centre is hosting plenty of fun each day to help keep the little ones entertained over the school break! \nThe Junior Club is for 8-11 year olds\, and runs from 8:30am and 3:30pm daily from Mondays to Thursdays over the Easter break. \nHead to the link below to learn more or book in for a spot.
URL:https://visitnewbury.org.uk/event/easter-holiday-junior-club-waterside-centre/2026-03-31/
LOCATION:Waterside Centre\, Waterside Centre\, Waldegrave Place\, RG14 1DS
CATEGORIES:Children's Sessions,Easter,School Holidays & Half Term
ATTACH;FMTTYPE=image/jpeg:https://visitnewbury.org.uk/wp-content/uploads/2026/03/Waterside-Centre-Junior-Club.jpg
END:VEVENT
BEGIN:VEVENT
DTSTART;TZID=Europe/London:20260330T160000
DTEND;TZID=Europe/London:20260330T200000
DTSTAMP:20260422T111701
CREATED:20260325T124206Z
LAST-MODIFIED:20260325T124300Z
UID:12003372-1774886400-1774900800@visitnewbury.org.uk
SUMMARY:Easter Holiday Youth Club
DESCRIPTION:Join the Waterside Centre for its Easter Holiday Youth Club for young people in secondary school. \nThe afternoon sessions take place 4pm-8pm daily from Mondays to Thursdays over the Easter break. \nHead to the link below to learn more or reserve your space.
URL:https://visitnewbury.org.uk/event/easter-holiday-youth-club-waterside-centre/2026-03-30/
LOCATION:Waterside Centre\, Waterside Centre\, Waldegrave Place\, RG14 1DS
CATEGORIES:Children's Sessions,School Holidays & Half Term
ATTACH;FMTTYPE=image/jpeg:https://visitnewbury.org.uk/wp-content/uploads/2026/02/Waterside-Centre-Easter-Holiday-Youth-Club.jpg
END:VEVENT
BEGIN:VEVENT
DTSTART;TZID=Europe/London:20260330T100000
DTEND;TZID=Europe/London:20260330T123000
DTSTAMP:20260422T111701
CREATED:20260209T131027Z
LAST-MODIFIED:20260324T161800Z
UID:12003363-1774864800-1774873800@visitnewbury.org.uk
SUMMARY:Intergenerational Easter Fun
DESCRIPTION:Join Waterside Centre Monday 30th March for a special visit to Willows Edge Care Home. Enjoy a spring morning of activities and games\, bringing different generations together for a fun and memorable experience. \nMeet at Waterside Centre at 10am\, return for 12.30pm \nFor ages 11+\, free to join but make sure you book in via the link below.
URL:https://visitnewbury.org.uk/event/intergenerational-easter-fun/
LOCATION:Waterside Centre\, Waterside Centre\, Waldegrave Place\, RG14 1DS
CATEGORIES:Children's Sessions,Easter,School Holidays & Half Term
ATTACH;FMTTYPE=image/jpeg:https://visitnewbury.org.uk/wp-content/uploads/2026/02/Intergenerational-Easter-Fun.jpg
END:VEVENT
BEGIN:VEVENT
DTSTART;TZID=Europe/London:20260330T083000
DTEND;TZID=Europe/London:20260330T153000
DTSTAMP:20260422T111701
CREATED:20260325T123236Z
LAST-MODIFIED:20260325T123833Z
UID:12003369-1774859400-1774884600@visitnewbury.org.uk
SUMMARY:Easter Holiday Junior Club
DESCRIPTION:Join the Waterside Centre for its Easter Holiday Junior Club\, where the centre is hosting plenty of fun each day to help keep the little ones entertained over the school break! \nThe Junior Club is for 8-11 year olds\, and runs from 8:30am and 3:30pm daily from Mondays to Thursdays over the Easter break. \nHead to the link below to learn more or book in for a spot.
URL:https://visitnewbury.org.uk/event/easter-holiday-junior-club-waterside-centre/2026-03-30/
LOCATION:Waterside Centre\, Waterside Centre\, Waldegrave Place\, RG14 1DS
CATEGORIES:Children's Sessions,Easter,School Holidays & Half Term
ATTACH;FMTTYPE=image/jpeg:https://visitnewbury.org.uk/wp-content/uploads/2026/03/Waterside-Centre-Junior-Club.jpg
END:VEVENT
BEGIN:VEVENT
DTSTART;TZID=Europe/London:20260220T190000
DTEND;TZID=Europe/London:20260220T220000
DTSTAMP:20260422T111701
CREATED:20260130T142002Z
LAST-MODIFIED:20260130T142002Z
UID:12003273-1771614000-1771624800@visitnewbury.org.uk
SUMMARY:Mayor of Newbury's Fundraising Concert
DESCRIPTION:The Mayor of Newbury hosts a special fundraising gig in aid of Berkshire Youth. \nEnjoy an evening of live music featuring local artists\, including The Caskettes\, The Project Band and The Rokkits. This exciting event brings together local talent and the community to raise vital funds to support young people across the area. \nTickets: £10 \nA licensed bar will be running on the night.\nUnder 18’s must be accompanied by an adult. \nFor more info please contact mayor@newbury.gov.uk
URL:https://visitnewbury.org.uk/event/mayor-of-newburys-fundraising-concert/
LOCATION:Waterside Centre\, Waterside Centre\, Waldegrave Place\, RG14 1DS
CATEGORIES:Fundraising,Live Music
ATTACH;FMTTYPE=image/jpeg:https://visitnewbury.org.uk/wp-content/uploads/2026/01/Mayor-of-Newburys-fundraising-concert.jpg
END:VEVENT
BEGIN:VEVENT
DTSTART;TZID=Europe/London:20260219T160000
DTEND;TZID=Europe/London:20260219T200000
DTSTAMP:20260422T111701
CREATED:20260209T124608Z
LAST-MODIFIED:20260209T131545Z
UID:12003371-1771516800-1771531200@visitnewbury.org.uk
SUMMARY:Half Term Youth Club
DESCRIPTION:Join the Waterside Centre over half term for its Half Term Youth Club for young people in secondary school. \nThe afternoon sessions take place 4pm-8pm daily from Tuesday 17th -Friday 20th February. Head to the link below to learn more or book in for a spot.
URL:https://visitnewbury.org.uk/event/half-term-youth-club/2026-02-19/
LOCATION:Waterside Centre\, Waterside Centre\, Waldegrave Place\, RG14 1DS
CATEGORIES:Children's Sessions,School Holidays & Half Term
ATTACH;FMTTYPE=image/jpeg:https://visitnewbury.org.uk/wp-content/uploads/2025/10/Waterside-Half-Term-Youth-Club.jpg
END:VEVENT
BEGIN:VEVENT
DTSTART;TZID=Europe/London:20260219T090000
DTEND;TZID=Europe/London:20260219T160000
DTSTAMP:20260422T111701
CREATED:20260209T124942Z
LAST-MODIFIED:20260209T131535Z
UID:12003368-1771491600-1771516800@visitnewbury.org.uk
SUMMARY:Half Term Junior Club
DESCRIPTION:Join the Waterside Centre over half term for its Half Term Junior Club\, where the centre is hosting plenty of fun each day to help keep the little ones entertained over the school break! \nThe Junior Club is for 8-11 year olds\, and runs from 9am and 4pm daily\, Tuesday 17th – Friday 20th February. Head to the link below to learn more or book in for a spot.
URL:https://visitnewbury.org.uk/event/half-term-junior-club/2026-02-19/
LOCATION:Waterside Centre\, Waterside Centre\, Waldegrave Place\, RG14 1DS
CATEGORIES:Children's Sessions,School Holidays & Half Term
ATTACH;FMTTYPE=image/jpeg:https://visitnewbury.org.uk/wp-content/uploads/2025/10/Waterside-Junior-Holiday-Club.jpg
END:VEVENT
BEGIN:VEVENT
DTSTART;TZID=Europe/London:20260218T160000
DTEND;TZID=Europe/London:20260218T200000
DTSTAMP:20260422T111701
CREATED:20260209T124608Z
LAST-MODIFIED:20260209T131545Z
UID:12003370-1771430400-1771444800@visitnewbury.org.uk
SUMMARY:Half Term Youth Club
DESCRIPTION:Join the Waterside Centre over half term for its Half Term Youth Club for young people in secondary school. \nThe afternoon sessions take place 4pm-8pm daily from Tuesday 17th -Friday 20th February. Head to the link below to learn more or book in for a spot.
URL:https://visitnewbury.org.uk/event/half-term-youth-club/2026-02-18/
LOCATION:Waterside Centre\, Waterside Centre\, Waldegrave Place\, RG14 1DS
CATEGORIES:Children's Sessions,School Holidays & Half Term
ATTACH;FMTTYPE=image/jpeg:https://visitnewbury.org.uk/wp-content/uploads/2025/10/Waterside-Half-Term-Youth-Club.jpg
END:VEVENT
BEGIN:VEVENT
DTSTART;TZID=Europe/London:20260218T090000
DTEND;TZID=Europe/London:20260218T160000
DTSTAMP:20260422T111701
CREATED:20260209T124942Z
LAST-MODIFIED:20260209T131535Z
UID:12003367-1771405200-1771430400@visitnewbury.org.uk
SUMMARY:Half Term Junior Club
DESCRIPTION:Join the Waterside Centre over half term for its Half Term Junior Club\, where the centre is hosting plenty of fun each day to help keep the little ones entertained over the school break! \nThe Junior Club is for 8-11 year olds\, and runs from 9am and 4pm daily\, Tuesday 17th – Friday 20th February. Head to the link below to learn more or book in for a spot.
URL:https://visitnewbury.org.uk/event/half-term-junior-club/2026-02-18/
LOCATION:Waterside Centre\, Waterside Centre\, Waldegrave Place\, RG14 1DS
CATEGORIES:Children's Sessions,School Holidays & Half Term
ATTACH;FMTTYPE=image/jpeg:https://visitnewbury.org.uk/wp-content/uploads/2025/10/Waterside-Junior-Holiday-Club.jpg
END:VEVENT
BEGIN:VEVENT
DTSTART;TZID=Europe/London:20260217T160000
DTEND;TZID=Europe/London:20260217T200000
DTSTAMP:20260422T111701
CREATED:20260209T124608Z
LAST-MODIFIED:20260209T131545Z
UID:12003018-1771344000-1771358400@visitnewbury.org.uk
SUMMARY:Half Term Youth Club
DESCRIPTION:Join the Waterside Centre over half term for its Half Term Youth Club for young people in secondary school. \nThe afternoon sessions take place 4pm-8pm daily from Tuesday 17th -Friday 20th February. Head to the link below to learn more or book in for a spot.
URL:https://visitnewbury.org.uk/event/half-term-youth-club/2026-02-17/
LOCATION:Waterside Centre\, Waterside Centre\, Waldegrave Place\, RG14 1DS
CATEGORIES:Children's Sessions,School Holidays & Half Term
ATTACH;FMTTYPE=image/jpeg:https://visitnewbury.org.uk/wp-content/uploads/2025/10/Waterside-Half-Term-Youth-Club.jpg
END:VEVENT
BEGIN:VEVENT
DTSTART;TZID=Europe/London:20260217T090000
DTEND;TZID=Europe/London:20260217T160000
DTSTAMP:20260422T111701
CREATED:20260209T124942Z
LAST-MODIFIED:20260209T131535Z
UID:12003010-1771318800-1771344000@visitnewbury.org.uk
SUMMARY:Half Term Junior Club
DESCRIPTION:Join the Waterside Centre over half term for its Half Term Junior Club\, where the centre is hosting plenty of fun each day to help keep the little ones entertained over the school break! \nThe Junior Club is for 8-11 year olds\, and runs from 9am and 4pm daily\, Tuesday 17th – Friday 20th February. Head to the link below to learn more or book in for a spot.
URL:https://visitnewbury.org.uk/event/half-term-junior-club/2026-02-17/
LOCATION:Waterside Centre\, Waterside Centre\, Waldegrave Place\, RG14 1DS
CATEGORIES:Children's Sessions,School Holidays & Half Term
ATTACH;FMTTYPE=image/jpeg:https://visitnewbury.org.uk/wp-content/uploads/2025/10/Waterside-Junior-Holiday-Club.jpg
END:VEVENT
BEGIN:VEVENT
DTSTART;TZID=Europe/London:20251031T160000
DTEND;TZID=Europe/London:20251031T173000
DTSTAMP:20260422T111701
CREATED:20251014T120856Z
LAST-MODIFIED:20251014T120856Z
UID:12003039-1761926400-1761931800@visitnewbury.org.uk
SUMMARY:Light Party
DESCRIPTION:Bring your kids for a fun and exciting alternative to a Halloween party! Children can often find Halloween a bit scary or uncomfortable so we’re swinging the focus around. \nShine your light into the darkness! We all have a light to shine and we this event is a chance to explore this through crafts\, games\, stories and challenges. \nSo\, don a costume if you’d like to (nothing scary please)\, or head along in your normal clothes and get ready for a sparkly and joyful celebration that your kids won’t forget. \nAimed at children aged 3-11\, but younger children are welcome too. Children over the age of 4 can be left once registered\, but parents of younger children are requested to stay with them. \nWe will serve food for the children so please do highlight any allergies when booking or to the team on the evening (tea and coffee will be available for the adults). \nHead to the link below to learn more.
URL:https://visitnewbury.org.uk/event/light-party/
LOCATION:Waterside Centre\, Waterside Centre\, Waldegrave Place\, RG14 1DS
CATEGORIES:Children's Sessions,Halloween,School Holidays & Half Term
ATTACH;FMTTYPE=image/jpeg:https://visitnewbury.org.uk/wp-content/uploads/2025/10/Light-Party-Bridge-Church.jpg
END:VEVENT
BEGIN:VEVENT
DTSTART;TZID=Europe/London:20251030T131500
DTEND;TZID=Europe/London:20251030T170000
DTSTAMP:20260422T111701
CREATED:20251023T084610Z
LAST-MODIFIED:20251023T084610Z
UID:12003058-1761830100-1761843600@visitnewbury.org.uk
SUMMARY:Charley's Aunt Workshops
DESCRIPTION:Berkshire Youth are teaming up with Watermill Theatre and Newbury Pride to explore The Watermill’s new smash-hit production of Charley’s Aunt\, with a series of free workshops. \nGet involved in drama sessions\, design workshops and drop-in art sessions all centred around ideas of gender identity\, reimagining classic texts and the creative process behind producing a new theatre production. \nThese free workshops are taking place at Waterside Centre on Wednesday 29th and Thursday 30th October and are open to anyone aged 14 -17. \nThere are multiple sessions each day\, with start times from 1.15pm\, 2.30pm and 5pm. \nPlease book directly through the Watermill Theatre website – you can find the link below.
URL:https://visitnewbury.org.uk/event/charleys-aunt-workshops-30th-oct/
LOCATION:Waterside Centre\, Waterside Centre\, Waldegrave Place\, RG14 1DS
CATEGORIES:Children's Sessions,School Holidays & Half Term,Theatre
ATTACH;FMTTYPE=image/png:https://visitnewbury.org.uk/wp-content/uploads/2025/10/Charleys-Aunt-Workshops-flyer-scaled.png
END:VEVENT
BEGIN:VEVENT
DTSTART;TZID=Europe/London:20251029T131500
DTEND;TZID=Europe/London:20251029T170000
DTSTAMP:20260422T111701
CREATED:20251023T084215Z
LAST-MODIFIED:20251023T084329Z
UID:12003057-1761743700-1761757200@visitnewbury.org.uk
SUMMARY:Charley's Aunt Workshops
DESCRIPTION:Berkshire Youth are teaming up with Watermill Theatre and Newbury Pride to explore The Watermill’s new smash-hit production of Charley’s Aunt\, with a series of free workshops. \nGet involved in drama sessions\, design workshops and drop-in art sessions all centred around ideas of gender identity\, reimagining classic texts and the creative process behind producing a new theatre production. \nThese free workshops are taking place at Waterside Centre on Wednesday 29th and Thursday 30th October and are open to anyone aged 14 -17. \nThere are multiple sessions each day\, with start times from 1.15pm\, 2.30pm and 5pm. \nPlease book directly through the Watermill Theatre website – you can find the link below.
URL:https://visitnewbury.org.uk/event/charleys-aunt-workshops-29th-oct/
LOCATION:Waterside Centre\, Waterside Centre\, Waldegrave Place\, RG14 1DS
CATEGORIES:Children's Sessions,School Holidays & Half Term,Theatre
ATTACH;FMTTYPE=image/png:https://visitnewbury.org.uk/wp-content/uploads/2025/10/Charleys-Aunt-Workshops-flyer-scaled.png
END:VEVENT
BEGIN:VEVENT
DTSTART;TZID=Europe/London:20250816T120000
DTEND;TZID=Europe/London:20250816T180000
DTSTAMP:20260422T111701
CREATED:20250812T143931Z
LAST-MODIFIED:20250812T143931Z
UID:12002184-1755345600-1755367200@visitnewbury.org.uk
SUMMARY:Waterside SummerFest
DESCRIPTION:Join Waterside Centre for SummerFest\, a festival celebrating and supporting wellbeing. \nThere will be a range of activities taking place throughout the day\, including Screen Printing\, DJ workshops\, kayaking\, and much more – even a BBQ from 3pm! \nAs part of the day\, join the Graffiti Workshop being run by City Arts\, where you’ll be given ideas and inspiration on how to unleash your creativity with bold colours and street art techniques. \nThe workshops runs from 3pm – 4pm and 4.15pm – 5.15pm\, booking in advance. Head to the link below to secure your spot.
URL:https://visitnewbury.org.uk/event/waterside-summerfest/
LOCATION:Waterside Centre\, Waterside Centre\, Waldegrave Place\, RG14 1DS
CATEGORIES:Arts & Crafts,Community Events,Health & Wellbeing
ATTACH;FMTTYPE=image/jpeg:https://visitnewbury.org.uk/wp-content/uploads/2025/08/Waterside-SummerFest.jpg
END:VEVENT
BEGIN:VEVENT
DTSTART;TZID=Europe/London:20250802T100000
DTEND;TZID=Europe/London:20250802T160000
DTSTAMP:20260422T111701
CREATED:20250711T094351Z
LAST-MODIFIED:20250711T094447Z
UID:12002155-1754128800-1754150400@visitnewbury.org.uk
SUMMARY:Waterside Centre 4th Birthday Celebration
DESCRIPTION:Berkshire Youth and The Waterside Centre are celebrating the centre’s 4th birthday in style – with a whole range of events and activities to get involved in on the day\, plus live music\, arts and crafts\, facepainting and even a bouncy castle! \nYou can also book in for a free boxing taster session – but make sure you pre-book via the link below. \nHappy Birthday to a real gem of an organisation that does so much for the young people of Newbury 💙
URL:https://visitnewbury.org.uk/event/waterside-centre-4th-birthday-celebration/
LOCATION:Waterside Centre\, Waterside Centre\, Waldegrave Place\, RG14 1DS
CATEGORIES:Children's Sessions,Community Events,Health & Wellbeing,Open Days
ATTACH;FMTTYPE=image/png:https://visitnewbury.org.uk/wp-content/uploads/2025/07/Waterside-4th-Birthday.png
END:VEVENT
BEGIN:VEVENT
DTSTART;VALUE=DATE:20250527
DTEND;VALUE=DATE:20250531
DTSTAMP:20260422T111701
CREATED:20250515T111428Z
LAST-MODIFIED:20250515T113741Z
UID:12001996-1748304000-1748649599@visitnewbury.org.uk
SUMMARY:Waterside Centre Half Term activities
DESCRIPTION:Waterside Centre host a range of activities for young people over Half Term. Head to their website to find out more – use the link lower down this page. \nIn the following images you can find times and further details for the upcoming activities:
URL:https://visitnewbury.org.uk/event/waterside-centre-half-term-activities/
LOCATION:Waterside Centre\, Waterside Centre\, Waldegrave Place\, RG14 1DS
CATEGORIES:Children's Sessions,Sport
ATTACH;FMTTYPE=image/jpeg:https://visitnewbury.org.uk/wp-content/uploads/2025/05/Waterside-half-term-activities.jpg
END:VEVENT
BEGIN:VEVENT
DTSTART;TZID=Europe/London:20250131T190000
DTEND;TZID=Europe/London:20250131T200000
DTSTAMP:20260422T111701
CREATED:20250108T172700Z
LAST-MODIFIED:20250108T172700Z
UID:10000014-1738350000-1738353600@visitnewbury.org.uk
SUMMARY:Family Climbing Sessions
DESCRIPTION:
URL:https://visitnewbury.org.uk/event/family-climbing-sessions/2025-01-31/
LOCATION:Waterside Centre\, Waterside Centre\, Waldegrave Place\, RG14 1DS
ATTACH;FMTTYPE=image/png:https://visitnewbury.org.uk/wp-content/uploads/2025/01/January-Family-Climb.png
END:VEVENT
BEGIN:VEVENT
DTSTART;TZID=Europe/London:20250124T190000
DTEND;TZID=Europe/London:20250124T200000
DTSTAMP:20260422T111701
CREATED:20250108T172700Z
LAST-MODIFIED:20250108T172700Z
UID:10000013-1737745200-1737748800@visitnewbury.org.uk
SUMMARY:Family Climbing Sessions
DESCRIPTION:
URL:https://visitnewbury.org.uk/event/family-climbing-sessions/2025-01-24/
LOCATION:Waterside Centre\, Waterside Centre\, Waldegrave Place\, RG14 1DS
ATTACH;FMTTYPE=image/png:https://visitnewbury.org.uk/wp-content/uploads/2025/01/January-Family-Climb.png
END:VEVENT
BEGIN:VEVENT
DTSTART;TZID=Europe/London:20250117T190000
DTEND;TZID=Europe/London:20250117T200000
DTSTAMP:20260422T111701
CREATED:20250108T172700Z
LAST-MODIFIED:20250108T172700Z
UID:10000012-1737140400-1737144000@visitnewbury.org.uk
SUMMARY:Family Climbing Sessions
DESCRIPTION:
URL:https://visitnewbury.org.uk/event/family-climbing-sessions/2025-01-17/
LOCATION:Waterside Centre\, Waterside Centre\, Waldegrave Place\, RG14 1DS
ATTACH;FMTTYPE=image/png:https://visitnewbury.org.uk/wp-content/uploads/2025/01/January-Family-Climb.png
END:VEVENT
BEGIN:VEVENT
DTSTART;TZID=Europe/London:20250110T190000
DTEND;TZID=Europe/London:20250110T200000
DTSTAMP:20260422T111701
CREATED:20250108T172700Z
LAST-MODIFIED:20250108T172700Z
UID:10000011-1736535600-1736539200@visitnewbury.org.uk
SUMMARY:Family Climbing Sessions
DESCRIPTION:
URL:https://visitnewbury.org.uk/event/family-climbing-sessions/2025-01-10/
LOCATION:Waterside Centre\, Waterside Centre\, Waldegrave Place\, RG14 1DS
ATTACH;FMTTYPE=image/png:https://visitnewbury.org.uk/wp-content/uploads/2025/01/January-Family-Climb.png
END:VEVENT
END:VCALENDAR