BEGIN:VCALENDAR
VERSION:2.0
PRODID:-//Visit Newbury - ECPv6.13.2.1//NONSGML v1.0//EN
CALSCALE:GREGORIAN
METHOD:PUBLISH
X-WR-CALNAME:Visit Newbury
X-ORIGINAL-URL:https://visitnewbury.org.uk
X-WR-CALDESC:Events for Visit Newbury
REFRESH-INTERVAL;VALUE=DURATION:PT1H
X-Robots-Tag:noindex
X-PUBLISHED-TTL:PT1H
BEGIN:VTIMEZONE
TZID:Europe/London
BEGIN:DAYLIGHT
TZOFFSETFROM:+0000
TZOFFSETTO:+0100
TZNAME:BST
DTSTART:20250330T010000
END:DAYLIGHT
BEGIN:STANDARD
TZOFFSETFROM:+0100
TZOFFSETTO:+0000
TZNAME:GMT
DTSTART:20251026T010000
END:STANDARD
BEGIN:DAYLIGHT
TZOFFSETFROM:+0000
TZOFFSETTO:+0100
TZNAME:BST
DTSTART:20260329T010000
END:DAYLIGHT
BEGIN:STANDARD
TZOFFSETFROM:+0100
TZOFFSETTO:+0000
TZNAME:GMT
DTSTART:20261025T010000
END:STANDARD
END:VTIMEZONE
BEGIN:VEVENT
DTSTART;TZID=Europe/London:20260318T183000
DTEND;TZID=Europe/London:20260318T213000
DTSTAMP:20260420T182709
CREATED:20260203T162802Z
LAST-MODIFIED:20260203T162802Z
UID:12003355-1773858600-1773869400@visitnewbury.org.uk
SUMMARY:Newbury Offline Club: The Ugly Duckling
DESCRIPTION:An offline evening of pottery painting\, with a huge selection of items to choose from on the night and no phone distractions. \nHead to the link below to book your ticket.
URL:https://visitnewbury.org.uk/event/newbury-offline-club-march18th/
LOCATION:The Ugly Duckling\, RG14 5LL
CATEGORIES:Arts & Crafts
ATTACH;FMTTYPE=image/jpeg:https://visitnewbury.org.uk/wp-content/uploads/2026/02/Newbury-Offline-Club.jpg
END:VEVENT
BEGIN:VEVENT
DTSTART;TZID=Europe/London:20251130T100000
DTEND;TZID=Europe/London:20251130T120000
DTSTAMP:20260420T182709
CREATED:20250613T105502Z
LAST-MODIFIED:20250613T105502Z
UID:12002087-1764496800-1764504000@visitnewbury.org.uk
SUMMARY:SEND painting sessions
DESCRIPTION:Creating inclusive opportunities for everyone in our community is something we love to see\, and The Ugly Duckling is doing just that! \nOn the last Sunday of every month\, from 10am to 12pm\, they host special SEND pottery painting sessions\, providing a calmer and quieter environment that everyone can enjoy\, supported by their specially trained staff who have experience working in SEND. \nTo book in or learn more\, give the team a call on 01635 523778
URL:https://visitnewbury.org.uk/event/send-painting-sessions/2025-11-30/
LOCATION:The Ugly Duckling\, RG14 5LL
CATEGORIES:SEND Sessions
ATTACH;FMTTYPE=image/jpeg:https://visitnewbury.org.uk/wp-content/uploads/2025/06/Ugly-Duckling-SEND-sessions.jpg
END:VEVENT
BEGIN:VEVENT
DTSTART;TZID=Europe/London:20251026T100000
DTEND;TZID=Europe/London:20251026T120000
DTSTAMP:20260420T182709
CREATED:20250613T105502Z
LAST-MODIFIED:20250613T105502Z
UID:12002086-1761472800-1761480000@visitnewbury.org.uk
SUMMARY:SEND painting sessions
DESCRIPTION:Creating inclusive opportunities for everyone in our community is something we love to see\, and The Ugly Duckling is doing just that! \nOn the last Sunday of every month\, from 10am to 12pm\, they host special SEND pottery painting sessions\, providing a calmer and quieter environment that everyone can enjoy\, supported by their specially trained staff who have experience working in SEND. \nTo book in or learn more\, give the team a call on 01635 523778
URL:https://visitnewbury.org.uk/event/send-painting-sessions/2025-10-26/
LOCATION:The Ugly Duckling\, RG14 5LL
CATEGORIES:SEND Sessions
ATTACH;FMTTYPE=image/jpeg:https://visitnewbury.org.uk/wp-content/uploads/2025/06/Ugly-Duckling-SEND-sessions.jpg
END:VEVENT
BEGIN:VEVENT
DTSTART;TZID=Europe/London:20250928T100000
DTEND;TZID=Europe/London:20250928T120000
DTSTAMP:20260420T182709
CREATED:20250613T105502Z
LAST-MODIFIED:20250613T105502Z
UID:12002085-1759053600-1759060800@visitnewbury.org.uk
SUMMARY:SEND painting sessions
DESCRIPTION:Creating inclusive opportunities for everyone in our community is something we love to see\, and The Ugly Duckling is doing just that! \nOn the last Sunday of every month\, from 10am to 12pm\, they host special SEND pottery painting sessions\, providing a calmer and quieter environment that everyone can enjoy\, supported by their specially trained staff who have experience working in SEND. \nTo book in or learn more\, give the team a call on 01635 523778
URL:https://visitnewbury.org.uk/event/send-painting-sessions/2025-09-28/
LOCATION:The Ugly Duckling\, RG14 5LL
CATEGORIES:SEND Sessions
ATTACH;FMTTYPE=image/jpeg:https://visitnewbury.org.uk/wp-content/uploads/2025/06/Ugly-Duckling-SEND-sessions.jpg
END:VEVENT
BEGIN:VEVENT
DTSTART;TZID=Europe/London:20250831T100000
DTEND;TZID=Europe/London:20250831T120000
DTSTAMP:20260420T182709
CREATED:20250613T105502Z
LAST-MODIFIED:20250613T105502Z
UID:12002084-1756634400-1756641600@visitnewbury.org.uk
SUMMARY:SEND painting sessions
DESCRIPTION:Creating inclusive opportunities for everyone in our community is something we love to see\, and The Ugly Duckling is doing just that! \nOn the last Sunday of every month\, from 10am to 12pm\, they host special SEND pottery painting sessions\, providing a calmer and quieter environment that everyone can enjoy\, supported by their specially trained staff who have experience working in SEND. \nTo book in or learn more\, give the team a call on 01635 523778
URL:https://visitnewbury.org.uk/event/send-painting-sessions/2025-08-31/
LOCATION:The Ugly Duckling\, RG14 5LL
CATEGORIES:SEND Sessions
ATTACH;FMTTYPE=image/jpeg:https://visitnewbury.org.uk/wp-content/uploads/2025/06/Ugly-Duckling-SEND-sessions.jpg
END:VEVENT
BEGIN:VEVENT
DTSTART;TZID=Europe/London:20250727T100000
DTEND;TZID=Europe/London:20250727T120000
DTSTAMP:20260420T182709
CREATED:20250613T105502Z
LAST-MODIFIED:20250613T105502Z
UID:12002083-1753610400-1753617600@visitnewbury.org.uk
SUMMARY:SEND painting sessions
DESCRIPTION:Creating inclusive opportunities for everyone in our community is something we love to see\, and The Ugly Duckling is doing just that! \nOn the last Sunday of every month\, from 10am to 12pm\, they host special SEND pottery painting sessions\, providing a calmer and quieter environment that everyone can enjoy\, supported by their specially trained staff who have experience working in SEND. \nTo book in or learn more\, give the team a call on 01635 523778
URL:https://visitnewbury.org.uk/event/send-painting-sessions/2025-07-27/
LOCATION:The Ugly Duckling\, RG14 5LL
CATEGORIES:SEND Sessions
ATTACH;FMTTYPE=image/jpeg:https://visitnewbury.org.uk/wp-content/uploads/2025/06/Ugly-Duckling-SEND-sessions.jpg
END:VEVENT
BEGIN:VEVENT
DTSTART;TZID=Europe/London:20250629T100000
DTEND;TZID=Europe/London:20250629T120000
DTSTAMP:20260420T182709
CREATED:20250613T105502Z
LAST-MODIFIED:20250613T105502Z
UID:12002082-1751191200-1751198400@visitnewbury.org.uk
SUMMARY:SEND painting sessions
DESCRIPTION:Creating inclusive opportunities for everyone in our community is something we love to see\, and The Ugly Duckling is doing just that! \nOn the last Sunday of every month\, from 10am to 12pm\, they host special SEND pottery painting sessions\, providing a calmer and quieter environment that everyone can enjoy\, supported by their specially trained staff who have experience working in SEND. \nTo book in or learn more\, give the team a call on 01635 523778
URL:https://visitnewbury.org.uk/event/send-painting-sessions/2025-06-29/
LOCATION:The Ugly Duckling\, RG14 5LL
CATEGORIES:SEND Sessions
ATTACH;FMTTYPE=image/jpeg:https://visitnewbury.org.uk/wp-content/uploads/2025/06/Ugly-Duckling-SEND-sessions.jpg
END:VEVENT
END:VCALENDAR