BEGIN:VCALENDAR
VERSION:2.0
PRODID:-//Visit Newbury - ECPv6.13.2.1//NONSGML v1.0//EN
CALSCALE:GREGORIAN
METHOD:PUBLISH
X-ORIGINAL-URL:https://visitnewbury.org.uk
X-WR-CALDESC:Events for Visit Newbury
REFRESH-INTERVAL;VALUE=DURATION:PT1H
X-Robots-Tag:noindex
X-PUBLISHED-TTL:PT1H
BEGIN:VTIMEZONE
TZID:Europe/London
BEGIN:DAYLIGHT
TZOFFSETFROM:+0000
TZOFFSETTO:+0100
TZNAME:BST
DTSTART:20250330T010000
END:DAYLIGHT
BEGIN:STANDARD
TZOFFSETFROM:+0100
TZOFFSETTO:+0000
TZNAME:GMT
DTSTART:20251026T010000
END:STANDARD
END:VTIMEZONE
BEGIN:VEVENT
DTSTART;TZID=Europe/London:20251206T100000
DTEND;TZID=Europe/London:20251206T113000
DTSTAMP:20260421T175133
CREATED:20251128T110630Z
LAST-MODIFIED:20251128T111727Z
UID:12003075-1765015200-1765020600@visitnewbury.org.uk
SUMMARY:Christmas Charity Coffee Morning
DESCRIPTION:The Mayor and Mayoress of Newbury will be making a special appearance at our Daisy’s Dream Christmas Coffee Morning – a wonderfully festive morning on Saturday 6th December\, 10am-11.30am at St Nic’s Hall in Newbury opposite the church. \nEnjoy a hot drink – tea\, coffee\, or hot chocolate – and a slice of delicious cake while listening to beautiful carols and Christmas songs performed by the fantastic local choir Incantata.
URL:https://visitnewbury.org.uk/event/christmas-charity-coffee-morning/
LOCATION:St Nicolas Church Hall\, St Nicolas Church Hall\, RG14 5HG
CATEGORIES:Coffee Mornings and Cake Sales,Community Events,Fundraising,Music,Seasonal Events
ATTACH;FMTTYPE=image/jpeg:https://visitnewbury.org.uk/wp-content/uploads/2025/11/Christmas-Charity-Morning-Daisys-Dream.jpg
END:VEVENT
BEGIN:VEVENT
DTSTART;TZID=Europe/London:20251018T100000
DTEND;TZID=Europe/London:20251018T150000
DTSTAMP:20260421T175133
CREATED:20251014T111203Z
LAST-MODIFIED:20251014T111245Z
UID:12003038-1760781600-1760799600@visitnewbury.org.uk
SUMMARY:De-Stash Market
DESCRIPTION:The De-Stash Market is a great opportunity to buy crafting supplies from fellow crafters as they sell some of their pre-loved items. If you’ve been curious about getting into crafts\, you can pick up some wonderful kits without breaking the bank! \nSome stalls may not be able to take card payment so don’t forget to bring along some cash – as it’s cash only too for tea\, coffe and cakes!
URL:https://visitnewbury.org.uk/event/de-stash-market-october/
LOCATION:St Nicolas Church Hall\, St Nicolas Church Hall\, RG14 5HG
CATEGORIES:Arts & Crafts,Craft Fair
ATTACH;FMTTYPE=image/jpeg:https://visitnewbury.org.uk/wp-content/uploads/2025/10/De-Stash-Market.jpg
END:VEVENT
BEGIN:VEVENT
DTSTART;TZID=Europe/London:20251011T100000
DTEND;TZID=Europe/London:20251011T161500
DTSTAMP:20260421T175133
CREATED:20250918T085019Z
LAST-MODIFIED:20250918T085019Z
UID:12002312-1760176800-1760199300@visitnewbury.org.uk
SUMMARY:Berkshire Archaeological Society Day School
DESCRIPTION:This annual Day School brings together professional archaeologists\, archaeological societies and those interested in archaeology in Berkshire and surrounding counties to hear reports about the latest projects. \nAnyone is welcome to attend\, and tickets are £15. \nYou can see the day’s full schedule and book your tickets online via the link below – or you can pay on the door.
URL:https://visitnewbury.org.uk/event/berkshire-archaeological-society-day-school/
LOCATION:St Nicolas Church Hall\, St Nicolas Church Hall\, RG14 5HG
CATEGORIES:History
ATTACH;FMTTYPE=image/jpeg:https://visitnewbury.org.uk/wp-content/uploads/2025/09/Berkshire-Archeological-Society.jpeg
END:VEVENT
END:VCALENDAR