BEGIN:VCALENDAR
VERSION:2.0
PRODID:-//Visit Newbury - ECPv6.13.2.1//NONSGML v1.0//EN
CALSCALE:GREGORIAN
METHOD:PUBLISH
X-ORIGINAL-URL:https://visitnewbury.org.uk
X-WR-CALDESC:Events for Visit Newbury
REFRESH-INTERVAL;VALUE=DURATION:PT1H
X-Robots-Tag:noindex
X-PUBLISHED-TTL:PT1H
BEGIN:VTIMEZONE
TZID:Europe/London
BEGIN:DAYLIGHT
TZOFFSETFROM:+0000
TZOFFSETTO:+0100
TZNAME:BST
DTSTART:20250330T010000
END:DAYLIGHT
BEGIN:STANDARD
TZOFFSETFROM:+0100
TZOFFSETTO:+0000
TZNAME:GMT
DTSTART:20251026T010000
END:STANDARD
BEGIN:DAYLIGHT
TZOFFSETFROM:+0000
TZOFFSETTO:+0100
TZNAME:BST
DTSTART:20260329T010000
END:DAYLIGHT
BEGIN:STANDARD
TZOFFSETFROM:+0100
TZOFFSETTO:+0000
TZNAME:GMT
DTSTART:20261025T010000
END:STANDARD
END:VTIMEZONE
BEGIN:VEVENT
DTSTART;TZID=Europe/London:20251231T210000
DTEND;TZID=Europe/London:20260101T023000
DTSTAMP:20260425T161931
CREATED:20251222T122648Z
LAST-MODIFIED:20251223T154623Z
UID:12003082-1767214800-1767234600@visitnewbury.org.uk
SUMMARY:Reloaded Presents: New Year’s Eve!
DESCRIPTION:Reloaded Presents: NYE – Newbury’s biggest New Year’s Eve celebration. Step into a world of unforgettable moments this New Year’s Eve 2025 as Reloaded Bar brings you the most spectacular NYE Party in Newbury! \nExpect Live DJs and a midnight countdown like no other\, and a night packed with the best vibes and celebration as you count down to midnight in true Reloaded style! \nExpect tickets to sell fast – secure yours via the link below before they’re gone!
URL:https://visitnewbury.org.uk/event/reloaded-presents-new-years-eve/
LOCATION:Reloaded Bar\, Reloaded Bar\, RG14 5AN
CATEGORIES:New Year's Eve,Pub & Restaurant Events
ATTACH;FMTTYPE=image/jpeg:https://visitnewbury.org.uk/wp-content/uploads/2025/12/Reloaded-NYE-2025.jpg
END:VEVENT
BEGIN:VEVENT
DTSTART;TZID=Europe/London:20251217T190000
DTEND;TZID=Europe/London:20251217T190000
DTSTAMP:20260425T161931
CREATED:20251006T112758Z
LAST-MODIFIED:20251006T112758Z
UID:12002438-1765998000-1765998000@visitnewbury.org.uk
SUMMARY:Open Mic with Zoe Badmam
DESCRIPTION:Zoe Badman presents Open Mic at Reloaded! Enjoy the amazing local talent of Newbury – or bring your instrument and jump on stage yourself. \nStarts 7pm\, with Happy Hour drinks at the bar. Don’t miss a night of great music\, good vibes\, and cold drinks!
URL:https://visitnewbury.org.uk/event/open-mic-with-zoe-badmam/2025-12-17/
LOCATION:Reloaded Bar\, Reloaded Bar\, RG14 5AN
CATEGORIES:Open Mic,Pub & Restaurant Events
ATTACH;FMTTYPE=image/jpeg:https://visitnewbury.org.uk/wp-content/uploads/2025/10/Reloaded-Open-Mic.jpg
END:VEVENT
BEGIN:VEVENT
DTSTART;TZID=Europe/London:20251210T190000
DTEND;TZID=Europe/London:20251210T190000
DTSTAMP:20260425T161931
CREATED:20251006T112758Z
LAST-MODIFIED:20251006T112758Z
UID:12002437-1765393200-1765393200@visitnewbury.org.uk
SUMMARY:Open Mic with Zoe Badmam
DESCRIPTION:Zoe Badman presents Open Mic at Reloaded! Enjoy the amazing local talent of Newbury – or bring your instrument and jump on stage yourself. \nStarts 7pm\, with Happy Hour drinks at the bar. Don’t miss a night of great music\, good vibes\, and cold drinks!
URL:https://visitnewbury.org.uk/event/open-mic-with-zoe-badmam/2025-12-10/
LOCATION:Reloaded Bar\, Reloaded Bar\, RG14 5AN
CATEGORIES:Open Mic,Pub & Restaurant Events
ATTACH;FMTTYPE=image/jpeg:https://visitnewbury.org.uk/wp-content/uploads/2025/10/Reloaded-Open-Mic.jpg
END:VEVENT
BEGIN:VEVENT
DTSTART;TZID=Europe/London:20251203T190000
DTEND;TZID=Europe/London:20251203T190000
DTSTAMP:20260425T161931
CREATED:20251006T112758Z
LAST-MODIFIED:20251006T112758Z
UID:12002436-1764788400-1764788400@visitnewbury.org.uk
SUMMARY:Open Mic with Zoe Badmam
DESCRIPTION:Zoe Badman presents Open Mic at Reloaded! Enjoy the amazing local talent of Newbury – or bring your instrument and jump on stage yourself. \nStarts 7pm\, with Happy Hour drinks at the bar. Don’t miss a night of great music\, good vibes\, and cold drinks!
URL:https://visitnewbury.org.uk/event/open-mic-with-zoe-badmam/2025-12-03/
LOCATION:Reloaded Bar\, Reloaded Bar\, RG14 5AN
CATEGORIES:Open Mic,Pub & Restaurant Events
ATTACH;FMTTYPE=image/jpeg:https://visitnewbury.org.uk/wp-content/uploads/2025/10/Reloaded-Open-Mic.jpg
END:VEVENT
BEGIN:VEVENT
DTSTART;TZID=Europe/London:20251126T190000
DTEND;TZID=Europe/London:20251126T190000
DTSTAMP:20260425T161931
CREATED:20251006T112758Z
LAST-MODIFIED:20251006T112758Z
UID:12002435-1764183600-1764183600@visitnewbury.org.uk
SUMMARY:Open Mic with Zoe Badmam
DESCRIPTION:Zoe Badman presents Open Mic at Reloaded! Enjoy the amazing local talent of Newbury – or bring your instrument and jump on stage yourself. \nStarts 7pm\, with Happy Hour drinks at the bar. Don’t miss a night of great music\, good vibes\, and cold drinks!
URL:https://visitnewbury.org.uk/event/open-mic-with-zoe-badmam/2025-11-26/
LOCATION:Reloaded Bar\, Reloaded Bar\, RG14 5AN
CATEGORIES:Open Mic,Pub & Restaurant Events
ATTACH;FMTTYPE=image/jpeg:https://visitnewbury.org.uk/wp-content/uploads/2025/10/Reloaded-Open-Mic.jpg
END:VEVENT
BEGIN:VEVENT
DTSTART;TZID=Europe/London:20251119T190000
DTEND;TZID=Europe/London:20251119T190000
DTSTAMP:20260425T161931
CREATED:20251006T112758Z
LAST-MODIFIED:20251006T112758Z
UID:12002434-1763578800-1763578800@visitnewbury.org.uk
SUMMARY:Open Mic with Zoe Badmam
DESCRIPTION:Zoe Badman presents Open Mic at Reloaded! Enjoy the amazing local talent of Newbury – or bring your instrument and jump on stage yourself. \nStarts 7pm\, with Happy Hour drinks at the bar. Don’t miss a night of great music\, good vibes\, and cold drinks!
URL:https://visitnewbury.org.uk/event/open-mic-with-zoe-badmam/2025-11-19/
LOCATION:Reloaded Bar\, Reloaded Bar\, RG14 5AN
CATEGORIES:Open Mic,Pub & Restaurant Events
ATTACH;FMTTYPE=image/jpeg:https://visitnewbury.org.uk/wp-content/uploads/2025/10/Reloaded-Open-Mic.jpg
END:VEVENT
BEGIN:VEVENT
DTSTART;TZID=Europe/London:20251112T190000
DTEND;TZID=Europe/London:20251112T190000
DTSTAMP:20260425T161931
CREATED:20251006T112758Z
LAST-MODIFIED:20251006T112758Z
UID:12002433-1762974000-1762974000@visitnewbury.org.uk
SUMMARY:Open Mic with Zoe Badmam
DESCRIPTION:Zoe Badman presents Open Mic at Reloaded! Enjoy the amazing local talent of Newbury – or bring your instrument and jump on stage yourself. \nStarts 7pm\, with Happy Hour drinks at the bar. Don’t miss a night of great music\, good vibes\, and cold drinks!
URL:https://visitnewbury.org.uk/event/open-mic-with-zoe-badmam/2025-11-12/
LOCATION:Reloaded Bar\, Reloaded Bar\, RG14 5AN
CATEGORIES:Open Mic,Pub & Restaurant Events
ATTACH;FMTTYPE=image/jpeg:https://visitnewbury.org.uk/wp-content/uploads/2025/10/Reloaded-Open-Mic.jpg
END:VEVENT
BEGIN:VEVENT
DTSTART;TZID=Europe/London:20251105T190000
DTEND;TZID=Europe/London:20251105T190000
DTSTAMP:20260425T161931
CREATED:20251006T112758Z
LAST-MODIFIED:20251006T112758Z
UID:12002432-1762369200-1762369200@visitnewbury.org.uk
SUMMARY:Open Mic with Zoe Badmam
DESCRIPTION:Zoe Badman presents Open Mic at Reloaded! Enjoy the amazing local talent of Newbury – or bring your instrument and jump on stage yourself. \nStarts 7pm\, with Happy Hour drinks at the bar. Don’t miss a night of great music\, good vibes\, and cold drinks!
URL:https://visitnewbury.org.uk/event/open-mic-with-zoe-badmam/2025-11-05/
LOCATION:Reloaded Bar\, Reloaded Bar\, RG14 5AN
CATEGORIES:Open Mic,Pub & Restaurant Events
ATTACH;FMTTYPE=image/jpeg:https://visitnewbury.org.uk/wp-content/uploads/2025/10/Reloaded-Open-Mic.jpg
END:VEVENT
BEGIN:VEVENT
DTSTART;TZID=Europe/London:20251101T190000
DTEND;TZID=Europe/London:20251102T020000
DTSTAMP:20260425T161931
CREATED:20251006T151619Z
LAST-MODIFIED:20251006T151638Z
UID:12002507-1762023600-1762048800@visitnewbury.org.uk
SUMMARY:Nightmare on Wharf Street
DESCRIPTION:This Halloween\, Reloaded Bar is bringing you Newbury’s BIGGEST Halloween Weekender Party. \nThere will be live scare actors lurking in the shadows\, and Spooky Happy Hour deals to keep your spirits high all night. A fully immersive Halloween atmosphere like no other! \nThis event is 18+\, and make sure you secure a ticket via the link below as we expect these will sell out fast! \nEvent dates: \n\nFriday 31st October – 7pm-2am\nSaturday 1st November – 7pm-2am
URL:https://visitnewbury.org.uk/event/nightmare-on-wharf-street/2025-11-01/
LOCATION:Reloaded Bar\, Reloaded Bar\, RG14 5AN
CATEGORIES:Halloween,Pub & Restaurant Events
ATTACH;FMTTYPE=image/jpeg:https://visitnewbury.org.uk/wp-content/uploads/2025/10/Nightmare-on-Wharf-Street-Reloaded.jpg
END:VEVENT
BEGIN:VEVENT
DTSTART;TZID=Europe/London:20251031T190000
DTEND;TZID=Europe/London:20251101T020000
DTSTAMP:20260425T161931
CREATED:20251006T151619Z
LAST-MODIFIED:20251006T151638Z
UID:12002506-1761937200-1761962400@visitnewbury.org.uk
SUMMARY:Nightmare on Wharf Street
DESCRIPTION:This Halloween\, Reloaded Bar is bringing you Newbury’s BIGGEST Halloween Weekender Party. \nThere will be live scare actors lurking in the shadows\, and Spooky Happy Hour deals to keep your spirits high all night. A fully immersive Halloween atmosphere like no other! \nThis event is 18+\, and make sure you secure a ticket via the link below as we expect these will sell out fast! \nEvent dates: \n\nFriday 31st October – 7pm-2am\nSaturday 1st November – 7pm-2am
URL:https://visitnewbury.org.uk/event/nightmare-on-wharf-street/2025-10-31/
LOCATION:Reloaded Bar\, Reloaded Bar\, RG14 5AN
CATEGORIES:Halloween,Pub & Restaurant Events
ATTACH;FMTTYPE=image/jpeg:https://visitnewbury.org.uk/wp-content/uploads/2025/10/Nightmare-on-Wharf-Street-Reloaded.jpg
END:VEVENT
BEGIN:VEVENT
DTSTART;TZID=Europe/London:20251029T190000
DTEND;TZID=Europe/London:20251029T190000
DTSTAMP:20260425T161931
CREATED:20251006T112758Z
LAST-MODIFIED:20251006T112758Z
UID:12002431-1761764400-1761764400@visitnewbury.org.uk
SUMMARY:Open Mic with Zoe Badmam
DESCRIPTION:Zoe Badman presents Open Mic at Reloaded! Enjoy the amazing local talent of Newbury – or bring your instrument and jump on stage yourself. \nStarts 7pm\, with Happy Hour drinks at the bar. Don’t miss a night of great music\, good vibes\, and cold drinks!
URL:https://visitnewbury.org.uk/event/open-mic-with-zoe-badmam/2025-10-29/
LOCATION:Reloaded Bar\, Reloaded Bar\, RG14 5AN
CATEGORIES:Open Mic,Pub & Restaurant Events
ATTACH;FMTTYPE=image/jpeg:https://visitnewbury.org.uk/wp-content/uploads/2025/10/Reloaded-Open-Mic.jpg
END:VEVENT
BEGIN:VEVENT
DTSTART;TZID=Europe/London:20251022T190000
DTEND;TZID=Europe/London:20251022T190000
DTSTAMP:20260425T161931
CREATED:20251006T112758Z
LAST-MODIFIED:20251006T112758Z
UID:12002430-1761159600-1761159600@visitnewbury.org.uk
SUMMARY:Open Mic with Zoe Badmam
DESCRIPTION:Zoe Badman presents Open Mic at Reloaded! Enjoy the amazing local talent of Newbury – or bring your instrument and jump on stage yourself. \nStarts 7pm\, with Happy Hour drinks at the bar. Don’t miss a night of great music\, good vibes\, and cold drinks!
URL:https://visitnewbury.org.uk/event/open-mic-with-zoe-badmam/2025-10-22/
LOCATION:Reloaded Bar\, Reloaded Bar\, RG14 5AN
CATEGORIES:Open Mic,Pub & Restaurant Events
ATTACH;FMTTYPE=image/jpeg:https://visitnewbury.org.uk/wp-content/uploads/2025/10/Reloaded-Open-Mic.jpg
END:VEVENT
BEGIN:VEVENT
DTSTART;TZID=Europe/London:20251015T190000
DTEND;TZID=Europe/London:20251015T190000
DTSTAMP:20260425T161931
CREATED:20251006T112758Z
LAST-MODIFIED:20251006T112758Z
UID:12002429-1760554800-1760554800@visitnewbury.org.uk
SUMMARY:Open Mic with Zoe Badmam
DESCRIPTION:Zoe Badman presents Open Mic at Reloaded! Enjoy the amazing local talent of Newbury – or bring your instrument and jump on stage yourself. \nStarts 7pm\, with Happy Hour drinks at the bar. Don’t miss a night of great music\, good vibes\, and cold drinks!
URL:https://visitnewbury.org.uk/event/open-mic-with-zoe-badmam/2025-10-15/
LOCATION:Reloaded Bar\, Reloaded Bar\, RG14 5AN
CATEGORIES:Open Mic,Pub & Restaurant Events
ATTACH;FMTTYPE=image/jpeg:https://visitnewbury.org.uk/wp-content/uploads/2025/10/Reloaded-Open-Mic.jpg
END:VEVENT
BEGIN:VEVENT
DTSTART;TZID=Europe/London:20251008T190000
DTEND;TZID=Europe/London:20251008T190000
DTSTAMP:20260425T161931
CREATED:20251006T112758Z
LAST-MODIFIED:20251006T112758Z
UID:12002428-1759950000-1759950000@visitnewbury.org.uk
SUMMARY:Open Mic with Zoe Badmam
DESCRIPTION:Zoe Badman presents Open Mic at Reloaded! Enjoy the amazing local talent of Newbury – or bring your instrument and jump on stage yourself. \nStarts 7pm\, with Happy Hour drinks at the bar. Don’t miss a night of great music\, good vibes\, and cold drinks!
URL:https://visitnewbury.org.uk/event/open-mic-with-zoe-badmam/2025-10-08/
LOCATION:Reloaded Bar\, Reloaded Bar\, RG14 5AN
CATEGORIES:Open Mic,Pub & Restaurant Events
ATTACH;FMTTYPE=image/jpeg:https://visitnewbury.org.uk/wp-content/uploads/2025/10/Reloaded-Open-Mic.jpg
END:VEVENT
BEGIN:VEVENT
DTSTART;TZID=Europe/London:20250814T190000
DTEND;TZID=Europe/London:20250815T020000
DTSTAMP:20260425T161931
CREATED:20250812T151113Z
LAST-MODIFIED:20250812T151113Z
UID:12002185-1755198000-1755223200@visitnewbury.org.uk
SUMMARY:A-Level Results Party
DESCRIPTION:Celebrate a busy end to sixth form and (hopefully) some fantastic results at the end of results day at Reloaded Bar! \n18+ only\, £5 drinks and a free shot with your ticket. \nThere will be Happy Hour deals all night and DJ 2Play will be bringing the party vibes well into the early hours. \nGrab your free ticket via the link below – or team up with your friends and treat yourselves to a VIP booth!
URL:https://visitnewbury.org.uk/event/a-level-results-party/
LOCATION:Reloaded Bar\, Reloaded Bar\, RG14 5AN
CATEGORIES:Music,Pub & Restaurant Events
ATTACH;FMTTYPE=image/jpeg:https://visitnewbury.org.uk/wp-content/uploads/2025/08/Reloaded-A-Level-Results-Party.jpg
END:VEVENT
END:VCALENDAR