BEGIN:VCALENDAR
VERSION:2.0
PRODID:-//Visit Newbury - ECPv6.13.2.1//NONSGML v1.0//EN
CALSCALE:GREGORIAN
METHOD:PUBLISH
X-WR-CALNAME:Visit Newbury
X-ORIGINAL-URL:https://visitnewbury.org.uk
X-WR-CALDESC:Events for Visit Newbury
REFRESH-INTERVAL;VALUE=DURATION:PT1H
X-Robots-Tag:noindex
X-PUBLISHED-TTL:PT1H
BEGIN:VTIMEZONE
TZID:Europe/London
BEGIN:DAYLIGHT
TZOFFSETFROM:+0000
TZOFFSETTO:+0100
TZNAME:BST
DTSTART:20250330T010000
END:DAYLIGHT
BEGIN:STANDARD
TZOFFSETFROM:+0100
TZOFFSETTO:+0000
TZNAME:GMT
DTSTART:20251026T010000
END:STANDARD
END:VTIMEZONE
BEGIN:VEVENT
DTSTART;TZID=Europe/London:20251014T160000
DTEND;TZID=Europe/London:20251014T180000
DTSTAMP:20260425T185235
CREATED:20251007T135413Z
LAST-MODIFIED:20251007T135413Z
UID:12002995-1760457600-1760464800@visitnewbury.org.uk
SUMMARY:101 Open Day
DESCRIPTION:101 is a major centre for the development of outdoor arts and work for public spaces – a unique creation space on Greenham Business Park in Newbury that offers rehearsal and making space to artists from across the world every week of the year. \nIt is responsible for the spectacular outdoor programme in Newbury\, which over the last 10 years has transformed our town centre with fire\, giant puppets\, deft defying circus\, dance and more. \nIt also offers training\, internships\, workshops and volunteering opportunities for people of all ages and abilities in West Berkshire. \nOn Tuesday 14th October\, you can book in to visit the site’s open day between 4pm and 6pm\, where you can have a look around the facilities\, explore giant puppet mechanisms\, try some circus skills\, discover what happens at 101 and find out about opportunities to get involved.
URL:https://visitnewbury.org.uk/event/101-open-day/
LOCATION:101 Outdoor Arts\, 101 Outdoor Arts Creation Space\, RG19 6HN
CATEGORIES:Arts & Culture,Open Days
ATTACH;FMTTYPE=image/jpeg:https://visitnewbury.org.uk/wp-content/uploads/2025/10/101-Outdoor-Arts-Open-Day.jpg
END:VEVENT
BEGIN:VEVENT
DTSTART;TZID=Europe/London:20250303T190000
DTEND;TZID=Europe/London:20250303T200000
DTSTAMP:20260425T185235
CREATED:20250218T234216Z
LAST-MODIFIED:20250218T234232Z
UID:11000323-1741028400-1741032000@visitnewbury.org.uk
SUMMARY:Talk: Be More Giant
DESCRIPTION:How can we reclaim our landscapes collectively through art\, community rituals\, and play? \nJoin 101 Outdoor Arts for Be More Giant\, a collaborative panel discussion of how we can reclaim and celebrate our landscapes through collective art experiences\, rooted in community rituals and inspired by ancient traditions. \nThis talk delves into how art\, play\, and myth-making invites us to forge deeper connections with the land and one another. \nHead to the link below to learn more\, meet the panel\, and book your tickets. \nStart Time 7pm  / Full Price £12  /  Concessions £10 (including booking fees)
URL:https://visitnewbury.org.uk/event/talk-be-more-giant/
LOCATION:101 Outdoor Arts\, 101 Outdoor Arts Creation Space\, RG19 6HN
CATEGORIES:Arts & Culture,Community Events
ATTACH;FMTTYPE=image/jpeg:https://visitnewbury.org.uk/wp-content/uploads/2025/02/Be-More-Giant-scaled-e1739922066618.jpg
END:VEVENT
END:VCALENDAR