BEGIN:VCALENDAR
VERSION:2.0
PRODID:-//Visit Newbury - ECPv6.13.2.1//NONSGML v1.0//EN
CALSCALE:GREGORIAN
METHOD:PUBLISH
X-ORIGINAL-URL:https://visitnewbury.org.uk
X-WR-CALDESC:Events for Visit Newbury
REFRESH-INTERVAL;VALUE=DURATION:PT1H
X-Robots-Tag:noindex
X-PUBLISHED-TTL:PT1H
BEGIN:VTIMEZONE
TZID:Europe/London
BEGIN:DAYLIGHT
TZOFFSETFROM:+0000
TZOFFSETTO:+0100
TZNAME:BST
DTSTART:20250330T010000
END:DAYLIGHT
BEGIN:STANDARD
TZOFFSETFROM:+0100
TZOFFSETTO:+0000
TZNAME:GMT
DTSTART:20251026T010000
END:STANDARD
END:VTIMEZONE
BEGIN:VEVENT
DTSTART;TZID=Europe/London:20250703T170000
DTEND;TZID=Europe/London:20250703T223000
DTSTAMP:20260423T105209
CREATED:20250620T113033Z
LAST-MODIFIED:20250623T105527Z
UID:12002120-1751562000-1751581800@visitnewbury.org.uk
SUMMARY:Late Night Shopping and Dining
DESCRIPTION:Make the most of the summer evenings as shops across Newbury town centre stay open until 7pm for these two special late-night shopping events. \nIt’s the perfect chance to pop in after work\, pick up a few essentials\, or enjoy a relaxed browse – whether you’re treating yourself or shopping for someone else! \nWhy not pair your visit with a meal out? With a fantastic mix of independent eateries and well-loved high street names\, Newbury’s hospitality scene is the ideal way to round off your evening. \nAnd best of all? There will be FREE parking at the Camp Hopson car park from 5pm. \nSupport local\, shop until 7… and dine until late! \nYou can find the full list of retailers staying open at the link below.
URL:https://visitnewbury.org.uk/event/late-night-shopping-and-dining-july/
LOCATION:Newbury Town Centre\, Newbury Town Centre\, RG15 5AA
CATEGORIES:Food & Drink,Pub & Restaurant Events,Shopping
ATTACH;FMTTYPE=image/jpeg:https://visitnewbury.org.uk/wp-content/uploads/2025/06/latenight_eventajul.jpg
END:VEVENT
BEGIN:VEVENT
DTSTART;TZID=Europe/London:20250323T100000
DTEND;TZID=Europe/London:20250323T160000
DTSTAMP:20260423T105209
CREATED:20250225T170723Z
LAST-MODIFIED:20250225T171253Z
UID:11000643-1742724000-1742745600@visitnewbury.org.uk
SUMMARY:Newbury Antique & Vintage Market
DESCRIPTION:** New for 2025 ** \nNewbury BID are delighted to be partnering with ACVR Events to bring a brand new market to Newbury town centre this year! \nThe market will consist of a huge array of interesting and affordable items including furniture both mid century and traditional\, vintage textiles and accessories\, glassware\, prints and posters\, medals and postcards\, kitchenalia\, gardenalia\, decorative items for your home\, quirky industrial finds and a whole lot more! The market welcomes new traders and enthusiasts to join us as well as people with upcycled and repurposed ideas to stop items going into landfill. \nWe can’t wait!
URL:https://visitnewbury.org.uk/event/newbury-antique-vintage-market-march/
LOCATION:Northbrook Street\, Northbrook Street\, RG14 1AE
CATEGORIES:Markets
ATTACH;FMTTYPE=image/jpeg:https://visitnewbury.org.uk/wp-content/uploads/2025/02/Newbury-Antique-Vintage-Street-Market.jpg
END:VEVENT
BEGIN:VEVENT
DTSTART;TZID=Europe/London:20250320T100000
DTEND;TZID=Europe/London:20250320T120000
DTSTAMP:20260423T105209
CREATED:20250311T143732Z
LAST-MODIFIED:20250311T143732Z
UID:11001611-1742464800-1742472000@visitnewbury.org.uk
SUMMARY:Community Cleanup
DESCRIPTION:It’s the first Community Clean up of the year\, a chance for us all to give back to our charming market town! \nJoin the Newbury BID team and other volunteers as we look to tidy up some areas around Newbury town centre – all kit will be provided (thanks to West Berkshire Council for lending us some additional equipment!). \nLet us know if you would like to join by emailing info@newburybid.com\, and we’ll email with further details.
URL:https://visitnewbury.org.uk/event/community-cleanup-march/
LOCATION:Newbury Town Centre\, Newbury Town Centre\, RG15 5AA
CATEGORIES:Community Events
ATTACH;FMTTYPE=image/jpeg:https://visitnewbury.org.uk/wp-content/uploads/2025/03/Community-Clean-Up.jpg
END:VEVENT
END:VCALENDAR