BEGIN:VCALENDAR
VERSION:2.0
PRODID:-//Visit Newbury - ECPv6.13.2.1//NONSGML v1.0//EN
CALSCALE:GREGORIAN
METHOD:PUBLISH
X-WR-CALNAME:Visit Newbury
X-ORIGINAL-URL:https://visitnewbury.org.uk
X-WR-CALDESC:Events for Visit Newbury
REFRESH-INTERVAL;VALUE=DURATION:PT1H
X-Robots-Tag:noindex
X-PUBLISHED-TTL:PT1H
BEGIN:VTIMEZONE
TZID:Europe/London
BEGIN:DAYLIGHT
TZOFFSETFROM:+0000
TZOFFSETTO:+0100
TZNAME:BST
DTSTART:20250330T010000
END:DAYLIGHT
BEGIN:STANDARD
TZOFFSETFROM:+0100
TZOFFSETTO:+0000
TZNAME:GMT
DTSTART:20251026T010000
END:STANDARD
END:VTIMEZONE
BEGIN:VEVENT
DTSTART;TZID=Europe/London:20250807T180000
DTEND;TZID=Europe/London:20250807T190000
DTSTAMP:20260421T214448
CREATED:20250730T103635Z
LAST-MODIFIED:20250731T223247Z
UID:12002162-1754589600-1754593200@visitnewbury.org.uk
SUMMARY:Health Talks At Spriggs Chiropractic & Nutrition
DESCRIPTION:Do you or someone you know suffer from headaches or migraines? \nSpriggs Chiropractic & Nutrition is hosting this free health & wellbeing event\, where you can learn more about ways to manage them. \nAt this event\, their experienced healthcare professionals will discuss key topics that matter most to you — from managing chronic conditions and making healthier lifestyle choices\, to understanding preventive care and navigating treatment options. \nThere will also be a Q&A session\, so you can get your personal health questions answered in a supportive\, safe space. \nIt is free to attend\, but do make sure your book a slot. You can learn more or book via the link below. \nThis lovely event also ties in with our next Late Night Shopping evening\, so why not head into Newbury early to do a bit of evening shopping before the talk\, or maybe even plan ahead for a meal out after?
URL:https://visitnewbury.org.uk/event/health-talks-at-spriggs-chiropractic-nutrition/
LOCATION:Spriggs Chiropractic\, Spriggs Chiropractic & Nutrition Clinic\, RG14 1AX
CATEGORIES:Health & Wellbeing
ATTACH;FMTTYPE=image/png:https://visitnewbury.org.uk/wp-content/uploads/2025/07/Headaches-Health-Talk-Spriggs-Chiropractic.png
END:VEVENT
END:VCALENDAR