BEGIN:VCALENDAR
VERSION:2.0
PRODID:-//Visit Newbury - ECPv6.13.2.1//NONSGML v1.0//EN
CALSCALE:GREGORIAN
METHOD:PUBLISH
X-ORIGINAL-URL:https://visitnewbury.org.uk
X-WR-CALDESC:Events for Visit Newbury
REFRESH-INTERVAL;VALUE=DURATION:PT1H
X-Robots-Tag:noindex
X-PUBLISHED-TTL:PT1H
BEGIN:VTIMEZONE
TZID:Europe/London
BEGIN:DAYLIGHT
TZOFFSETFROM:+0000
TZOFFSETTO:+0100
TZNAME:BST
DTSTART:20250330T010000
END:DAYLIGHT
BEGIN:STANDARD
TZOFFSETFROM:+0100
TZOFFSETTO:+0000
TZNAME:GMT
DTSTART:20251026T010000
END:STANDARD
END:VTIMEZONE
BEGIN:VEVENT
DTSTART;TZID=Europe/London:20251123T110000
DTEND;TZID=Europe/London:20251123T130000
DTSTAMP:20260419T173045
CREATED:20251014T133518Z
LAST-MODIFIED:20251121T094817Z
UID:12003053-1763895600-1763902800@visitnewbury.org.uk
SUMMARY:Newbury Santa Fun Run
DESCRIPTION:Newbury Rotary Club is running (pardon the pun) its annual Santa Fun Run in support of local charities! \nThe Santa Fun Run offers both a 5km and 1km route\, where Santas will take to the course in their finest outfits\, each rasing money for their own charitable causes. \nIt’s free to head along and support the runners\, but pre-registration for runners is essential. Entry fee includes your very own adult or junior Santa suit! \nHead to the link below for information on how to register.
URL:https://visitnewbury.org.uk/event/newbury-santa-fun-run/
LOCATION:Market Place\, Newbury\, Market Place\, Newbury
CATEGORIES:Christmas,Fun Runs,Fundraising
ATTACH;FMTTYPE=image/jpeg:https://visitnewbury.org.uk/wp-content/uploads/2025/10/Santa-Fun-Run-2025.jpg
END:VEVENT
BEGIN:VEVENT
DTSTART;TZID=Europe/London:20250706T140000
DTEND;TZID=Europe/London:20250706T170000
DTSTAMP:20260419T173045
CREATED:20250515T085522Z
LAST-MODIFIED:20250604T135432Z
UID:12001992-1751810400-1751821200@visitnewbury.org.uk
SUMMARY:Mayor of Newbury Summer Variety Concert
DESCRIPTION:Rotary Club of Newbury and the Mayor of Newbury present the Summer Variety Concert\, celebrating and entertaining valued residents from the local area. \nTickets cost £6.25 and are availabile to purchase from the Corn Exchange Box Office by calling 01635 522733.
URL:https://visitnewbury.org.uk/event/mayor-of-newbury-summer-variety-concert/
LOCATION:Corn Exchange Newbury\, Corn Exchange\, Market Place\, RG14 5BD
CATEGORIES:Live Music
ATTACH;FMTTYPE=image/jpeg:https://visitnewbury.org.uk/wp-content/uploads/2025/05/Mayor-of-Newbury-Summer-Variety-Concert-a.jpg
END:VEVENT
END:VCALENDAR