BEGIN:VCALENDAR
VERSION:2.0
PRODID:-//Visit Newbury - ECPv6.13.2.1//NONSGML v1.0//EN
CALSCALE:GREGORIAN
METHOD:PUBLISH
X-ORIGINAL-URL:https://visitnewbury.org.uk
X-WR-CALDESC:Events for Visit Newbury
REFRESH-INTERVAL;VALUE=DURATION:PT1H
X-Robots-Tag:noindex
X-PUBLISHED-TTL:PT1H
BEGIN:VTIMEZONE
TZID:Europe/London
BEGIN:DAYLIGHT
TZOFFSETFROM:+0000
TZOFFSETTO:+0100
TZNAME:BST
DTSTART:20260329T010000
END:DAYLIGHT
BEGIN:STANDARD
TZOFFSETFROM:+0100
TZOFFSETTO:+0000
TZNAME:GMT
DTSTART:20261025T010000
END:STANDARD
END:VTIMEZONE
BEGIN:VEVENT
DTSTART;TZID=Europe/London:20260426T100000
DTEND;TZID=Europe/London:20260426T160000
DTSTAMP:20260421T102237
CREATED:20260309T153701Z
LAST-MODIFIED:20260413T102332Z
UID:12003598-1777197600-1777219200@visitnewbury.org.uk
SUMMARY:Newbury Artisan Market
DESCRIPTION:A modern makers market supporting emerging and established independent artisans\, producers\, crafters\, and makers! \n​Held across Newbury town centre on the last Sunday of the month\, come and enjoy the friendly atmosphere of the Artisan Market\, offering unique\, handmade goods from local artisans\, producers\, crafters\, and makers.​
URL:https://visitnewbury.org.uk/event/newbury-artisan-market-april2026/
LOCATION:Newbury Town Centre\, Newbury Town Centre\, RG15 5AA
CATEGORIES:Community Events,Markets
ATTACH;FMTTYPE=image/webp:https://visitnewbury.org.uk/wp-content/uploads/2026/03/Artisan-Market-April-2026.webp
END:VEVENT
BEGIN:VEVENT
DTSTART;TZID=Europe/London:20260531T100000
DTEND;TZID=Europe/London:20260531T160000
DTSTAMP:20260421T102237
CREATED:20260309T153849Z
LAST-MODIFIED:20260309T153849Z
UID:12003599-1780221600-1780243200@visitnewbury.org.uk
SUMMARY:Newbury Artisan Market
DESCRIPTION:A modern makers market supporting emerging and established independent artisans\, producers\, crafters\, and makers! \n​Held across Newbury town centre on the last Sunday of the month\, come and enjoy the friendly atmosphere of the Artisan Market\, offering unique\, handmade goods from local artisans\, producers\, crafters\, and makers.​
URL:https://visitnewbury.org.uk/event/newbury-artisan-market-may2026/
LOCATION:Newbury Town Centre\, Newbury Town Centre\, RG15 5AA
CATEGORIES:Community Events,Markets
ATTACH;FMTTYPE=image/jpeg:https://visitnewbury.org.uk/wp-content/uploads/2025/02/Renartgades-Artisan-Market.jpg
END:VEVENT
BEGIN:VEVENT
DTSTART;TZID=Europe/London:20260628T100000
DTEND;TZID=Europe/London:20260628T160000
DTSTAMP:20260421T102237
CREATED:20260309T153933Z
LAST-MODIFIED:20260309T153933Z
UID:12003600-1782640800-1782662400@visitnewbury.org.uk
SUMMARY:Newbury Artisan Market
DESCRIPTION:A modern makers market supporting emerging and established independent artisans\, producers\, crafters\, and makers! \n​Held across Newbury town centre on the last Sunday of the month\, come and enjoy the friendly atmosphere of the Artisan Market\, offering unique\, handmade goods from local artisans\, producers\, crafters\, and makers.​
URL:https://visitnewbury.org.uk/event/newbury-artisan-market-june2026/
LOCATION:Newbury Town Centre\, Newbury Town Centre\, RG15 5AA
CATEGORIES:Community Events,Markets
ATTACH;FMTTYPE=image/jpeg:https://visitnewbury.org.uk/wp-content/uploads/2025/02/Renartgades-Artisan-Market.jpg
END:VEVENT
BEGIN:VEVENT
DTSTART;TZID=Europe/London:20260726T100000
DTEND;TZID=Europe/London:20260726T160000
DTSTAMP:20260421T102237
CREATED:20260309T154019Z
LAST-MODIFIED:20260309T154019Z
UID:12003601-1785060000-1785081600@visitnewbury.org.uk
SUMMARY:Newbury Artisan Market
DESCRIPTION:A modern makers market supporting emerging and established independent artisans\, producers\, crafters\, and makers! \n​Held across Newbury town centre on the last Sunday of the month\, come and enjoy the friendly atmosphere of the Artisan Market\, offering unique\, handmade goods from local artisans\, producers\, crafters\, and makers.​
URL:https://visitnewbury.org.uk/event/newbury-artisan-market-july2026/
LOCATION:Newbury Town Centre\, Newbury Town Centre\, RG15 5AA
CATEGORIES:Community Events,Markets
ATTACH;FMTTYPE=image/jpeg:https://visitnewbury.org.uk/wp-content/uploads/2025/02/Renartgades-Artisan-Market.jpg
END:VEVENT
BEGIN:VEVENT
DTSTART;TZID=Europe/London:20260830T100000
DTEND;TZID=Europe/London:20260830T160000
DTSTAMP:20260421T102237
CREATED:20260309T154214Z
LAST-MODIFIED:20260309T154214Z
UID:12003602-1788084000-1788105600@visitnewbury.org.uk
SUMMARY:Newbury Artisan Market
DESCRIPTION:A modern makers market supporting emerging and established independent artisans\, producers\, crafters\, and makers! \n​Held across Newbury town centre on the last Sunday of the month\, come and enjoy the friendly atmosphere of the Artisan Market\, offering unique\, handmade goods from local artisans\, producers\, crafters\, and makers.​
URL:https://visitnewbury.org.uk/event/newbury-artisan-market-august2026/
LOCATION:Newbury Town Centre\, Newbury Town Centre\, RG15 5AA
CATEGORIES:Community Events,Markets
ATTACH;FMTTYPE=image/jpeg:https://visitnewbury.org.uk/wp-content/uploads/2025/02/Renartgades-Artisan-Market.jpg
END:VEVENT
BEGIN:VEVENT
DTSTART;TZID=Europe/London:20260927T100000
DTEND;TZID=Europe/London:20260927T160000
DTSTAMP:20260421T102237
CREATED:20260309T154613Z
LAST-MODIFIED:20260309T154613Z
UID:12003603-1790503200-1790524800@visitnewbury.org.uk
SUMMARY:Newbury Artisan Market
DESCRIPTION:A modern makers market supporting emerging and established independent artisans\, producers\, crafters\, and makers! \n​Held across Newbury town centre on the last Sunday of the month\, come and enjoy the friendly atmosphere of the Artisan Market\, offering unique\, handmade goods from local artisans\, producers\, crafters\, and makers.​
URL:https://visitnewbury.org.uk/event/newbury-artisan-market-september2026/
LOCATION:Newbury Town Centre\, Newbury Town Centre\, RG15 5AA
CATEGORIES:Community Events,Markets
ATTACH;FMTTYPE=image/jpeg:https://visitnewbury.org.uk/wp-content/uploads/2025/02/Renartgades-Artisan-Market.jpg
END:VEVENT
BEGIN:VEVENT
DTSTART;TZID=Europe/London:20261025T100000
DTEND;TZID=Europe/London:20261025T160000
DTSTAMP:20260421T102237
CREATED:20260309T154737Z
LAST-MODIFIED:20260309T154737Z
UID:12003604-1792922400-1792944000@visitnewbury.org.uk
SUMMARY:Newbury Artisan Market
DESCRIPTION:A modern makers market supporting emerging and established independent artisans\, producers\, crafters\, and makers! \n​Held across Newbury town centre on the last Sunday of the month\, come and enjoy the friendly atmosphere of the Artisan Market\, offering unique\, handmade goods from local artisans\, producers\, crafters\, and makers.​
URL:https://visitnewbury.org.uk/event/newbury-artisan-market-october2026/
LOCATION:Newbury Town Centre\, Newbury Town Centre\, RG15 5AA
CATEGORIES:Community Events,Markets
ATTACH;FMTTYPE=image/jpeg:https://visitnewbury.org.uk/wp-content/uploads/2025/02/Renartgades-Artisan-Market.jpg
END:VEVENT
BEGIN:VEVENT
DTSTART;TZID=Europe/London:20261129T100000
DTEND;TZID=Europe/London:20261129T160000
DTSTAMP:20260421T102237
CREATED:20260309T155541Z
LAST-MODIFIED:20260309T155541Z
UID:12003605-1795946400-1795968000@visitnewbury.org.uk
SUMMARY:Newbury Artisan Market
DESCRIPTION:A modern makers market supporting emerging and established independent artisans\, producers\, crafters\, and makers! \n​Held across Newbury town centre on the last Sunday of the month\, come and enjoy the friendly atmosphere of the Artisan Market\, offering unique\, handmade goods from local artisans\, producers\, crafters\, and makers.​
URL:https://visitnewbury.org.uk/event/newbury-artisan-market-november2026/
LOCATION:Newbury Town Centre\, Newbury Town Centre\, RG15 5AA
CATEGORIES:Community Events,Markets
ATTACH;FMTTYPE=image/jpeg:https://visitnewbury.org.uk/wp-content/uploads/2025/02/Renartgades-Artisan-Market.jpg
END:VEVENT
END:VCALENDAR