BEGIN:VCALENDAR
VERSION:2.0
PRODID:-//Visit Newbury - ECPv6.13.2.1//NONSGML v1.0//EN
CALSCALE:GREGORIAN
METHOD:PUBLISH
X-ORIGINAL-URL:https://visitnewbury.org.uk
X-WR-CALDESC:Events for Visit Newbury
REFRESH-INTERVAL;VALUE=DURATION:PT1H
X-Robots-Tag:noindex
X-PUBLISHED-TTL:PT1H
BEGIN:VTIMEZONE
TZID:Europe/London
BEGIN:DAYLIGHT
TZOFFSETFROM:+0000
TZOFFSETTO:+0100
TZNAME:BST
DTSTART:20250330T010000
END:DAYLIGHT
BEGIN:STANDARD
TZOFFSETFROM:+0100
TZOFFSETTO:+0000
TZNAME:GMT
DTSTART:20251026T010000
END:STANDARD
BEGIN:DAYLIGHT
TZOFFSETFROM:+0000
TZOFFSETTO:+0100
TZNAME:BST
DTSTART:20260329T010000
END:DAYLIGHT
BEGIN:STANDARD
TZOFFSETFROM:+0100
TZOFFSETTO:+0000
TZNAME:GMT
DTSTART:20261025T010000
END:STANDARD
END:VTIMEZONE
BEGIN:VEVENT
DTSTART;TZID=Europe/London:20260329T100000
DTEND;TZID=Europe/London:20260329T160000
DTSTAMP:20260421T115501
CREATED:20260106T105527Z
LAST-MODIFIED:20260324T093708Z
UID:12002201-1774778400-1774800000@visitnewbury.org.uk
SUMMARY:Newbury Artisan Market
DESCRIPTION:A modern makers market supporting emerging and established independent artisans\, producers\, crafters\, and makers! \n​Held across Newbury town centre on the last Sunday of the month\, come and enjoy the friendly atmosphere of the Artisan Market\, offering unique\, handmade goods from local artisans\, producers\, crafters\, and makers.​
URL:https://visitnewbury.org.uk/event/newbury-artisan-market-march2026/
LOCATION:Newbury Town Centre\, Newbury Town Centre\, RG15 5AA
CATEGORIES:Community Events,Markets
ATTACH;FMTTYPE=image/jpeg:https://visitnewbury.org.uk/wp-content/uploads/2026/01/Artisan-Market-March-2026.jpg
END:VEVENT
BEGIN:VEVENT
DTSTART;TZID=Europe/London:20260222T100000
DTEND;TZID=Europe/London:20260222T160000
DTSTAMP:20260421T115501
CREATED:20260106T105519Z
LAST-MODIFIED:20260210T134923Z
UID:12002200-1771754400-1771776000@visitnewbury.org.uk
SUMMARY:Newbury Artisan Market
DESCRIPTION:A modern makers market supporting emerging and established independent artisans\, producers\, crafters\, and makers! \n​Held across Newbury town centre on the last Sunday of the month\, come and enjoy the friendly atmosphere of the Artisan Market\, offering unique\, handmade goods from local artisans\, producers\, crafters\, and makers.​
URL:https://visitnewbury.org.uk/event/newbury-artisan-market-feb2026/
LOCATION:Newbury Town Centre\, Newbury Town Centre\, RG15 5AA
CATEGORIES:Community Events,Markets
ATTACH;FMTTYPE=image/webp:https://visitnewbury.org.uk/wp-content/uploads/2026/01/Artisan-Market-February-2026.webp
END:VEVENT
BEGIN:VEVENT
DTSTART;TZID=Europe/London:20260125T100000
DTEND;TZID=Europe/London:20260125T160000
DTSTAMP:20260421T115501
CREATED:20260106T105515Z
LAST-MODIFIED:20260109T145807Z
UID:12002199-1769335200-1769356800@visitnewbury.org.uk
SUMMARY:Newbury Artisan Market
DESCRIPTION:A modern makers market supporting emerging and established independent artisans\, producers\, crafters\, and makers! \n​Held across Newbury town centre on the last Sunday of the month\, come and enjoy the friendly atmosphere of the Artisan Market\, offering unique\, handmade goods from local artisans\, producers\, crafters\, and makers.​
URL:https://visitnewbury.org.uk/event/newbury-artisan-market-jan2026/
LOCATION:Newbury Town Centre\, Newbury Town Centre\, RG15 5AA
CATEGORIES:Community Events,Markets
ATTACH;FMTTYPE=image/webp:https://visitnewbury.org.uk/wp-content/uploads/2026/01/Artisan-Market-25th-January.webp
END:VEVENT
BEGIN:VEVENT
DTSTART;TZID=Europe/London:20251130T100000
DTEND;TZID=Europe/London:20251130T160000
DTSTAMP:20260421T115501
CREATED:20251125T095110Z
LAST-MODIFIED:20251125T095110Z
UID:12002198-1764496800-1764518400@visitnewbury.org.uk
SUMMARY:Newbury Artisan Market
DESCRIPTION:You won’t want to miss the last Artisan Market of 2025 – this one will have a nice festive twist! \nHunt out truly unique gifts before Christmas\, from a selection of unique\, handmade goods from local artisans\, producers\, crafters\, and makers.​
URL:https://visitnewbury.org.uk/event/newbury-artisan-market-3-2/
LOCATION:Newbury Town Centre\, Newbury Town Centre\, RG15 5AA
CATEGORIES:Christmas,Community Events,Markets
ATTACH;FMTTYPE=image/jpeg:https://visitnewbury.org.uk/wp-content/uploads/2025/08/Artisan-Market-30th-November.jpg
END:VEVENT
BEGIN:VEVENT
DTSTART;TZID=Europe/London:20251026T100000
DTEND;TZID=Europe/London:20251026T160000
DTSTAMP:20260421T115501
CREATED:20251006T144747Z
LAST-MODIFIED:20251006T144825Z
UID:12002505-1761472800-1761494400@visitnewbury.org.uk
SUMMARY:Newbury Artisan Market
DESCRIPTION:It’s spooky season\, so expect some fantastic Halloween-themed items at this month’s Artisan Market! \n​Held across Newbury town centre on the last Sunday of every month\, come along to enjoy and support both emerging and established independent artisans\, producers\, crafters\, and makers.
URL:https://visitnewbury.org.uk/event/newbury-artisan-market-october/
LOCATION:Newbury Town Centre\, Newbury Town Centre\, RG15 5AA
CATEGORIES:Community Events,Halloween,Markets,School Holidays & Half Term
ATTACH;FMTTYPE=image/jpeg:https://visitnewbury.org.uk/wp-content/uploads/2025/10/Artisan-Market-26th-October.jpg
END:VEVENT
BEGIN:VEVENT
DTSTART;TZID=Europe/London:20250928T100000
DTEND;TZID=Europe/London:20250928T160000
DTSTAMP:20260421T115501
CREATED:20250213T094309Z
LAST-MODIFIED:20250925T102220Z
UID:10001088-1759053600-1759075200@visitnewbury.org.uk
SUMMARY:Newbury Artisan Market
DESCRIPTION:A modern makers market supporting emerging and established independent artisans\, producers\, crafters\, and makers! \n​Held across Newbury town centre on the last Sunday of every month\, come and enjoy the friendly atmosphere of the Artisan Market\, offering unique\, handmade goods from local artisans\, producers\, crafters\, and makers.​
URL:https://visitnewbury.org.uk/event/newbury-artisan-market-september/
LOCATION:Newbury Town Centre\, Newbury Town Centre\, RG15 5AA
CATEGORIES:Community Events,Markets
ATTACH;FMTTYPE=image/jpeg:https://visitnewbury.org.uk/wp-content/uploads/2025/02/Newbury-Artisan-Market-September.jpg
END:VEVENT
BEGIN:VEVENT
DTSTART;TZID=Europe/London:20250831T100000
DTEND;TZID=Europe/London:20250831T160000
DTSTAMP:20260421T115501
CREATED:20250828T174438Z
LAST-MODIFIED:20250828T174439Z
UID:10001092-1756634400-1756656000@visitnewbury.org.uk
SUMMARY:Newbury Artisan Market
DESCRIPTION:*** Unfortunately\, due to high winds forecast and to ensure the safety of visitors and traders\, this weekend’s Artisan Market has been cancelled *** \n  \nA modern makers market supporting emerging and established independent artisans\, producers\, crafters\, and makers! \n​Held across Newbury town centre on the last Sunday of every month\, come and enjoy the friendly atmosphere of the Artisan Market\, offering unique\, handmade goods from local artisans\, producers\, crafters\, and makers.​
URL:https://visitnewbury.org.uk/event/newbury-artisan-market-4/
LOCATION:Newbury Town Centre\, Newbury Town Centre\, RG15 5AA
CATEGORIES:Community Events,Markets
ATTACH;FMTTYPE=image/jpeg:https://visitnewbury.org.uk/wp-content/uploads/2025/02/Renartgades-Artisan-Market-August-cancelled.jpg
END:VEVENT
BEGIN:VEVENT
DTSTART;TZID=Europe/London:20250727T100000
DTEND;TZID=Europe/London:20250727T160000
DTSTAMP:20260421T115501
CREATED:20250722T123111Z
LAST-MODIFIED:20250722T123111Z
UID:10001091-1753610400-1753632000@visitnewbury.org.uk
SUMMARY:Newbury Artisan Market
DESCRIPTION:A modern makers market supporting emerging and established independent artisans\, producers\, crafters\, and makers! \n​Held across Newbury town centre on the last Sunday of every month\, come and enjoy the friendly atmosphere of the Artisan Market\, offering unique\, handmade goods from local artisans\, producers\, crafters\, and makers.​
URL:https://visitnewbury.org.uk/event/newbury-artisan-market-2/
LOCATION:Newbury Town Centre\, Newbury Town Centre\, RG15 5AA
CATEGORIES:Community Events,Markets
ATTACH;FMTTYPE=image/webp:https://visitnewbury.org.uk/wp-content/uploads/2025/02/Artisan-Market-27th-July.webp
END:VEVENT
END:VCALENDAR