BEGIN:VCALENDAR
VERSION:2.0
PRODID:-//Visit Newbury - ECPv6.13.2.1//NONSGML v1.0//EN
CALSCALE:GREGORIAN
METHOD:PUBLISH
X-WR-CALNAME:Visit Newbury
X-ORIGINAL-URL:https://visitnewbury.org.uk
X-WR-CALDESC:Events for Visit Newbury
REFRESH-INTERVAL;VALUE=DURATION:PT1H
X-Robots-Tag:noindex
X-PUBLISHED-TTL:PT1H
BEGIN:VTIMEZONE
TZID:Europe/London
BEGIN:DAYLIGHT
TZOFFSETFROM:+0000
TZOFFSETTO:+0100
TZNAME:BST
DTSTART:20250330T010000
END:DAYLIGHT
BEGIN:STANDARD
TZOFFSETFROM:+0100
TZOFFSETTO:+0000
TZNAME:GMT
DTSTART:20251026T010000
END:STANDARD
END:VTIMEZONE
BEGIN:VEVENT
DTSTART;TZID=Europe/London:20251214T180000
DTEND;TZID=Europe/London:20251214T180000
DTSTAMP:20260421T144323
CREATED:20250213T152427Z
LAST-MODIFIED:20250213T152619Z
UID:11000310-1765735200-1765735200@visitnewbury.org.uk
SUMMARY:Your Space - Open Mic Night
DESCRIPTION:Your Space is a unique open mic experience for 15-18 year-olds held at the Good Vibes Music Academy studio. \nIt provides a space for Good Vibes students to perform in front of a supportive audience of family\, friends and fellow students in a relaxed and familiar setting. \nWith an audience of 20 this is a fantastic opportunity to test the waters with live performance\, prep for an upcoming show/gig or exam. \nGVMA want to provide a space for their students to showcase their skills\, songs and talents. \nYou can learn more at the link below.
URL:https://visitnewbury.org.uk/event/your-space-open-mic-night/2025-12-14/
LOCATION:Good Vibes Music Academy\, Good Vibes Music Academy\, RG14 5BN
CATEGORIES:Open Mic
ATTACH;FMTTYPE=image/jpeg:https://visitnewbury.org.uk/wp-content/uploads/2025/02/YourSpace.jpg
END:VEVENT
BEGIN:VEVENT
DTSTART;TZID=Europe/London:20251114T170000
DTEND;TZID=Europe/London:20251114T210000
DTSTAMP:20260421T144324
CREATED:20251028T110324Z
LAST-MODIFIED:20251106T105543Z
UID:12003060-1763139600-1763154000@visitnewbury.org.uk
SUMMARY:The Night Before...
DESCRIPTION:Join us in Newbury Market Place from 5pm on Friday 14th November\, as we get into the festive spirit ahead of a very busy day at the Christmas Lights Switch On on Saturday. \nWe’ll be kicking off Christmas Party season with FREE live music from fantastic local bands – do come along and start the party with us! \nThe evening’s entertainment will be opened by The Rokkits\, followed by The Caskettes at 6.30pm\, and headlined by local favourites Juliette The Band at 8pm. It wouldn’t be Christmas without a big-stage peformance of The Big Red Guy! \n \n 
URL:https://visitnewbury.org.uk/event/the-night-before/
LOCATION:Market Place\, Newbury\, Market Place\, Newbury
CATEGORIES:Christmas,Community Events,Live Music
ATTACH;FMTTYPE=image/jpeg:https://visitnewbury.org.uk/wp-content/uploads/2025/10/The-Night-Before-lineup-1.jpg
END:VEVENT
BEGIN:VEVENT
DTSTART;TZID=Europe/London:20251109T180000
DTEND;TZID=Europe/London:20251109T180000
DTSTAMP:20260421T144324
CREATED:20250213T152427Z
LAST-MODIFIED:20250213T152619Z
UID:11000309-1762711200-1762711200@visitnewbury.org.uk
SUMMARY:Your Space - Open Mic Night
DESCRIPTION:Your Space is a unique open mic experience for 15-18 year-olds held at the Good Vibes Music Academy studio. \nIt provides a space for Good Vibes students to perform in front of a supportive audience of family\, friends and fellow students in a relaxed and familiar setting. \nWith an audience of 20 this is a fantastic opportunity to test the waters with live performance\, prep for an upcoming show/gig or exam. \nGVMA want to provide a space for their students to showcase their skills\, songs and talents. \nYou can learn more at the link below.
URL:https://visitnewbury.org.uk/event/your-space-open-mic-night/2025-11-09/
LOCATION:Good Vibes Music Academy\, Good Vibes Music Academy\, RG14 5BN
CATEGORIES:Open Mic
ATTACH;FMTTYPE=image/jpeg:https://visitnewbury.org.uk/wp-content/uploads/2025/02/YourSpace.jpg
END:VEVENT
BEGIN:VEVENT
DTSTART;TZID=Europe/London:20251012T180000
DTEND;TZID=Europe/London:20251012T180000
DTSTAMP:20260421T144324
CREATED:20250213T152427Z
LAST-MODIFIED:20250213T152619Z
UID:11000308-1760292000-1760292000@visitnewbury.org.uk
SUMMARY:Your Space - Open Mic Night
DESCRIPTION:Your Space is a unique open mic experience for 15-18 year-olds held at the Good Vibes Music Academy studio. \nIt provides a space for Good Vibes students to perform in front of a supportive audience of family\, friends and fellow students in a relaxed and familiar setting. \nWith an audience of 20 this is a fantastic opportunity to test the waters with live performance\, prep for an upcoming show/gig or exam. \nGVMA want to provide a space for their students to showcase their skills\, songs and talents. \nYou can learn more at the link below.
URL:https://visitnewbury.org.uk/event/your-space-open-mic-night/2025-10-12/
LOCATION:Good Vibes Music Academy\, Good Vibes Music Academy\, RG14 5BN
CATEGORIES:Open Mic
ATTACH;FMTTYPE=image/jpeg:https://visitnewbury.org.uk/wp-content/uploads/2025/02/YourSpace.jpg
END:VEVENT
BEGIN:VEVENT
DTSTART;TZID=Europe/London:20250914T180000
DTEND;TZID=Europe/London:20250914T180000
DTSTAMP:20260421T144324
CREATED:20250213T152427Z
LAST-MODIFIED:20250213T152619Z
UID:11000307-1757872800-1757872800@visitnewbury.org.uk
SUMMARY:Your Space - Open Mic Night
DESCRIPTION:Your Space is a unique open mic experience for 15-18 year-olds held at the Good Vibes Music Academy studio. \nIt provides a space for Good Vibes students to perform in front of a supportive audience of family\, friends and fellow students in a relaxed and familiar setting. \nWith an audience of 20 this is a fantastic opportunity to test the waters with live performance\, prep for an upcoming show/gig or exam. \nGVMA want to provide a space for their students to showcase their skills\, songs and talents. \nYou can learn more at the link below.
URL:https://visitnewbury.org.uk/event/your-space-open-mic-night/2025-09-14/
LOCATION:Good Vibes Music Academy\, Good Vibes Music Academy\, RG14 5BN
CATEGORIES:Open Mic
ATTACH;FMTTYPE=image/jpeg:https://visitnewbury.org.uk/wp-content/uploads/2025/02/YourSpace.jpg
END:VEVENT
BEGIN:VEVENT
DTSTART;TZID=Europe/London:20250810T180000
DTEND;TZID=Europe/London:20250810T180000
DTSTAMP:20260421T144324
CREATED:20250213T152427Z
LAST-MODIFIED:20250213T152619Z
UID:11000306-1754848800-1754848800@visitnewbury.org.uk
SUMMARY:Your Space - Open Mic Night
DESCRIPTION:Your Space is a unique open mic experience for 15-18 year-olds held at the Good Vibes Music Academy studio. \nIt provides a space for Good Vibes students to perform in front of a supportive audience of family\, friends and fellow students in a relaxed and familiar setting. \nWith an audience of 20 this is a fantastic opportunity to test the waters with live performance\, prep for an upcoming show/gig or exam. \nGVMA want to provide a space for their students to showcase their skills\, songs and talents. \nYou can learn more at the link below.
URL:https://visitnewbury.org.uk/event/your-space-open-mic-night/2025-08-10/
LOCATION:Good Vibes Music Academy\, Good Vibes Music Academy\, RG14 5BN
CATEGORIES:Open Mic
ATTACH;FMTTYPE=image/jpeg:https://visitnewbury.org.uk/wp-content/uploads/2025/02/YourSpace.jpg
END:VEVENT
BEGIN:VEVENT
DTSTART;TZID=Europe/London:20250713T180000
DTEND;TZID=Europe/London:20250713T180000
DTSTAMP:20260421T144324
CREATED:20250213T152427Z
LAST-MODIFIED:20250213T152619Z
UID:11000305-1752429600-1752429600@visitnewbury.org.uk
SUMMARY:Your Space - Open Mic Night
DESCRIPTION:Your Space is a unique open mic experience for 15-18 year-olds held at the Good Vibes Music Academy studio. \nIt provides a space for Good Vibes students to perform in front of a supportive audience of family\, friends and fellow students in a relaxed and familiar setting. \nWith an audience of 20 this is a fantastic opportunity to test the waters with live performance\, prep for an upcoming show/gig or exam. \nGVMA want to provide a space for their students to showcase their skills\, songs and talents. \nYou can learn more at the link below.
URL:https://visitnewbury.org.uk/event/your-space-open-mic-night/2025-07-13/
LOCATION:Good Vibes Music Academy\, Good Vibes Music Academy\, RG14 5BN
CATEGORIES:Open Mic
ATTACH;FMTTYPE=image/jpeg:https://visitnewbury.org.uk/wp-content/uploads/2025/02/YourSpace.jpg
END:VEVENT
BEGIN:VEVENT
DTSTART;TZID=Europe/London:20250608T180000
DTEND;TZID=Europe/London:20250608T180000
DTSTAMP:20260421T144324
CREATED:20250213T152427Z
LAST-MODIFIED:20250213T152619Z
UID:11000304-1749405600-1749405600@visitnewbury.org.uk
SUMMARY:Your Space - Open Mic Night
DESCRIPTION:Your Space is a unique open mic experience for 15-18 year-olds held at the Good Vibes Music Academy studio. \nIt provides a space for Good Vibes students to perform in front of a supportive audience of family\, friends and fellow students in a relaxed and familiar setting. \nWith an audience of 20 this is a fantastic opportunity to test the waters with live performance\, prep for an upcoming show/gig or exam. \nGVMA want to provide a space for their students to showcase their skills\, songs and talents. \nYou can learn more at the link below.
URL:https://visitnewbury.org.uk/event/your-space-open-mic-night/2025-06-08/
LOCATION:Good Vibes Music Academy\, Good Vibes Music Academy\, RG14 5BN
CATEGORIES:Open Mic
ATTACH;FMTTYPE=image/jpeg:https://visitnewbury.org.uk/wp-content/uploads/2025/02/YourSpace.jpg
END:VEVENT
BEGIN:VEVENT
DTSTART;TZID=Europe/London:20250511T180000
DTEND;TZID=Europe/London:20250511T180000
DTSTAMP:20260421T144324
CREATED:20250213T152427Z
LAST-MODIFIED:20250213T152619Z
UID:11000303-1746986400-1746986400@visitnewbury.org.uk
SUMMARY:Your Space - Open Mic Night
DESCRIPTION:Your Space is a unique open mic experience for 15-18 year-olds held at the Good Vibes Music Academy studio. \nIt provides a space for Good Vibes students to perform in front of a supportive audience of family\, friends and fellow students in a relaxed and familiar setting. \nWith an audience of 20 this is a fantastic opportunity to test the waters with live performance\, prep for an upcoming show/gig or exam. \nGVMA want to provide a space for their students to showcase their skills\, songs and talents. \nYou can learn more at the link below.
URL:https://visitnewbury.org.uk/event/your-space-open-mic-night/2025-05-11/
LOCATION:Good Vibes Music Academy\, Good Vibes Music Academy\, RG14 5BN
CATEGORIES:Open Mic
ATTACH;FMTTYPE=image/jpeg:https://visitnewbury.org.uk/wp-content/uploads/2025/02/YourSpace.jpg
END:VEVENT
BEGIN:VEVENT
DTSTART;TZID=Europe/London:20250413T180000
DTEND;TZID=Europe/London:20250413T180000
DTSTAMP:20260421T144324
CREATED:20250213T152427Z
LAST-MODIFIED:20250213T152619Z
UID:11000302-1744567200-1744567200@visitnewbury.org.uk
SUMMARY:Your Space - Open Mic Night
DESCRIPTION:Your Space is a unique open mic experience for 15-18 year-olds held at the Good Vibes Music Academy studio. \nIt provides a space for Good Vibes students to perform in front of a supportive audience of family\, friends and fellow students in a relaxed and familiar setting. \nWith an audience of 20 this is a fantastic opportunity to test the waters with live performance\, prep for an upcoming show/gig or exam. \nGVMA want to provide a space for their students to showcase their skills\, songs and talents. \nYou can learn more at the link below.
URL:https://visitnewbury.org.uk/event/your-space-open-mic-night/2025-04-13/
LOCATION:Good Vibes Music Academy\, Good Vibes Music Academy\, RG14 5BN
CATEGORIES:Open Mic
ATTACH;FMTTYPE=image/jpeg:https://visitnewbury.org.uk/wp-content/uploads/2025/02/YourSpace.jpg
END:VEVENT
BEGIN:VEVENT
DTSTART;TZID=Europe/London:20250309T180000
DTEND;TZID=Europe/London:20250309T180000
DTSTAMP:20260421T144324
CREATED:20250213T152427Z
LAST-MODIFIED:20250213T152619Z
UID:11000301-1741543200-1741543200@visitnewbury.org.uk
SUMMARY:Your Space - Open Mic Night
DESCRIPTION:Your Space is a unique open mic experience for 15-18 year-olds held at the Good Vibes Music Academy studio. \nIt provides a space for Good Vibes students to perform in front of a supportive audience of family\, friends and fellow students in a relaxed and familiar setting. \nWith an audience of 20 this is a fantastic opportunity to test the waters with live performance\, prep for an upcoming show/gig or exam. \nGVMA want to provide a space for their students to showcase their skills\, songs and talents. \nYou can learn more at the link below.
URL:https://visitnewbury.org.uk/event/your-space-open-mic-night/2025-03-09/
LOCATION:Good Vibes Music Academy\, Good Vibes Music Academy\, RG14 5BN
CATEGORIES:Open Mic
ATTACH;FMTTYPE=image/jpeg:https://visitnewbury.org.uk/wp-content/uploads/2025/02/YourSpace.jpg
END:VEVENT
END:VCALENDAR