BEGIN:VCALENDAR
VERSION:2.0
PRODID:-//Visit Newbury - ECPv6.13.2.1//NONSGML v1.0//EN
CALSCALE:GREGORIAN
METHOD:PUBLISH
X-ORIGINAL-URL:https://visitnewbury.org.uk
X-WR-CALDESC:Events for Visit Newbury
REFRESH-INTERVAL;VALUE=DURATION:PT1H
X-Robots-Tag:noindex
X-PUBLISHED-TTL:PT1H
BEGIN:VTIMEZONE
TZID:Europe/London
BEGIN:DAYLIGHT
TZOFFSETFROM:+0000
TZOFFSETTO:+0100
TZNAME:BST
DTSTART:20250330T010000
END:DAYLIGHT
BEGIN:STANDARD
TZOFFSETFROM:+0100
TZOFFSETTO:+0000
TZNAME:GMT
DTSTART:20251026T010000
END:STANDARD
BEGIN:DAYLIGHT
TZOFFSETFROM:+0000
TZOFFSETTO:+0100
TZNAME:BST
DTSTART:20260329T010000
END:DAYLIGHT
BEGIN:STANDARD
TZOFFSETFROM:+0100
TZOFFSETTO:+0000
TZNAME:GMT
DTSTART:20261025T010000
END:STANDARD
END:VTIMEZONE
BEGIN:VEVENT
DTSTART;TZID=Europe/London:20260423T100000
DTEND;TZID=Europe/London:20260423T160000
DTSTAMP:20260426T020903
CREATED:20260309T113547Z
LAST-MODIFIED:20260416T092330Z
UID:12003596-1776938400-1776960000@visitnewbury.org.uk
SUMMARY:Dementia Clinics
DESCRIPTION:Dementia UK’s Admiral Nurse clinics will be returning to Nationwide Building Society in Newbury in April 2026. \nThe clinics are free and there is no need or expectation to be a customer of Nationwide Building Society to access them. \nThe free clinics are for people who are worried about their own memory or that of someone else\, for anyone who has been diagnosed with dementia\, and carers of people living with dementia. \nAdmiral Nurses (specialist dementia nurses provided by Dementia UK) support with all aspects of dementia care such as: \n\nSupport around getting a diagnosis\nUnderstanding symptoms of dementia including how to respond to behaviour\nCommunicating with the person living with dementia\nPlanning future care\nGrief\, loss and bereavement\nTransitions in care\n\nTo book your appointment\, head to the link below\, or speak to a colleague in the Nationwide Branch. You can also text the word APPOINTMENT to 07478 724 000.
URL:https://visitnewbury.org.uk/event/dementia-clinics/2026-04-23/
LOCATION:Nationwide Building Society\, Nationwide Building Society\, RG14 1ND
CATEGORIES:Health & Wellbeing
ATTACH;FMTTYPE=image/jpeg:https://visitnewbury.org.uk/wp-content/uploads/2026/03/Newbury-Dementia-Clinics-April-2026-scaled.jpg
END:VEVENT
BEGIN:VEVENT
DTSTART;TZID=Europe/London:20260422T100000
DTEND;TZID=Europe/London:20260422T160000
DTSTAMP:20260426T020903
CREATED:20260309T113547Z
LAST-MODIFIED:20260416T092330Z
UID:12003595-1776852000-1776873600@visitnewbury.org.uk
SUMMARY:Dementia Clinics
DESCRIPTION:Dementia UK’s Admiral Nurse clinics will be returning to Nationwide Building Society in Newbury in April 2026. \nThe clinics are free and there is no need or expectation to be a customer of Nationwide Building Society to access them. \nThe free clinics are for people who are worried about their own memory or that of someone else\, for anyone who has been diagnosed with dementia\, and carers of people living with dementia. \nAdmiral Nurses (specialist dementia nurses provided by Dementia UK) support with all aspects of dementia care such as: \n\nSupport around getting a diagnosis\nUnderstanding symptoms of dementia including how to respond to behaviour\nCommunicating with the person living with dementia\nPlanning future care\nGrief\, loss and bereavement\nTransitions in care\n\nTo book your appointment\, head to the link below\, or speak to a colleague in the Nationwide Branch. You can also text the word APPOINTMENT to 07478 724 000.
URL:https://visitnewbury.org.uk/event/dementia-clinics/2026-04-22/
LOCATION:Nationwide Building Society\, Nationwide Building Society\, RG14 1ND
CATEGORIES:Health & Wellbeing
ATTACH;FMTTYPE=image/jpeg:https://visitnewbury.org.uk/wp-content/uploads/2026/03/Newbury-Dementia-Clinics-April-2026-scaled.jpg
END:VEVENT
BEGIN:VEVENT
DTSTART;TZID=Europe/London:20260421T100000
DTEND;TZID=Europe/London:20260421T160000
DTSTAMP:20260426T020903
CREATED:20260309T113547Z
LAST-MODIFIED:20260416T092330Z
UID:12003594-1776765600-1776787200@visitnewbury.org.uk
SUMMARY:Dementia Clinics
DESCRIPTION:Dementia UK’s Admiral Nurse clinics will be returning to Nationwide Building Society in Newbury in April 2026. \nThe clinics are free and there is no need or expectation to be a customer of Nationwide Building Society to access them. \nThe free clinics are for people who are worried about their own memory or that of someone else\, for anyone who has been diagnosed with dementia\, and carers of people living with dementia. \nAdmiral Nurses (specialist dementia nurses provided by Dementia UK) support with all aspects of dementia care such as: \n\nSupport around getting a diagnosis\nUnderstanding symptoms of dementia including how to respond to behaviour\nCommunicating with the person living with dementia\nPlanning future care\nGrief\, loss and bereavement\nTransitions in care\n\nTo book your appointment\, head to the link below\, or speak to a colleague in the Nationwide Branch. You can also text the word APPOINTMENT to 07478 724 000.
URL:https://visitnewbury.org.uk/event/dementia-clinics/2026-04-21/
LOCATION:Nationwide Building Society\, Nationwide Building Society\, RG14 1ND
CATEGORIES:Health & Wellbeing
ATTACH;FMTTYPE=image/jpeg:https://visitnewbury.org.uk/wp-content/uploads/2026/03/Newbury-Dementia-Clinics-April-2026-scaled.jpg
END:VEVENT
BEGIN:VEVENT
DTSTART;TZID=Europe/London:20250523T100000
DTEND;TZID=Europe/London:20250523T130000
DTSTAMP:20260426T020903
CREATED:20250509T115626Z
LAST-MODIFIED:20250509T115804Z
UID:12001976-1747994400-1748005200@visitnewbury.org.uk
SUMMARY:Dementia Action Week Garden Party
DESCRIPTION:To round off Dementia Action Week\, don’t miss the Garden Party in the Jubilee Sensory Garden\, Thatcham. \nOpen to all\, this friendly event hosted by Thatcham Town Council and Home Instead offers the perfect chance to enjoy tea\, cake\, live music\, and meaningful conversation\, all while raising funds for Age UK\, The Alzheimer’s Society\, and Dementia UK. \nHome Instead carers will be on hand to ensure the wellbeing of all attendees\, and to make the event a respite for carers. \nAt 11.30am\, Home Instead will host a free\, informative session offering practical advice and insights for anyone supporting a loved one living with dementia. The talk will cover early signs\, coping techniques\, and local resources. Each attendee will receive a free information booklet. \nNo booking required – just head along and have some cake! \n 
URL:https://visitnewbury.org.uk/event/dementia-action-week-garden-party/
LOCATION:Jubilee Sensory Garden\, RG18 3HF
CATEGORIES:Community Events,Health & Wellbeing
ATTACH;FMTTYPE=image/jpeg:https://visitnewbury.org.uk/wp-content/uploads/2025/05/DAW2025_12.jpg
END:VEVENT
BEGIN:VEVENT
DTSTART;TZID=Europe/London:20250522T103000
DTEND;TZID=Europe/London:20250522T110000
DTSTAMP:20260426T020903
CREATED:20250509T110923Z
LAST-MODIFIED:20250509T111039Z
UID:12001974-1747909800-1747911600@visitnewbury.org.uk
SUMMARY:Reminiscence Activity
DESCRIPTION:In support of Dementia Action Week\, Newbury Library is hosting a creative Memory Jar activity directly after the children’s story time session. \nThis event is also free\, no booking required
URL:https://visitnewbury.org.uk/event/reminiscence-activity/
LOCATION:Newbury Library\, Newbury Library\, The Wharf\, RG14 5AU
CATEGORIES:Community Events,Health & Wellbeing,Library Events
ATTACH;FMTTYPE=image/jpeg:https://visitnewbury.org.uk/wp-content/uploads/2025/05/DAW2025_10.jpg
END:VEVENT
BEGIN:VEVENT
DTSTART;TZID=Europe/London:20250522T100000
DTEND;TZID=Europe/London:20250522T103000
DTSTAMP:20260426T020903
CREATED:20250509T110418Z
LAST-MODIFIED:20250509T110928Z
UID:12001973-1747908000-1747909800@visitnewbury.org.uk
SUMMARY:Story Time Session (Dementia Awareness for Children)
DESCRIPTION:In support of Dementia Action Week\, Newbury Library are hosting a special storytime event for children. \nHead along and enjoy selected stories that explore dementia and memory loss\, thoughtfully written to introduce these topics in an appropriate and accessible way for young readers. After the stories\, take part in a creative Memory Jar activity! \nThis is a free drop-in event for children of all ages.
URL:https://visitnewbury.org.uk/event/story-time-session-dementia-awareness-for-children/
LOCATION:Newbury Library\, Newbury Library\, The Wharf\, RG14 5AU
CATEGORIES:Children's Sessions,Community Events,Health & Wellbeing,Library Events
ATTACH;FMTTYPE=image/jpeg:https://visitnewbury.org.uk/wp-content/uploads/2025/05/DAW2025_9.jpg
END:VEVENT
BEGIN:VEVENT
DTSTART;TZID=Europe/London:20250522T093000
DTEND;TZID=Europe/London:20250522T113000
DTSTAMP:20260426T020903
CREATED:20250509T115025Z
LAST-MODIFIED:20250509T115437Z
UID:12001975-1747906200-1747913400@visitnewbury.org.uk
SUMMARY:Dementia Friends Session
DESCRIPTION:A free event as part of Dementia Action Week. \nTo book contact: victoria.howelljones@ageukberkshire.org.uk
URL:https://visitnewbury.org.uk/event/dementia-friends-session-2/
LOCATION:The Nature Discovery Centre\, The Nature Discovery Centre\, RG19 3FU
CATEGORIES:Health & Wellbeing
ATTACH;FMTTYPE=image/jpeg:https://visitnewbury.org.uk/wp-content/uploads/2025/05/DAW2025_11.jpg
END:VEVENT
BEGIN:VEVENT
DTSTART;TZID=Europe/London:20250521T100000
DTEND;TZID=Europe/London:20250521T140000
DTSTAMP:20260426T020903
CREATED:20250509T105717Z
LAST-MODIFIED:20250509T105717Z
UID:12001972-1747821600-1747836000@visitnewbury.org.uk
SUMMARY:Reading Football Club Pitch Walk & Dementia Cafe
DESCRIPTION:A free event that forms part of this year’s Dementia Action Week. \nHead along and walk the pitch with some young Reading Football Club players\, then join for information stalls and a Dementia Cafe in the Players Lounge. \nTo book\, email: info@ageukberkshire.org.uk
URL:https://visitnewbury.org.uk/event/reading-football-club-pitch-walk-dementia-cafe/
LOCATION:Select Car Leasing Stadium\, Select Car Leasing Stadium\, RG2 0FL
CATEGORIES:Health & Wellbeing,Sport
ATTACH;FMTTYPE=image/jpeg:https://visitnewbury.org.uk/wp-content/uploads/2025/05/DAW2025_8.jpg
END:VEVENT
BEGIN:VEVENT
DTSTART;TZID=Europe/London:20250520T130000
DTEND;TZID=Europe/London:20250520T140000
DTSTAMP:20260426T020903
CREATED:20250509T100232Z
LAST-MODIFIED:20250509T100232Z
UID:12001968-1747746000-1747749600@visitnewbury.org.uk
SUMMARY:Dementia Friends Session
DESCRIPTION:Would you or your organisation be interested in becoming Dementia Friends? \nAlzheimer’s Society are running a free information session on Tuesday 20th May between 1:00 and 2:00pm in Newbury. \nThis session covers key messages about dementia and what it is like to live with it. \nBook your place now at the link below.
URL:https://visitnewbury.org.uk/event/dementia-friends-session/
LOCATION:Broadway House\, Broadway House\, RG14 1BA
CATEGORIES:Health & Wellbeing
ATTACH;FMTTYPE=image/jpeg:https://visitnewbury.org.uk/wp-content/uploads/2025/05/4.jpg
END:VEVENT
BEGIN:VEVENT
DTSTART;TZID=Europe/London:20250520T120000
DTEND;TZID=Europe/London:20250520T130000
DTSTAMP:20260426T020903
CREATED:20250509T102300Z
LAST-MODIFIED:20250509T102300Z
UID:12001970-1747742400-1747746000@visitnewbury.org.uk
SUMMARY:Dementia Friendly Community Cafe
DESCRIPTION:Dementia Friendly Community Cafe at Hungerford Leisure Centre\, organised as part of Dementia Action Week. \nFor more details\, please email: CallumYates@everyoneactive.com
URL:https://visitnewbury.org.uk/event/dementia-friendly-community-cafe-2/
LOCATION:Hungerford Leisure Centre\, Hungerford Leisure Centre\, RG17 0AN
CATEGORIES:Community Events,Health & Wellbeing
ATTACH;FMTTYPE=image/jpeg:https://visitnewbury.org.uk/wp-content/uploads/2025/05/DAW2025_6.jpg
END:VEVENT
BEGIN:VEVENT
DTSTART;TZID=Europe/London:20250520T110000
DTEND;TZID=Europe/London:20250520T170000
DTSTAMP:20260426T020903
CREATED:20250509T104528Z
LAST-MODIFIED:20250509T104528Z
UID:12001971-1747738800-1747760400@visitnewbury.org.uk
SUMMARY:Dementia Awareness Day
DESCRIPTION:Dementia Awareness Day has been organised as part of Dementia Action Week\, with a variety of stalls and information stalls on Dementia services in the local area. \nOne Voice community choir will also be performing. \nFree to attend\, no need to book.
URL:https://visitnewbury.org.uk/event/dementia-awareness-day/
LOCATION:Pangbourne Village Hall\, Pangbourne Village Hall\, RG8 7AN
CATEGORIES:Community Events,Health & Wellbeing
ATTACH;FMTTYPE=image/jpeg:https://visitnewbury.org.uk/wp-content/uploads/2025/05/DAW2025_7.jpg
END:VEVENT
BEGIN:VEVENT
DTSTART;TZID=Europe/London:20250520T103000
DTEND;TZID=Europe/London:20250520T120000
DTSTAMP:20260426T020903
CREATED:20250509T101314Z
LAST-MODIFIED:20250509T101314Z
UID:12001969-1747737000-1747742400@visitnewbury.org.uk
SUMMARY:Singing For The Brain
DESCRIPTION:As part of Dementia Action Week\, join Singing for the Brain to meet new people in a friendly\, fun and social environment. \nSinging improves your brain activity\, wellbeing and mood\, and you don’t need to be a good singer to benefit. \nJoin for fun vocal warm-ups and sing a wide variety of familiar and new songs. The event is a regular fixture in Calcot\, hosted by friendly and experienced group leaders.
URL:https://visitnewbury.org.uk/event/singing-for-the-brain/
LOCATION:Kennet Valley Free Church\, Kennet Valley Free Church\, RG31 7YT
CATEGORIES:Community Events,Health & Wellbeing,Music
ATTACH;FMTTYPE=image/jpeg:https://visitnewbury.org.uk/wp-content/uploads/2025/05/DAW2025_5.jpg
END:VEVENT
BEGIN:VEVENT
DTSTART;TZID=Europe/London:20250519T123000
DTEND;TZID=Europe/London:20250519T133000
DTSTAMP:20260426T020903
CREATED:20250509T094837Z
LAST-MODIFIED:20250509T094837Z
UID:12001967-1747657800-1747661400@visitnewbury.org.uk
SUMMARY:Dementia Friendly Community Cafe
DESCRIPTION:Dementia Friendly Community Cafe at Northcroft Leisure Centre\, organised as part of Dementia Action Week. \nFor more details\, please email: CallumYates@everyoneactive.com
URL:https://visitnewbury.org.uk/event/dementia-friendly-community-cafe/
LOCATION:Northcroft Leisure Centre\, Northcroft Leisure Centre\, RG14 1RS
CATEGORIES:Community Events,Health & Wellbeing
ATTACH;FMTTYPE=image/jpeg:https://visitnewbury.org.uk/wp-content/uploads/2025/05/3.jpg
END:VEVENT
BEGIN:VEVENT
DTSTART;TZID=Europe/London:20250519T103000
DTEND;TZID=Europe/London:20250519T120000
DTSTAMP:20260426T020903
CREATED:20250509T093621Z
LAST-MODIFIED:20250509T094524Z
UID:12001966-1747650600-1747656000@visitnewbury.org.uk
SUMMARY:Forget-Me-Not Art Workshop
DESCRIPTION:A Dementia friendly workshop with Artist Sarah Moorcroft for people living with Dementia and their carers. \nThis workshop takes place during Dementia Action Week. \nBook a FREE ticket (accompanying carers do not need to book a ticket) to let them know you are attending this special dementia friendly Art workshop with one of their most creative artists – Sarah Moorcroft. Enjoy a morning of art activity in a calm and safe environment. \nThe Art hub café will be open during the session for FREE hot drinks and biscuits
URL:https://visitnewbury.org.uk/event/forget-me-not-art-workshop/
LOCATION:City Arts Newbury\, City Arts Newbury\, RG14 6DB
CATEGORIES:Arts & Crafts,Community Events,Health & Wellbeing
ATTACH;FMTTYPE=image/jpeg:https://visitnewbury.org.uk/wp-content/uploads/2025/05/2.jpg
END:VEVENT
BEGIN:VEVENT
DTSTART;VALUE=DATE:20250519
DTEND;VALUE=DATE:20250524
DTSTAMP:20260426T020903
CREATED:20250506T161628Z
LAST-MODIFIED:20250509T120300Z
UID:12001964-1747612800-1748044799@visitnewbury.org.uk
SUMMARY:Dementia Action Week
DESCRIPTION:May 19th – 23rd 2025 is Dementia Action Week! \nDementia Friendly West Berkshire have organised lots of special events throughout the week at various locations across West Berkshire\, to help raise awareness and provide information on all of the services available across the district. \nFrom free sessions\, live music\, crafts\, walks and much more\, click here to find all the events taking place. \nAll events are free\, just head along (unless booking specified). \nFor more information\, call Age UK Berkshire on 0118 959 4242\, or email info@ageukberkshire.org.uk
URL:https://visitnewbury.org.uk/event/dementia-action-week/
LOCATION:West Berkshire\, West Berkshire
CATEGORIES:Community Events,Health & Wellbeing
ATTACH;FMTTYPE=image/jpeg:https://visitnewbury.org.uk/wp-content/uploads/2025/05/Dementia-Action-Week-West-Berks.jpg
END:VEVENT
END:VCALENDAR