BEGIN:VCALENDAR
VERSION:2.0
PRODID:-//Visit Newbury - ECPv6.13.2.1//NONSGML v1.0//EN
CALSCALE:GREGORIAN
METHOD:PUBLISH
X-WR-CALNAME:Visit Newbury
X-ORIGINAL-URL:https://visitnewbury.org.uk
X-WR-CALDESC:Events for Visit Newbury
REFRESH-INTERVAL;VALUE=DURATION:PT1H
X-Robots-Tag:noindex
X-PUBLISHED-TTL:PT1H
BEGIN:VTIMEZONE
TZID:Europe/London
BEGIN:DAYLIGHT
TZOFFSETFROM:+0000
TZOFFSETTO:+0100
TZNAME:BST
DTSTART:20250330T010000
END:DAYLIGHT
BEGIN:STANDARD
TZOFFSETFROM:+0100
TZOFFSETTO:+0000
TZNAME:GMT
DTSTART:20251026T010000
END:STANDARD
BEGIN:DAYLIGHT
TZOFFSETFROM:+0000
TZOFFSETTO:+0100
TZNAME:BST
DTSTART:20260329T010000
END:DAYLIGHT
BEGIN:STANDARD
TZOFFSETFROM:+0100
TZOFFSETTO:+0000
TZNAME:GMT
DTSTART:20261025T010000
END:STANDARD
END:VTIMEZONE
BEGIN:VEVENT
DTSTART;TZID=Europe/London:20260319T190000
DTEND;TZID=Europe/London:20260319T210000
DTSTAMP:20260423T121114
CREATED:20260106T115246Z
LAST-MODIFIED:20260106T115413Z
UID:12003104-1773946800-1773954000@visitnewbury.org.uk
SUMMARY:Rebel Craft Club
DESCRIPTION:Getting creative and having fun doesn’t have to be just for kids! \nThe team at Delphic and Libby from Magpie and the Mob have teamed up to host this brand new craft evening\, where each month you’ll have the chance to try out and learn a new technique – no prior experience needed. \nEven better? All materials will be included. \nMake sure you book your ticket via the link below\, we imagine these spots could sell out fast!
URL:https://visitnewbury.org.uk/event/rebel-craft-club/2026-03-19/
LOCATION:Delphic Brewing Co Taproom\, Delphic Brewing Co Taproom\, RG14 5DR
CATEGORIES:Arts & Crafts,Pub & Restaurant Events
ATTACH;FMTTYPE=image/webp:https://visitnewbury.org.uk/wp-content/uploads/2026/01/Rebel-Craft-Club-Delphic.webp
END:VEVENT
BEGIN:VEVENT
DTSTART;TZID=Europe/London:20260212T190000
DTEND;TZID=Europe/London:20260212T210000
DTSTAMP:20260423T121114
CREATED:20260106T115246Z
LAST-MODIFIED:20260106T115413Z
UID:12003103-1770922800-1770930000@visitnewbury.org.uk
SUMMARY:Rebel Craft Club
DESCRIPTION:Getting creative and having fun doesn’t have to be just for kids! \nThe team at Delphic and Libby from Magpie and the Mob have teamed up to host this brand new craft evening\, where each month you’ll have the chance to try out and learn a new technique – no prior experience needed. \nEven better? All materials will be included. \nMake sure you book your ticket via the link below\, we imagine these spots could sell out fast!
URL:https://visitnewbury.org.uk/event/rebel-craft-club/2026-02-12/
LOCATION:Delphic Brewing Co Taproom\, Delphic Brewing Co Taproom\, RG14 5DR
CATEGORIES:Arts & Crafts,Pub & Restaurant Events
ATTACH;FMTTYPE=image/webp:https://visitnewbury.org.uk/wp-content/uploads/2026/01/Rebel-Craft-Club-Delphic.webp
END:VEVENT
BEGIN:VEVENT
DTSTART;TZID=Europe/London:20260207T120000
DTEND;TZID=Europe/London:20260207T120000
DTSTAMP:20260423T121114
CREATED:20260114T105954Z
LAST-MODIFIED:20260114T105954Z
UID:12003175-1770465600-1770465600@visitnewbury.org.uk
SUMMARY:Delphic Cup: Darts Tournament
DESCRIPTION:The Delphic Cup returns\, for a knockout Darts Tournament on Saturday 6th December! \n£5 per person entry – all ages and abilities welcome (you can sign up via the link below). \nSecure your spot for your chance to win: \n1st place: CHAMPION! Your name forever on the The Delphic Cup trophy & 10 free pint tokens of Delphic beer in the taproom\n2nd place: SO CLOSE! 5 free pint tokens of Delphic beer in the taproom\n3rd place: BRONZE! 1 free pint token of Delphic beer in the taproom\n4th place: NEARLY! A free packet of crisps \nHead below to sign up\, and don’t worry – if you just want to watch the fun\, entry to the taproom is still free.
URL:https://visitnewbury.org.uk/event/delphic-cup-darts-tournament-feb2026/
LOCATION:Delphic Brewing Co Taproom\, Delphic Brewing Co Taproom\, RG14 5DR
CATEGORIES:Pub & Restaurant Events
ATTACH;FMTTYPE=image/jpeg:https://visitnewbury.org.uk/wp-content/uploads/2026/01/Delphic-Darts-Tournament-Feb2026.jpg
END:VEVENT
BEGIN:VEVENT
DTSTART;TZID=Europe/London:20260115T190000
DTEND;TZID=Europe/London:20260115T210000
DTSTAMP:20260423T121114
CREATED:20260115T122249Z
LAST-MODIFIED:20260115T122311Z
UID:12003102-1768503600-1768510800@visitnewbury.org.uk
SUMMARY:Rebel Craft Club
DESCRIPTION:Getting creative and having fun doesn’t have to be just for kids! \nThe team at Delphic and Libby from Magpie and the Mob have teamed up to host this brand new craft evening\, where each month you’ll have the chance to try out and learn a new technique – no prior experience needed. \nEven better? All materials will be included. \n*January’s event has sold out\, but head to the link below where you can book your tickets for future dates*
URL:https://visitnewbury.org.uk/event/rebel-craft-club-january2026/
LOCATION:Delphic Brewing Co Taproom\, Delphic Brewing Co Taproom\, RG14 5DR
CATEGORIES:Arts & Crafts,Pub & Restaurant Events
ATTACH;FMTTYPE=image/webp:https://visitnewbury.org.uk/wp-content/uploads/2026/01/Rebel-Craft-Club-Delphic.webp
END:VEVENT
BEGIN:VEVENT
DTSTART;TZID=Europe/London:20251231T180000
DTEND;TZID=Europe/London:20260101T010000
DTSTAMP:20260423T121114
CREATED:20251014T132437Z
LAST-MODIFIED:20251223T154019Z
UID:12003052-1767204000-1767229200@visitnewbury.org.uk
SUMMARY:*Sold Out* Delphic New Year's Eve Party
DESCRIPTION:Celebrate New Year’s Eve and ring in the New Year with great beer\, good vibes\, and a chilled\, friendly crowd at Delphic Brewing Co. Taproom. \nYour £5 ticket includes:\nA welcome drink to wet your whistle on arrival\nA glass of fizz at midnight to toast the New Year \nSettle in for a relaxed evening of laughter and good times — no pretence\, no pressure\, just great company. \nQuiz of the Year | 8–10pm\nTest your 2025 knowledge and win some bragging rights (and maybe a prize or two). \nGurt Wings Street Food | Serving until 10pm\nTuck into some seriously tasty eats from Bristol’s finest wing slingers\, while you sip on your favourite Delphic brews. \nWhether you’re joining friends\, family\, or flying solo\, expect a laid-back atmosphere\, top-notch beer\, and a cheers-worthy countdown to 2026. \nGrab your ticket now via the link below — spaces are limited!
URL:https://visitnewbury.org.uk/event/delphic-new-years-eve-party/
LOCATION:Delphic Brewing Co Taproom\, Delphic Brewing Co Taproom\, RG14 5DR
CATEGORIES:New Year's Eve,Pub & Restaurant Events
ATTACH;FMTTYPE=image/webp:https://visitnewbury.org.uk/wp-content/uploads/2025/10/Delphic-New-Years-Eve-Party.webp
END:VEVENT
BEGIN:VEVENT
DTSTART;TZID=Europe/London:20251212T120000
DTEND;TZID=Europe/London:20251212T200000
DTSTAMP:20260423T121114
CREATED:20250916T135353Z
LAST-MODIFIED:20250916T135516Z
UID:12002308-1765540800-1765569600@visitnewbury.org.uk
SUMMARY:Dogs By Jeff - Pawtrait Sessions
DESCRIPTION:Join Delphic Brewing Co on 13th December where they will have artist Jeff Yeung in residence – a dog portrait artist originally from Hong Kong and now based in the UK. \nBring along your furry friend to the taproom and Jeff will be on hand to create a one-off bespoke piece of art of your pet pooch! \nA quirky\, contemporary take on capturing the very best furry friend of your life. Instead of traditional realism\, Jeff opts for lively ink strokes\, injecting personality into each dog painting. Perfect for your home or as a unique gift\, this portrait celebrates the exciting and enduring bond between human and their pooch with a touch of humour and a lot of heart. \nYou can see more of Jeff’s work over on his website: dogsbyjeff.co.uk \nEach portrait is charged at £50\, paid on the day. \nReserve your time slot now\, for free\, by booking via the Delphic website – just head to the link below.
URL:https://visitnewbury.org.uk/event/dogs-by-jeff-pawtrait-sessions/
LOCATION:Delphic Brewing Co Taproom\, Delphic Brewing Co Taproom\, RG14 5DR
CATEGORIES:Arts & Crafts,Pub & Restaurant Events
ATTACH;FMTTYPE=image/webp:https://visitnewbury.org.uk/wp-content/uploads/2025/09/Dogs-By-Jeff-Delphic.webp
END:VEVENT
BEGIN:VEVENT
DTSTART;TZID=Europe/London:20251207T120000
DTEND;TZID=Europe/London:20251207T143000
DTSTAMP:20260423T121114
CREATED:20250916T134622Z
LAST-MODIFIED:20250916T134622Z
UID:12002307-1765108800-1765117800@visitnewbury.org.uk
SUMMARY:Seasonal Winter Wreath Workshop
DESCRIPTION:Join Delphic Brewing Co at the Taproom on Sunday 7th December for an afternoon of learning and laughs whilst you create your own seasonal winter wreath to adorn your outside space. \nHarry from The Green Door Flower Co. will guide you through the step-by-step process of creating a fresh evergreen wreath\, using the best seasonal and scented materials\, as well as be there to support whilst you create your own. \nAll equipment needed for creating your wreath will be provided for you\, such as a natural willow base\, twine\, foliage\, dried flowers\, seed heads\, berries and ribbon. \nTicket includes a glass of Mulled Wine on arrival! The taproom remains open until 5pm so you can stick around for a drink after the workshop finishes. \nHead to the link below to book your tickets.
URL:https://visitnewbury.org.uk/event/seasonal-winter-wreath-workshop/
LOCATION:Delphic Brewing Co Taproom\, Delphic Brewing Co Taproom\, RG14 5DR
CATEGORIES:Arts & Crafts,Pub & Restaurant Events
ATTACH;FMTTYPE=image/webp:https://visitnewbury.org.uk/wp-content/uploads/2025/09/Delphic-Seasonal-Winter-Wreath-Workshop.webp
END:VEVENT
BEGIN:VEVENT
DTSTART;TZID=Europe/London:20251206T120000
DTEND;TZID=Europe/London:20251206T120000
DTSTAMP:20260423T121114
CREATED:20251014T132011Z
LAST-MODIFIED:20251014T132011Z
UID:12003051-1765022400-1765022400@visitnewbury.org.uk
SUMMARY:Delphic Cup: Darts Tournament
DESCRIPTION:The Delphic Cup returns\, for a knockout Darts Tournament on Saturday 6th December! \n£5 per person entry – all ages and abilities welcome (you can sign up via the link below). \nSecure your spot for your chance to win: \n1st place: CHAMPION! Your name forever on the The Delphic Cup trophy & 10 free pint tokens of Delphic beer in the taproom\n2nd place: SO CLOSE! 5 free pint tokens of Delphic beer in the taproom\n3rd place: BRONZE! 1 free pint token of Delphic beer in the taproom\n4th place: NEARLY! A free packet of crisps \nHead below to sign up\, and don’t worry – if you just want to watch the fun\, entry to the taproom is still free.
URL:https://visitnewbury.org.uk/event/delphic-cup-darts-tournament/
LOCATION:Delphic Brewing Co Taproom\, Delphic Brewing Co Taproom\, RG14 5DR
CATEGORIES:Pub & Restaurant Events
ATTACH;FMTTYPE=image/webp:https://visitnewbury.org.uk/wp-content/uploads/2025/10/Delphic-Darts-Tournament.webp
END:VEVENT
BEGIN:VEVENT
DTSTART;TZID=Europe/London:20251108T110000
DTEND;TZID=Europe/London:20251108T220000
DTSTAMP:20260423T121114
CREATED:20251031T094607Z
LAST-MODIFIED:20251031T094607Z
UID:12003061-1762599600-1762639200@visitnewbury.org.uk
SUMMARY:Delphic’s 6th Birthday Celebrations
DESCRIPTION:Celebrate Delphic’s 6th Birthday in style on 8th November! \nHead along between 11am and 10pm to join the party\, where you can enjoy 6 brand new birthday beers (featuring collabs with some of your other favourite local breweries)\, live music from 4pm\, and party bags for first 50 customers. \nHappy birthday folks!
URL:https://visitnewbury.org.uk/event/delphics-6th-birthday-celebrations/
LOCATION:Delphic Brewing Co Taproom\, Delphic Brewing Co Taproom\, RG14 5DR
CATEGORIES:Live Music,Pub & Restaurant Events
ATTACH;FMTTYPE=image/jpeg:https://visitnewbury.org.uk/wp-content/uploads/2025/10/Delphic-6th-Birthday.jpg
END:VEVENT
BEGIN:VEVENT
DTSTART;TZID=Europe/London:20251031T160000
DTEND;TZID=Europe/London:20251031T220000
DTSTAMP:20260423T121114
CREATED:20251014T131453Z
LAST-MODIFIED:20251014T131453Z
UID:12003050-1761926400-1761948000@visitnewbury.org.uk
SUMMARY:Halloween at Delphic
DESCRIPTION:Join Delphic for a spooky evening down at the taproom\, with tricks and treats on offer. \nWho will win the best dressed Fancy Dress competition? Find out while you sip Halloween beer cocktails\, and enjoy legendary wings from Gurt Wings. \nAnd don’t miss out as Delphic will also be launching its Halloween beer! Fancy dress encouraged.
URL:https://visitnewbury.org.uk/event/halloween-at-delphic/
LOCATION:Delphic Brewing Co Taproom\, Delphic Brewing Co Taproom\, RG14 5DR
CATEGORIES:Halloween,Pub & Restaurant Events
ATTACH;FMTTYPE=image/jpeg:https://visitnewbury.org.uk/wp-content/uploads/2025/10/Halloween-at-Delphic.jpg
END:VEVENT
BEGIN:VEVENT
DTSTART;TZID=Europe/London:20251004T130000
DTEND;TZID=Europe/London:20251004T130000
DTSTAMP:20260423T121114
CREATED:20250930T124537Z
LAST-MODIFIED:20250930T124608Z
UID:12002397-1759582800-1759582800@visitnewbury.org.uk
SUMMARY:Conkers Tournament
DESCRIPTION:The Delphic Cup Conkers Tournament returns! \nConker season is here\, and here’s your chance to show off your childhood skills – can you be this year’s CHAMPION? \nEntries cost £2pp and the team at Delphic will supply all the conkers and safety equipment. Even better… there are prizes to be won! \nPrizes:\n1st place: CHAMPION! Your name forever on the The Delphic Cup trophy & 5 free pint tokens of Delphic beer in the taproom\n2nd place: SO CLOSE! 3 free pint tokens of Delphic beer in the taproom\n3rd place: BRONZE! 1 free pint token of Delphic beer in the taproom\n4th place: NEARLY! A free packet of crisps \nHead below to sign up\, and don’t worry – if you just want to watch the fun\, entry to the taproom is still free! \n 
URL:https://visitnewbury.org.uk/event/conkers-tournament/
LOCATION:Delphic Brewing Co Taproom\, Delphic Brewing Co Taproom\, RG14 5DR
CATEGORIES:Pub & Restaurant Events
ATTACH;FMTTYPE=image/jpeg:https://visitnewbury.org.uk/wp-content/uploads/2025/09/Delphic-Conkers-Tournament.jpg
END:VEVENT
BEGIN:VEVENT
DTSTART;TZID=Europe/London:20250920T110000
DTEND;TZID=Europe/London:20250920T220000
DTSTAMP:20260423T121114
CREATED:20250916T133945Z
LAST-MODIFIED:20250916T133945Z
UID:12002306-1758366000-1758405600@visitnewbury.org.uk
SUMMARY:Oktoberfest at Delphic
DESCRIPTION:Don your finest Leiderhosen or Dirndl and sip on a selection of lagers at the Delphic Brewing Co taproom to celebrate Oktoberfest! \nThere will be a selection of lagers on draught\, including some Paulaner Oktoberfest Party Kegs tapped throughout the day. \nPlus\, don’t miss a Bavarian inspired menu from Smokey and the Bandit – including Pulled Pork Cabbage Rolls\, Bratwurst Quesadillas and more. \nFree Entry from 11am. Prost!
URL:https://visitnewbury.org.uk/event/oktoberfest-at-delphic/
LOCATION:Delphic Brewing Co Taproom\, Delphic Brewing Co Taproom\, RG14 5DR
CATEGORIES:Pub & Restaurant Events
ATTACH;FMTTYPE=image/jpeg:https://visitnewbury.org.uk/wp-content/uploads/2025/09/Delphic-Oktoberfest.jpg
END:VEVENT
BEGIN:VEVENT
DTSTART;TZID=Europe/London:20250712T140000
DTEND;TZID=Europe/London:20250712T180000
DTSTAMP:20260423T121114
CREATED:20250515T101003Z
LAST-MODIFIED:20250515T101112Z
UID:12001995-1752328800-1752343200@visitnewbury.org.uk
SUMMARY:Picklefest
DESCRIPTION:Introducing the very first Picklefest! \nA collaboration between Delphic Brewing Co\, Green Shed Cider & Fermented Reality\, inviting the people of Newbury to unleash their creativity and enter delicious homemade treats into a competition to crown the ultimate champion\, in a number of different categories\, including pickles\, chutneys\, preserves\, hot sauce\, jam\, kimchi\, drinks and more! \nThe event is free to attend. \nIf you would like to enter your items into the competition\, entries cost £5 per item and there are some fantastic prizes up for grabs! \nLearn more via the link below.
URL:https://visitnewbury.org.uk/event/picklefest/
LOCATION:Delphic Brewing Co Taproom\, Delphic Brewing Co Taproom\, RG14 5DR
CATEGORIES:Food & Drink,Live Music
ATTACH;FMTTYPE=image/webp:https://visitnewbury.org.uk/wp-content/uploads/2025/05/Picklefest.webp
END:VEVENT
END:VCALENDAR