BEGIN:VCALENDAR
VERSION:2.0
PRODID:-//Visit Newbury - ECPv6.13.2.1//NONSGML v1.0//EN
CALSCALE:GREGORIAN
METHOD:PUBLISH
X-ORIGINAL-URL:https://visitnewbury.org.uk
X-WR-CALDESC:Events for Visit Newbury
REFRESH-INTERVAL;VALUE=DURATION:PT1H
X-Robots-Tag:noindex
X-PUBLISHED-TTL:PT1H
BEGIN:VTIMEZONE
TZID:Europe/London
BEGIN:DAYLIGHT
TZOFFSETFROM:+0000
TZOFFSETTO:+0100
TZNAME:BST
DTSTART:20250330T010000
END:DAYLIGHT
BEGIN:STANDARD
TZOFFSETFROM:+0100
TZOFFSETTO:+0000
TZNAME:GMT
DTSTART:20251026T010000
END:STANDARD
END:VTIMEZONE
BEGIN:VEVENT
DTSTART;TZID=Europe/London:20250221T143000
DTEND;TZID=Europe/London:20250221T153000
DTSTAMP:20260425T172340
CREATED:20250218T231601Z
LAST-MODIFIED:20250218T231823Z
UID:11000318-1740148200-1740151800@visitnewbury.org.uk
SUMMARY:Four Seasons
DESCRIPTION:Sprinkle a little magic into your child’s half term with a trip to Corn Exchange Newbury! \nFour Seasons is a theatrical love letter to nature\, perfect for children and adults. Join a team of whimsical gardeners as they nurture a marvellous menagerie of plants and creatures through every stage of the natural world’s journey. \nWith puppetry\, physical theatre\, and plenty of clowning fun\, this enchanting show is set to a seasonally inspired soundtrack – which of course includes Vivaldi’s iconic masterpiece! \nShow times: \nFriday 21 February – 2:30pm\nSaturday 22 February – 11:30am\nSunday 23 February – 11:30am & 2:30pm
URL:https://visitnewbury.org.uk/event/four-seasons/2025-02-21/
LOCATION:Corn Exchange Newbury\, Corn Exchange\, Market Place\, RG14 5BD
CATEGORIES:Theatre
ATTACH;FMTTYPE=image/png:https://visitnewbury.org.uk/wp-content/uploads/2025/02/CRAFT-Four-Seasons-2.png
END:VEVENT
BEGIN:VEVENT
DTSTART;TZID=Europe/London:20250109T103000
DTEND;TZID=Europe/London:20250109T123000
DTSTAMP:20260425T172340
CREATED:20250106T162845Z
LAST-MODIFIED:20250108T000136Z
UID:10000002-1736418600-1736425800@visitnewbury.org.uk
SUMMARY:Coffee Companions
DESCRIPTION:Join for Coffee Companions\, every Thursday morning at the Corn Exchange’s Café Bar! \nCoffee Companions sessions are for people to come along for friendly conversations with fellow café-goers and members of the Corn Exchange team\, and to maybe make a new friend. \nPresented as part of the Corn Exchange’s Ageing Creatively programme\, but open to all ages.
URL:https://visitnewbury.org.uk/event/coffee-companions/
LOCATION:Corn Exchange Newbury\, Corn Exchange\, Market Place\, RG14 5BD
ATTACH;FMTTYPE=image/webp:https://visitnewbury.org.uk/wp-content/uploads/2025/01/Coffee-companions.webp
END:VEVENT
END:VCALENDAR