BEGIN:VCALENDAR
VERSION:2.0
PRODID:-//Visit Newbury - ECPv6.13.2.1//NONSGML v1.0//EN
CALSCALE:GREGORIAN
METHOD:PUBLISH
X-WR-CALNAME:Visit Newbury
X-ORIGINAL-URL:https://visitnewbury.org.uk
X-WR-CALDESC:Events for Visit Newbury
REFRESH-INTERVAL;VALUE=DURATION:PT1H
X-Robots-Tag:noindex
X-PUBLISHED-TTL:PT1H
BEGIN:VTIMEZONE
TZID:Europe/London
BEGIN:DAYLIGHT
TZOFFSETFROM:+0000
TZOFFSETTO:+0100
TZNAME:BST
DTSTART:20260329T010000
END:DAYLIGHT
BEGIN:STANDARD
TZOFFSETFROM:+0100
TZOFFSETTO:+0000
TZNAME:GMT
DTSTART:20261025T010000
END:STANDARD
END:VTIMEZONE
BEGIN:VEVENT
DTSTART;TZID=Europe/London:20260716T193000
DTEND;TZID=Europe/London:20260716T200000
DTSTAMP:20260421T142746
CREATED:20260402T165439Z
LAST-MODIFIED:20260402T165934Z
UID:12003753-1784230200-1784232000@visitnewbury.org.uk
SUMMARY:Small Fish - Graeme Coulam
DESCRIPTION:Coulam is a small fish in a big pond. But he’s evolving like the rest of humanity. Or is he? Just because Dawkins says something\, it doesn’t make it true. On the other hand\, you can’t trust religion either\, so what are you supposed to think. If there is a God\, how come Man Utd won so many trophies in the 1990s. If there isn’t a God\, how come so many atheists behave as if there is. And now that Curly Wurlies are shorter than they used to be\, and Trump is in the White House\, who cares anyway? Expect tangents\, cul-de-sacs and more U-turns than Starmer as Coulam navigates the BIG questions with his tiny goldfish mind. \nThis event is part of West Berks Comedy Festival\, taking place throughout July. Learn more or book your tickets at the link below.
URL:https://visitnewbury.org.uk/event/small-fish-graeme-coulam/
LOCATION:Thatcham Rugby Club\, RG18 3BN
CATEGORIES:Comedy
ATTACH;FMTTYPE=image/jpeg:https://visitnewbury.org.uk/wp-content/uploads/2026/04/Graeme-Coulam.jpg
END:VEVENT
BEGIN:VEVENT
DTSTART;TZID=Europe/London:20260716T203000
DTEND;TZID=Europe/London:20260716T213000
DTSTAMP:20260421T142746
CREATED:20260402T165959Z
LAST-MODIFIED:20260402T165959Z
UID:12003754-1784233800-1784237400@visitnewbury.org.uk
SUMMARY:Alan Francis - Hard Wired
DESCRIPTION:When H. G. Wells wrote The Shape of Things to Come\, did he imagine the shape we have become? Well this out-of-shape comedian wants to know. Can we come together and explore the stars? Or do we just order another pizza? Alan Francis asks what happened to the bright future science was supposed to bring. And is there any room left for our humanity? \nThis event is part of West Berks Comedy Festival\, taking place throughout July. Learn more or book your tickets at the link below.
URL:https://visitnewbury.org.uk/event/alan-francis-hard-wired/
LOCATION:Thatcham Rugby Club\, RG18 3BN
CATEGORIES:Comedy
ATTACH;FMTTYPE=image/jpeg:https://visitnewbury.org.uk/wp-content/uploads/2026/04/Alan-Francis.jpg
END:VEVENT
BEGIN:VEVENT
DTSTART;TZID=Europe/London:20260717T193000
DTEND;TZID=Europe/London:20260717T213000
DTSTAMP:20260421T142746
CREATED:20260402T170151Z
LAST-MODIFIED:20260402T170151Z
UID:12003755-1784316600-1784323800@visitnewbury.org.uk
SUMMARY:It's a Fair Cop Radio Warm Up - Alfie Moore
DESCRIPTION:Alfie Moore returns with a fun-filled\, interactive ‘warm up’ show ahead of recording Series 10 of his hit BBC Radio 4 comedy ‘It’s A Fair Cop’. Alfie ‘swears in’ the audience as police officers before sharing a brand new\, real-life scenario from his ‘casebook’. He playfully challenges the ‘audience cops’ to say what they would’ve done in his shoes – with often unexpected and entertaining results! Every show is unique to the audience in the room – so why not come and find out what sort of cop you’d make?! \nThis event is part of West Berks Comedy Festival\, taking place throughout July. Learn more or book your tickets at the link below.
URL:https://visitnewbury.org.uk/event/its-a-fair-cop-radio-warm-up-alfie-moore/
LOCATION:Newbury Rugby Club\, Newbury Rugby Club\, RG14 7RW
CATEGORIES:Comedy
ATTACH;FMTTYPE=image/jpeg:https://visitnewbury.org.uk/wp-content/uploads/2026/04/Alfie-Moore-WBCF.jpg
END:VEVENT
BEGIN:VEVENT
DTSTART;TZID=Europe/London:20260718T193000
DTEND;TZID=Europe/London:20260718T213000
DTSTAMP:20260421T142746
CREATED:20260402T170404Z
LAST-MODIFIED:20260402T170404Z
UID:12003756-1784403000-1784410200@visitnewbury.org.uk
SUMMARY:Musical Chairs
DESCRIPTION:A show of wonderful musical stand-up comedy\, proving you can have multiple musical comedians on the bill… and nobody gets hurt. \nThis event is part of West Berks Comedy Festival\, taking place throughout July. Learn more or book your tickets at the link below.
URL:https://visitnewbury.org.uk/event/musical-chairs/
LOCATION:Hungerford Town FC\, RG17 0AY
CATEGORIES:Comedy
ATTACH;FMTTYPE=image/jpeg:https://visitnewbury.org.uk/wp-content/uploads/2026/04/Musical-Chairs-WBCF.jpg
END:VEVENT
BEGIN:VEVENT
DTSTART;TZID=Europe/London:20260719T183000
DTEND;TZID=Europe/London:20260719T193000
DTSTAMP:20260421T142746
CREATED:20260402T170506Z
LAST-MODIFIED:20260402T170506Z
UID:12003757-1784485800-1784489400@visitnewbury.org.uk
SUMMARY:Dry Humour - Dave Chawner
DESCRIPTION:Dave’s given up booze…but does that make him sober? A sharp\, self-deprecating look at age\, expectations & identity. As seen on BBC\, ITV & Channel 5. Heard on Radio 1\,Radio 2 & Radio 4. \nThis event is part of West Berks Comedy Festival\, taking place throughout July. Learn more or book your tickets at the link below.
URL:https://visitnewbury.org.uk/event/dry-humour-dave-chawner/
LOCATION:City Arts Newbury\, City Arts Newbury\, RG14 6DB
CATEGORIES:Comedy
ATTACH;FMTTYPE=image/jpeg:https://visitnewbury.org.uk/wp-content/uploads/2026/04/Dave-Chawner-WBCF.jpg
END:VEVENT
BEGIN:VEVENT
DTSTART;TZID=Europe/London:20260720T193000
DTEND;TZID=Europe/London:20260720T203000
DTSTAMP:20260421T142746
CREATED:20260402T170648Z
LAST-MODIFIED:20260402T170648Z
UID:12003758-1784575800-1784579400@visitnewbury.org.uk
SUMMARY:Rachel Creeger: Queen of the Jews
DESCRIPTION:Rachel Creeger is a multi-award-winning comedian and the only orthodox Jew on the UK comedy circuit. She’s taken 4 critically acclaimed shows to the Edinburgh Fringe and can regularly be seen on BBC1 and heard across the BBC Radio network. \nThis event is part of West Berks Comedy Festival\, taking place throughout July. Learn more or book your tickets at the link below.
URL:https://visitnewbury.org.uk/event/rachel-creeger-queen-of-the-jews/
LOCATION:The Bowlers Arms\, The Bowlers Arms\, RG14 6TW
CATEGORIES:Comedy
ATTACH;FMTTYPE=image/jpeg:https://visitnewbury.org.uk/wp-content/uploads/2026/04/Rachel-Kreeger-WBCF.jpg
END:VEVENT
BEGIN:VEVENT
DTSTART;TZID=Europe/London:20260720T204500
DTEND;TZID=Europe/London:20260721T214500
DTSTAMP:20260421T142746
CREATED:20260402T170819Z
LAST-MODIFIED:20260402T170819Z
UID:12003759-1784580300-1784670300@visitnewbury.org.uk
SUMMARY:How's Your Head? WIP - Aarian Mehrabani
DESCRIPTION:This is the debut stand up hour from Critically acclaimed\, multi award-winning Writer and Comedian Aarian Mehrabani\, co-writer and actor of the 2023 smash hit play “It’s a MotherF**king Pleasure”. \nThis event is part of West Berks Comedy Festival\, taking place throughout July. Learn more or book your tickets at the link below.
URL:https://visitnewbury.org.uk/event/hows-your-head-wip-aarian-mehrabani/
LOCATION:The Bowlers Arms\, The Bowlers Arms\, RG14 6TW
CATEGORIES:Comedy
ATTACH;FMTTYPE=image/jpeg:https://visitnewbury.org.uk/wp-content/uploads/2026/04/Aarian-Mehrabani-WBCF.jpg
END:VEVENT
BEGIN:VEVENT
DTSTART;TZID=Europe/London:20260721T193000
DTEND;TZID=Europe/London:20260721T210000
DTSTAMP:20260421T142746
CREATED:20260402T171016Z
LAST-MODIFIED:20260402T171016Z
UID:12003760-1784662200-1784667600@visitnewbury.org.uk
SUMMARY:Sandro Ford - Work In Progress
DESCRIPTION:Sandro is a Welsh stand-up comedian\, actor\, and podcaster\, hailing from the same steelworking town as legends Richard Burton\, Anthony Hopkins\, and Michael Sheen. Known for his unique comedic approach\, he delivers captivating performances that blend humour with dynamic\, engaging narratives. \nThis event is part of West Berks Comedy Festival\, taking place throughout July. Learn more or book your tickets at the link below.
URL:https://visitnewbury.org.uk/event/sandro-ford-work-in-progress/
LOCATION:Kintbury Rangers FC\, RG17 9UA
CATEGORIES:Comedy
ATTACH;FMTTYPE=image/jpeg:https://visitnewbury.org.uk/wp-content/uploads/2026/04/Sandro-Ford-WBCF.jpg
END:VEVENT
BEGIN:VEVENT
DTSTART;TZID=Europe/London:20260722T193000
DTEND;TZID=Europe/London:20260722T203000
DTSTAMP:20260421T142746
CREATED:20260402T171158Z
LAST-MODIFIED:20260402T171158Z
UID:12003761-1784748600-1784752200@visitnewbury.org.uk
SUMMARY:30\, Burty & Thriving
DESCRIPTION:Burt Williamson prepares his fourth (yes fourth) comedy hour. This year Burt tackles personal challenges in his life with his trademark aplomb\, bringing the funny to an unexpected plethora of offbeat observations. \nThis event is part of West Berks Comedy Festival\, taking place throughout July. Learn more or book your tickets at the link below.
URL:https://visitnewbury.org.uk/event/30-burty-and-thriving/
LOCATION:Hungerford Rugby Club\, RG17 0AP
CATEGORIES:Comedy
ATTACH;FMTTYPE=image/jpeg:https://visitnewbury.org.uk/wp-content/uploads/2026/04/Burt-Williamson-WBCF.jpg
END:VEVENT
BEGIN:VEVENT
DTSTART;TZID=Europe/London:20260722T204500
DTEND;TZID=Europe/London:20260722T214500
DTSTAMP:20260421T142746
CREATED:20260402T171301Z
LAST-MODIFIED:20260402T171301Z
UID:12003762-1784753100-1784756700@visitnewbury.org.uk
SUMMARY:Table for One - Jacob Nussey
DESCRIPTION:Jacob Nussey unassumingly draws in audiences with his deadpan style\, sharp jokes\, and ill-fated anecdotes with clever punchlines. \nThis event is part of West Berks Comedy Festival\, taking place throughout July. Learn more or book your tickets at the link below.
URL:https://visitnewbury.org.uk/event/table-for-one-jacob-nussey/
LOCATION:Hungerford Rugby Club\, RG17 0AP
CATEGORIES:Comedy
ATTACH;FMTTYPE=image/jpeg:https://visitnewbury.org.uk/wp-content/uploads/2026/04/Jacob-Nussey-WBCF.jpg
END:VEVENT
BEGIN:VEVENT
DTSTART;TZID=Europe/London:20260723T193000
DTEND;TZID=Europe/London:20260723T210000
DTSTAMP:20260421T142746
CREATED:20260402T171403Z
LAST-MODIFIED:20260402T171403Z
UID:12003763-1784835000-1784840400@visitnewbury.org.uk
SUMMARY:Andy Kind
DESCRIPTION:Andy Kind is a comedian\, preacher and writer. He started doing Stand-up on 23rd January 2005. By the September of that year\, Andy had gone full-time as a comedian and has made a living from it ever since. Andy’s stand-up style is the joyful ranting of a redeemed alpha male. He has been featured on BBC1\, ITV and Channel 4\, while he’s had jokes featured on Dave’s One Night Stand and Live at the Apollo. \nThis event is part of West Berks Comedy Festival\, taking place throughout July. Learn more or book your tickets at the link below.
URL:https://visitnewbury.org.uk/event/andy-kind/
LOCATION:St Nicolas Church Hall\, St Nicolas Church Hall\, RG14 5HG
CATEGORIES:Comedy
ATTACH;FMTTYPE=image/jpeg:https://visitnewbury.org.uk/wp-content/uploads/2026/04/Andy-Kind-WBCF.jpg
END:VEVENT
BEGIN:VEVENT
DTSTART;TZID=Europe/London:20260723T200000
DTEND;TZID=Europe/London:20260723T210000
DTSTAMP:20260421T142746
CREATED:20260402T171525Z
LAST-MODIFIED:20260402T171525Z
UID:12003764-1784836800-1784840400@visitnewbury.org.uk
SUMMARY:David Tsonos Club Comedian
DESCRIPTION:Now with 25 years of Stand-up comedy under his belt Canadian David Tsonos is doing it by himself. He will be a one man comedy club in which he is the Compere\, the opening act and the headliner. No sad stories\, no uplifting tales\, just straight stand-up comedy club style humor. \nThis event is part of West Berks Comedy Festival\, taking place throughout July. Learn more or book your tickets at the link below.
URL:https://visitnewbury.org.uk/event/david-tsonos-club-comedian/
LOCATION:Thatcham Cricket Club\, RG18 3HF
CATEGORIES:Comedy
ATTACH;FMTTYPE=image/jpeg:https://visitnewbury.org.uk/wp-content/uploads/2026/04/David-Tsonos-WBCF.jpg
END:VEVENT
BEGIN:VEVENT
DTSTART;TZID=Europe/London:20260724T193000
DTEND;TZID=Europe/London:20260724T203000
DTSTAMP:20260421T142746
CREATED:20260402T171631Z
LAST-MODIFIED:20260402T171631Z
UID:12003765-1784921400-1784925000@visitnewbury.org.uk
SUMMARY:Avoid Excessive Cleavage (and other advice to ignore)
DESCRIPTION:Jules O’Brian is in her 50s now\, and the “helpful” advice about everything she should and shouldn’t be doing just keeps on coming. Don’t wear that. You’re never too old – but don’t leave it too late. Have you tried magic sticky tape for droopy jowls? Maybe join a dating site for people who are “apparently hurtling towards death”? \nThis event is part of West Berks Comedy Festival\, taking place throughout July. Learn more or book your tickets at the link below.
URL:https://visitnewbury.org.uk/event/avoid-excessive-cleavage-and-other-advice-to-ignore/
LOCATION:ACE Space\, ACE Space\, RG14 5PR
CATEGORIES:Comedy
ATTACH;FMTTYPE=image/jpeg:https://visitnewbury.org.uk/wp-content/uploads/2026/04/Jules-OBrian-WBCF.jpg
END:VEVENT
BEGIN:VEVENT
DTSTART;TZID=Europe/London:20260724T204500
DTEND;TZID=Europe/London:20260724T214500
DTSTAMP:20260421T142746
CREATED:20260402T171729Z
LAST-MODIFIED:20260402T171729Z
UID:12003766-1784925900-1784929500@visitnewbury.org.uk
SUMMARY:Mitch Benn is Asking Elvis
DESCRIPTION:The King is back! Mitch Benn resurrects Elvis from BBC Radio 2’s legendary “Steve Wright in the Afternoon” show\, to answer hunks of burning questions about life\, death\, cheeseburgers and everything in between… including the story of how Mitch managed to be possibly the most popular thing on the most popular show on British radio for over ten years\, without anyone ever knowing it was him. \nThis event is part of West Berks Comedy Festival\, taking place throughout July. Learn more or book your tickets at the link below.
URL:https://visitnewbury.org.uk/event/mitch-benn-is-asking-elvis/
LOCATION:ACE Space\, ACE Space\, RG14 5PR
CATEGORIES:Comedy
ATTACH;FMTTYPE=image/jpeg:https://visitnewbury.org.uk/wp-content/uploads/2026/04/Mitch-Benn-WBCF.jpg
END:VEVENT
BEGIN:VEVENT
DTSTART;TZID=Europe/London:20260725T160000
DTEND;TZID=Europe/London:20260725T170000
DTSTAMP:20260421T142746
CREATED:20260402T171859Z
LAST-MODIFIED:20260402T171859Z
UID:12003767-1784995200-1784998800@visitnewbury.org.uk
SUMMARY:Edinburgh Fringe/Glasgow Haircut Stephen Carlin
DESCRIPTION:2026 is going to be a great by the way\, spectacular. I’ve just decided based on no evidence whatsoever. As the global clusterf*ck collides impressively with personal crisis\, the chief executive of self awareness – Stephen Carlin (Stewart Lee’s 10 best comedians of all time) is on hand to explain how none of this fiasco is any of his fault. \nThis event is part of West Berks Comedy Festival\, taking place throughout July. Learn more or book your tickets at the link below.
URL:https://visitnewbury.org.uk/event/edinburgh-fringe-glasgow-haircut-stephen-carlin/
LOCATION:The Croft Hall\, RG17 0HY
CATEGORIES:Comedy
ATTACH;FMTTYPE=image/jpeg:https://visitnewbury.org.uk/wp-content/uploads/2026/04/Stephen-Carlin-WBCF.jpg
END:VEVENT
BEGIN:VEVENT
DTSTART;TZID=Europe/London:20260725T193000
DTEND;TZID=Europe/London:20260725T203000
DTSTAMP:20260421T142746
CREATED:20260402T172402Z
LAST-MODIFIED:20260402T172402Z
UID:12003768-1785007800-1785011400@visitnewbury.org.uk
SUMMARY:Now Look Here - Alex Kitson
DESCRIPTION:It’s nice to do things in real life isn’t it. After two critically acclaimed shows in 2024 and 2025\, multi-award winning comedian Alex Kitson has a brand new hour of stand-up comedy to show you. He’s talking about attention and if you could direct yours his way for a moment he’d be very grateful. \nThis event is part of West Berks Comedy Festival\, taking place throughout July. Learn more or book your tickets at the link below.
URL:https://visitnewbury.org.uk/event/now-look-here-alex-kitson/
LOCATION:The Croft Hall\, RG17 0HY
CATEGORIES:Comedy
ATTACH;FMTTYPE=image/jpeg:https://visitnewbury.org.uk/wp-content/uploads/2026/04/Alex-Kitson-WBCF.jpg
END:VEVENT
BEGIN:VEVENT
DTSTART;TZID=Europe/London:20260725T204500
DTEND;TZID=Europe/London:20260725T214500
DTSTAMP:20260421T142746
CREATED:20260402T172458Z
LAST-MODIFIED:20260402T172458Z
UID:12003769-1785012300-1785015900@visitnewbury.org.uk
SUMMARY:Daddy Autism - Joe Wells
DESCRIPTION:Joe and his wife have had a baby. He’s autistic so statistically it’s quite likely the baby will be too. In this new show\, critically acclaimed comedian Joe Wells explores fatherhood through the lens of neurodiversity. Plus\, there’s a really good joke about a parrot. As seen on Rosie Jones’ Disability Comedy Extravaganza\, BBC Two’s Ouch Storytelling Live and Channel 4’s Jokes Only a Neurodivergent Can Tell. \nThis event is part of West Berks Comedy Festival\, taking place throughout July. Learn more or book your tickets at the link below.
URL:https://visitnewbury.org.uk/event/daddy-autism-joe-wells/
LOCATION:The Croft Hall\, RG17 0HY
CATEGORIES:Comedy
ATTACH;FMTTYPE=image/jpeg:https://visitnewbury.org.uk/wp-content/uploads/2026/04/Joe-Wells-WBCF.jpg
END:VEVENT
END:VCALENDAR