BEGIN:VCALENDAR
VERSION:2.0
PRODID:-//Visit Newbury - ECPv6.13.2.1//NONSGML v1.0//EN
CALSCALE:GREGORIAN
METHOD:PUBLISH
X-ORIGINAL-URL:https://visitnewbury.org.uk
X-WR-CALDESC:Events for Visit Newbury
REFRESH-INTERVAL;VALUE=DURATION:PT1H
X-Robots-Tag:noindex
X-PUBLISHED-TTL:PT1H
BEGIN:VTIMEZONE
TZID:Europe/London
BEGIN:DAYLIGHT
TZOFFSETFROM:+0000
TZOFFSETTO:+0100
TZNAME:BST
DTSTART:20260329T010000
END:DAYLIGHT
BEGIN:STANDARD
TZOFFSETFROM:+0100
TZOFFSETTO:+0000
TZNAME:GMT
DTSTART:20261025T010000
END:STANDARD
END:VTIMEZONE
BEGIN:VEVENT
DTSTART;TZID=Europe/London:20260515T123000
DTEND;TZID=Europe/London:20260515T123000
DTSTAMP:20260421T131126
CREATED:20260130T122205Z
LAST-MODIFIED:20260130T122205Z
UID:12003250-1778848200-1778848200@visitnewbury.org.uk
SUMMARY:Starlight Charity Raceday
DESCRIPTION:Newbury Racecourse is proud to support the Starlight Charity with their very own raceday! \nStarlight uses the power of play to make the experience of illness and treatment better for children and their families. \nHead along for a Friday afternoon of racing in support of a brilliant children’s charity.
URL:https://visitnewbury.org.uk/event/starlight-charity-raceday-2026/
LOCATION:Newbury Racecourse\, Newbury Racecourse\, RG14 7NZ
CATEGORIES:Fundraising,Horse Racing
ATTACH;FMTTYPE=image/webp:https://visitnewbury.org.uk/wp-content/uploads/2026/01/Starlight-Charity-Raceday.webp
END:VEVENT
BEGIN:VEVENT
DTSTART;TZID=Europe/London:20260516T110000
DTEND;TZID=Europe/London:20260516T110000
DTSTAMP:20260421T131126
CREATED:20260130T122047Z
LAST-MODIFIED:20260130T122047Z
UID:12003251-1778929200-1778929200@visitnewbury.org.uk
SUMMARY:BOYLE Sports Lockinge with Ladies Day
DESCRIPTION:Newbury’s Group 1 showpiece\, the BOYLE Sports Lockinge with Ladies Day returns for 2026 and it’s the official start of summer at the Racecourse. \nSoak up the sun and get your heart racing with the show stopping Group 1 BOYLE Sports Lockinge Stakes and be ready to showcase your style with on-the-spot style awards. \nBe serenaded by live music throughout the day and when the racing concludes\, dance the evening away with our unforgettable afterparty. \nDon’t miss out on this fabulous weekend where the spirit of competition meets the elegance of fashion.
URL:https://visitnewbury.org.uk/event/boyle-sports-lockinge-with-ladies-day/
LOCATION:Newbury Racecourse\, Newbury Racecourse\, RG14 7NZ
CATEGORIES:Horse Racing
ATTACH;FMTTYPE=image/webp:https://visitnewbury.org.uk/wp-content/uploads/2026/01/BoyleSports-Lockinge-with-Ladies-Day.webp
END:VEVENT
BEGIN:VEVENT
DTSTART;TZID=Europe/London:20260517T081500
DTEND;TZID=Europe/London:20260517T081500
DTSTAMP:20260421T131126
CREATED:20260331T115955Z
LAST-MODIFIED:20260331T115955Z
UID:12003735-1779005700-1779005700@visitnewbury.org.uk
SUMMARY:JWS x MiLK & BEAN 5k Run Club
DESCRIPTION:Join for a morning run with JWS Fitness & Wellbeing in collaboration with MiLK & BEAN. \nThis 5K run is perfect for all fitness levels\, whether you’re an experienced runner or just looking to start your day right. \nMeet at 8:15am outside MiLK & BEAN\, with the run setting off promptly at 8:30am. The route will take you on a scenic route around the centre before finishing back at MiLK & BEAN\, where you can enjoy a well-deserved 20% discount on all drinks. \nMake sure you register for free via the link below.
URL:https://visitnewbury.org.uk/event/jws-x-milk-bean-5k-run-club-may2026/
LOCATION:MiLK & BEAN\, Milk & Bean\, RG14 1DJ
CATEGORIES:Fun Runs,Health & Wellbeing,Sport
ATTACH;FMTTYPE=image/jpeg:https://visitnewbury.org.uk/wp-content/uploads/2025/06/Milk-Bean-x-JWS-run-club.jpg
END:VEVENT
BEGIN:VEVENT
DTSTART;TZID=Europe/London:20260525T100000
DTEND;TZID=Europe/London:20260525T130000
DTSTAMP:20260421T131126
CREATED:20250502T154814Z
LAST-MODIFIED:20260331T141219Z
UID:12001959-1779703200-1779714000@visitnewbury.org.uk
SUMMARY:Newbury 10k
DESCRIPTION:The Newbury 10k returns in 2026 for its 16th event\, and the popular race has sold out once again! \nOn Monday 25th May\, head into Newbury town centre to support all the runners as they make their way around the course that takes in the streets of Newbury and the surrounding countryside. The main race starts at 10am in Market Place\, with two children’s races kicking off beforehand. \n\nKids Race: 9:10am\nUnder 15s Race: 9:20am\n10k: 10:00am\n\nThe race supports two fantastic local organisations – 100% of the profits will be split between Newbury AC and Swings & Smiles.
URL:https://visitnewbury.org.uk/event/newbury-10k/
LOCATION:Market Place\, Newbury\, Market Place\, Newbury
CATEGORIES:Community Events,Fundraising,Sport
ATTACH;FMTTYPE=image/jpeg:https://visitnewbury.org.uk/wp-content/uploads/2025/05/Newbury-10k-tile.jpg
END:VEVENT
BEGIN:VEVENT
DTSTART;TZID=Europe/London:20260601T123000
DTEND;TZID=Europe/London:20260601T123000
DTSTAMP:20260421T131126
CREATED:20260130T122006Z
LAST-MODIFIED:20260130T122033Z
UID:12003252-1780317000-1780317000@visitnewbury.org.uk
SUMMARY:BetVictor June Raceday
DESCRIPTION:Summer is here\, and what better way to celebrate than being trackside at Newbury! \nWith heart-pounding moments and the summer sun shining\, what more could you want from a raceday?
URL:https://visitnewbury.org.uk/event/betvictor-june-raceday/
LOCATION:Newbury Racecourse\, Newbury Racecourse\, RG14 7NZ
CATEGORIES:Horse Racing
ATTACH;FMTTYPE=image/webp:https://visitnewbury.org.uk/wp-content/uploads/2026/01/Newbury-Racecourse-June-Racedays.webp
END:VEVENT
BEGIN:VEVENT
DTSTART;TZID=Europe/London:20260611T123000
DTEND;TZID=Europe/London:20260611T123000
DTSTAMP:20260421T131126
CREATED:20260130T121923Z
LAST-MODIFIED:20260130T122040Z
UID:12003253-1781181000-1781181000@visitnewbury.org.uk
SUMMARY:June Raceday
DESCRIPTION:Enjoy a summer afternoon of thrilling racing at Newbury! \nSoak up the sunshine and excitement as the action unfolds on the track. \nWhether you’re a seasoned racegoer or joining us for the first time\, it’s the perfect way to spend a summer’s day.
URL:https://visitnewbury.org.uk/event/june-raceday/
LOCATION:Newbury Racecourse\, Newbury Racecourse\, RG14 7NZ
CATEGORIES:Horse Racing
ATTACH;FMTTYPE=image/webp:https://visitnewbury.org.uk/wp-content/uploads/2026/01/Newbury-Racecourse-June-Racedays.webp
END:VEVENT
BEGIN:VEVENT
DTSTART;TZID=Europe/London:20260623T160000
DTEND;TZID=Europe/London:20260623T160000
DTSTAMP:20260421T131126
CREATED:20260130T131016Z
LAST-MODIFIED:20260130T131016Z
UID:12003254-1782230400-1782230400@visitnewbury.org.uk
SUMMARY:BetVictor August Evening Raceday
DESCRIPTION:Relax after work and head along to enjoy a lovely summer’s evening racing. \nGather your friends\, family and colleagues and enjoy racing while the sun sets.
URL:https://visitnewbury.org.uk/event/betvictor-august-evening-raceday/
LOCATION:Newbury Racecourse\, Newbury Racecourse\, RG14 7NZ
CATEGORIES:Horse Racing
ATTACH;FMTTYPE=image/webp:https://visitnewbury.org.uk/wp-content/uploads/2026/01/August-Evening-Raceday.webp
END:VEVENT
BEGIN:VEVENT
DTSTART;TZID=Europe/London:20260702T163000
DTEND;TZID=Europe/London:20260702T163000
DTSTAMP:20260421T131126
CREATED:20260130T131239Z
LAST-MODIFIED:20260130T131239Z
UID:12003255-1783009800-1783009800@visitnewbury.org.uk
SUMMARY:Summer Evening Series Raceday with The 70s Disco
DESCRIPTION:Newbury Racecourse’s Summer Evening Series with Hits Radio returns for 2026 – and first up is The 70s Disco! \nGet ready for an unforgettable evening of thrilling flat racing\, complemented by 70s themed food\, refreshing cocktails\, and live music that will transport you straight to the funky era of disco!\nAnd that’s all before our 70s DJ gets their afterparty started – meaning you can boogie the night away. \nThe 70s Disco is the first of three Summer Evening Series racedays – with The Wild Wild West and The Ibiza Beach Club also in store. \nA three-party pass offers the best value for a July full of fun. Book early and save with Under 18s going free and discounts for groups of seven or more.
URL:https://visitnewbury.org.uk/event/summer-evening-series-raceday-with-the-70s-disco-2026/
LOCATION:Newbury Racecourse\, Newbury Racecourse\, RG14 7NZ
CATEGORIES:Horse Racing,Music
ATTACH;FMTTYPE=image/jpeg:https://visitnewbury.org.uk/wp-content/uploads/2026/01/70S-Disco-Newbury-Racecourse.jpg
END:VEVENT
BEGIN:VEVENT
DTSTART;TZID=Europe/London:20260709T163000
DTEND;TZID=Europe/London:20260709T163000
DTSTAMP:20260421T131126
CREATED:20260130T131233Z
LAST-MODIFIED:20260130T131233Z
UID:12003256-1783614600-1783614600@visitnewbury.org.uk
SUMMARY:Summer Evening Series Raceday with The Wild Wild West
DESCRIPTION:Newbury Racecourse’s Summer Evening Series with Hits Radio returns for 2026 – and saddle up\, as the Wild Wild West is coming to town! \nEnjoy an evening of exhilarating flat racing\, complemented by western-themed food and drink\, live music and an afterparty\, which will guarantee to get you boot’n and scoot’n on the dance floor. \nThe Wild Wild West is the second of three Summer Evening Series racedays with Hits Radio – with The 70s Disco and The Ibiza Beach Club also in store in July. \nA three-party pass offers the best value for a July full of fun – book early and save with Under 18s going free and discounts for groups of seven or more.
URL:https://visitnewbury.org.uk/event/summer-evening-series-raceday-with-the-wild-wild-west-2026/
LOCATION:Newbury Racecourse\, Newbury Racecourse\, RG14 7NZ
CATEGORIES:Food & Drink,Horse Racing,Music
ATTACH;FMTTYPE=image/jpeg:https://visitnewbury.org.uk/wp-content/uploads/2026/01/Wild-West-Newbury-Racecourse.jpg
END:VEVENT
BEGIN:VEVENT
DTSTART;TZID=Europe/London:20260717T123000
DTEND;TZID=Europe/London:20260717T123000
DTSTAMP:20260421T131126
CREATED:20260130T131441Z
LAST-MODIFIED:20260130T131559Z
UID:12003258-1784291400-1784291400@visitnewbury.org.uk
SUMMARY:IRE Incentive Raceday with the Gipsy Kings
DESCRIPTION:Newbury Racecourse welcomes the Grammy Award-winning Gipsy Kings – led by iconic frontman Nicolas Reyes – as they perform live after racing on IRE Incentive Raceday. \nGrammy Award-winning legends\, the Gipsy Kings\, bring their iconic fusion of flamenco\, pop\, and Latin rhythms to the Party in the Paddock stage on Friday 17th July. With global hits like Bamboléo and Volare\, and over 14 million albums sold\, Nicolas Reyes and his band promise a truly iconic headline performance. \nAs well as the racing and Gipsy Kings’s performance there’s so much else to look forward to across the day.
URL:https://visitnewbury.org.uk/event/ire-incentive-raceday-with-the-gipsy-kings/
LOCATION:Newbury Racecourse\, Newbury Racecourse\, RG14 7NZ
CATEGORIES:Horse Racing,Live Music
ATTACH;FMTTYPE=image/jpeg:https://visitnewbury.org.uk/wp-content/uploads/2026/01/Gipsy-Kings.jpg
END:VEVENT
BEGIN:VEVENT
DTSTART;TZID=Europe/London:20260718T110000
DTEND;TZID=Europe/London:20260718T110000
DTSTAMP:20260421T131126
CREATED:20260130T131447Z
LAST-MODIFIED:20260130T131534Z
UID:12003259-1784372400-1784372400@visitnewbury.org.uk
SUMMARY:Weatherbys Super Sprint Day with Ronan Keating
DESCRIPTION:Newbury Racecourse welcomes Ronan Keating – the Boyzone legend turned solo superstar – on Saturday 18th July as he performs live after racing on Weatherbys Super Sprint. \nFor the first time since Boyzone launched the Racecourse’s iconic Party in the Paddock series back in 2008\, Ronan Keating is set to take the stage after racing for an unforgettable live performance. \nWith a career spanning almost 30 years\, the Boyzone legend turned solo superstar has sold over 20 million records worldwide and continues to captivate audiences with his timeless hits. Expect an emotionally charged\, hit-packed set featuring fan favourites like When You Say Nothing At All\, Life Is a Rollercoaster\, If Tomorrow Never Comes\, and Lovin’ Each Day\, alongside beloved Boyzone classics. \nAs well as the racing and Ronan Keating’s performance there’s so much else to look forward to across the day.
URL:https://visitnewbury.org.uk/event/weatherbys-super-sprint-day-with-ronan-keating/
LOCATION:Newbury Racecourse\, Newbury Racecourse\, RG14 7NZ
CATEGORIES:Horse Racing,Live Music
ATTACH;FMTTYPE=image/jpeg:https://visitnewbury.org.uk/wp-content/uploads/2026/01/Ronan-Keating.jpg
END:VEVENT
BEGIN:VEVENT
DTSTART;TZID=Europe/London:20260723T164500
DTEND;TZID=Europe/London:20260723T164500
DTSTAMP:20260421T131126
CREATED:20260130T131229Z
LAST-MODIFIED:20260130T131229Z
UID:12003257-1784825100-1784825100@visitnewbury.org.uk
SUMMARY:Summer Evening Series Raceday with The Ibiza Beach Club
DESCRIPTION:Newbury Racecourse’s Summer Evening Series with Hits Radio returns for 2026 – and the three-night series rounds out with The Ibiza Beach Club! \nThink classic Ibiza vibes as you enjoy an evening of exhilarating flat racing alongside delicious sea-side inspired refreshments\, live music and an afterparty Ibiza itself would be proud of. \nThe Ibiza Beach Club is the final of three Summer Evening Series racedays with Hits Radio – with The 70s Disco and The Wild Wild West in store in July. \nA three-party pass offers the best value for a July full of fun – book early and save with Under 18s going free and discounts for groups of seven or more.
URL:https://visitnewbury.org.uk/event/summer-evening-series-raceday-with-the-ibiza-beach-club-2026/
LOCATION:Newbury Racecourse\, Newbury Racecourse\, RG14 7NZ
CATEGORIES:Horse Racing,Music
ATTACH;FMTTYPE=image/jpeg:https://visitnewbury.org.uk/wp-content/uploads/2026/01/Ibiza-Beach-Club-Newbury-Racecourse.jpg
END:VEVENT
BEGIN:VEVENT
DTSTART;TZID=Europe/London:20260814T130000
DTEND;TZID=Europe/London:20260814T130000
DTSTAMP:20260421T131126
CREATED:20260130T131501Z
LAST-MODIFIED:20260225T091310Z
UID:12003260-1786712400-1786712400@visitnewbury.org.uk
SUMMARY:Visit Malta Hungerford Weekend With Tinie Tempah
DESCRIPTION:Newbury Racecourse welcomes Brit Award winning rapper and cultural icon Tinie Tempah\, performing live after racing on Visit Malta Hungerford Weekend. \nMulti?platinum recording artist Tinie Tempah brings his chart?topping energy to the Party in the Paddock stage on Friday 14th August. \nWith global hits including Pass Out\, Written in the Stars and Girls Like (feat. Zara Larsson)\, and a career that has defined a generation of British music\, Tinie Tempah promises a high?energy headline set packed with unforgettable anthems. \nAs well as the racing and Tinie Tempah’s performance there’s so much else to look forward to across the day.
URL:https://visitnewbury.org.uk/event/visit-malta-hungerford-weekend-with-tinie-tempah/
LOCATION:Newbury Racecourse\, Newbury Racecourse\, RG14 7NZ
CATEGORIES:Horse Racing,Live Music
ATTACH;FMTTYPE=image/jpeg:https://visitnewbury.org.uk/wp-content/uploads/2026/01/Tinie-Tempah-Newbury-Racecourse.jpg
END:VEVENT
BEGIN:VEVENT
DTSTART;TZID=Europe/London:20260815T120000
DTEND;TZID=Europe/London:20260815T120000
DTSTAMP:20260421T131126
CREATED:20260130T131501Z
LAST-MODIFIED:20260225T091325Z
UID:12003261-1786795200-1786795200@visitnewbury.org.uk
SUMMARY:Visit Malta Hungerford Weekend with Jessie J
DESCRIPTION:Multi‑platinum singer‑songwriter Jessie J brings her powerhouse vocals to the Party in the Paddock stage on Saturday 15th August. \nWith global hits including Price Tag and Domino\, and a career defined by show‑stopping performances and unmatched vocal talent\, Jessie J promises a dynamic\, crowd‑lifting headline set packed with anthems that have dominated charts worldwide. \nAs well as the racing and Jessie J’s performance there’s so much else to look forward to across the day.
URL:https://visitnewbury.org.uk/event/visit-malta-hungerford-weekend-with-jessie-j/
LOCATION:Newbury Racecourse\, Newbury Racecourse\, RG14 7NZ
CATEGORIES:Horse Racing,Live Music
ATTACH;FMTTYPE=image/jpeg:https://visitnewbury.org.uk/wp-content/uploads/2026/01/Visit-Malta-day-with-Jessie-J.jpg
END:VEVENT
BEGIN:VEVENT
DTSTART;TZID=Europe/London:20260826T143000
DTEND;TZID=Europe/London:20260826T143000
DTSTAMP:20260421T131126
CREATED:20260130T131741Z
LAST-MODIFIED:20260130T131947Z
UID:12003262-1787754600-1787754600@visitnewbury.org.uk
SUMMARY:August Evening Raceday
DESCRIPTION:What’s better than an evening at the racing? A summer’s evening racing. \nAnd that’s just what’s in store at Newbury Racecourse on Wednesday 26th August – enjoy an exciting evening of flat racing as the late-August sun sets.
URL:https://visitnewbury.org.uk/event/august-evening-raceday-2026/
LOCATION:Newbury Racecourse\, Newbury Racecourse\, RG14 7NZ
CATEGORIES:Horse Racing
ATTACH;FMTTYPE=image/webp:https://visitnewbury.org.uk/wp-content/uploads/2026/01/August-Evening-Raceday.webp
END:VEVENT
BEGIN:VEVENT
DTSTART;TZID=Europe/London:20260918T123000
DTEND;TZID=Europe/London:20260918T123000
DTSTAMP:20260421T131126
CREATED:20260130T131848Z
LAST-MODIFIED:20260130T131848Z
UID:12003263-1789734600-1789734600@visitnewbury.org.uk
SUMMARY:Dubai Duty Free International (Friday)
DESCRIPTION:A big two days of racing gets underway as the Dubai Duty Free International Weekend returns for 2026. \nEnjoy an afternoon of top-quality flat racing while immersing yourself in Dubai’s vibrant culture\, with opportunities to participate in exclusive prize draws – including the chance to win entry into Dubai Duty Free’s famous Millennium Millionaire giveaway.
URL:https://visitnewbury.org.uk/event/dubai-duty-free-international-friday-2026/
LOCATION:Newbury Racecourse\, Newbury Racecourse\, RG14 7NZ
CATEGORIES:Horse Racing
ATTACH;FMTTYPE=image/webp:https://visitnewbury.org.uk/wp-content/uploads/2026/01/DDF-International-Weekend_Friday-2026.webp
END:VEVENT
BEGIN:VEVENT
DTSTART;TZID=Europe/London:20260919T113000
DTEND;TZID=Europe/London:20260919T113000
DTSTAMP:20260421T131126
CREATED:20260130T131843Z
LAST-MODIFIED:20260130T131843Z
UID:12003264-1789817400-1789817400@visitnewbury.org.uk
SUMMARY:Dubai Duty Free International (Saturday)
DESCRIPTION:Dubai Duty Free International returns for 2026! \nEnjoy an afternoon of top-quality flat racing\, while immersing yourself in the vibrant culture of Dubai. Racegoers will have the chance to take part in exclusive prize draws\, including entry into Dubai Duty Free’s famous Millennium Millionaire giveaway.
URL:https://visitnewbury.org.uk/event/dubai-duty-free-international-saturday-2026/
LOCATION:Newbury Racecourse\, Newbury Racecourse\, RG14 7NZ
CATEGORIES:Horse Racing
ATTACH;FMTTYPE=image/webp:https://visitnewbury.org.uk/wp-content/uploads/2026/01/DDF-International-Weekend_Saturday-2026.webp
END:VEVENT
BEGIN:VEVENT
DTSTART;TZID=Europe/London:20260920T093000
DTEND;TZID=Europe/London:20260920T160000
DTSTAMP:20260421T131126
CREATED:20250905T003417Z
LAST-MODIFIED:20260413T115229Z
UID:12002274-1789896600-1789920000@visitnewbury.org.uk
SUMMARY:One Community Cricket and Family Fun Day
DESCRIPTION:Community United hosts its One Community Cricket & Family Fun Day at Falkland Cricket Club\, a community event bringing people from all walks of life together for fun day out. \nThere will be cricket all day (if you fancy taking part\, it’s soft-ball cricket with 6 players per team)\, children’s activities community stalls\, delicious food vendors\, and more. \nKeep up to date with the latest updates on the Community United page – see the link below.
URL:https://visitnewbury.org.uk/event/one-community-cricket-and-family-fun-day/
LOCATION:Falkland Cricket Club\, Falkland Cricket Club\, RG14 6TW
CATEGORIES:Community Events,Sport
ATTACH;FMTTYPE=image/jpeg:https://visitnewbury.org.uk/wp-content/uploads/2025/09/Community-United-One-Community-Cricket-and-Family-Fun-Day.jpg
END:VEVENT
BEGIN:VEVENT
DTSTART;TZID=Europe/London:20261023T120000
DTEND;TZID=Europe/London:20261023T120000
DTSTAMP:20260421T131126
CREATED:20260130T132214Z
LAST-MODIFIED:20260130T132435Z
UID:12003265-1792756800-1792756800@visitnewbury.org.uk
SUMMARY:BetVictor Flat Finale with Oktoberfest (Friday)
DESCRIPTION:The flat season’s final weekend gets underway in style as Oktoberfest celebrations return for BetVictor’s raceday on Friday 23rd October. \nThe Racecourse will be transformed into a traditional Bavarian party – complete with bierkeller\, bratwurst\, oompah bands and lederhosen – as a two-day Oktoberfest celebration gets underway.\nAnd of course\, there’s still the matter of an afternoon’s thrilling flat racing on the track to complement the party off it.
URL:https://visitnewbury.org.uk/event/betvictor-flat-finale-with-oktoberfest-friday-2026/
LOCATION:Newbury Racecourse\, Newbury Racecourse\, RG14 7NZ
CATEGORIES:Food & Drink,Horse Racing,Live Music
ATTACH;FMTTYPE=image/webp:https://visitnewbury.org.uk/wp-content/uploads/2026/01/BetVictor-Flat-Finale-with-Oktoberfest-Friday.webp
END:VEVENT
BEGIN:VEVENT
DTSTART;TZID=Europe/London:20261024T113000
DTEND;TZID=Europe/London:20261024T113000
DTSTAMP:20260421T131126
CREATED:20260130T132217Z
LAST-MODIFIED:20260130T132324Z
UID:12003266-1792841400-1792841400@visitnewbury.org.uk
SUMMARY:BetVictor Flat Finale with Oktoberfest (Saturday)
DESCRIPTION:The final day of the 2026 flat season arrives with the BetVictor Flat Finale with Oktoberfest on Saturday 24th October. \nThe Racecourse will be transformed into a traditional Bavarian party – complete with bierkeller\, bratwurst\, oompah bands and lederhosen – as a two-day Oktoberfest celebration arrives. \nAnd of course\, there’s still the matter of an afternoon’s thrilling flat racing on the track to complement the party off it.
URL:https://visitnewbury.org.uk/event/betvictor-flat-finale-with-oktoberfest-saturday-2026/
LOCATION:Newbury Racecourse\, Newbury Racecourse\, RG14 7NZ
CATEGORIES:Food & Drink,Horse Racing,Live Music
ATTACH;FMTTYPE=image/webp:https://visitnewbury.org.uk/wp-content/uploads/2026/01/BetVictor-Flat-Finale-with-Oktoberfest-Saturday.webp
END:VEVENT
BEGIN:VEVENT
DTSTART;TZID=Europe/London:20261105T110000
DTEND;TZID=Europe/London:20261105T110000
DTSTAMP:20260421T131126
CREATED:20260130T132200Z
LAST-MODIFIED:20260130T132320Z
UID:12003267-1793876400-1793876400@visitnewbury.org.uk
SUMMARY:BetVictor Jumps Season Opener
DESCRIPTION:It’s back – celebrate the return of the Jumps season here in Newbury. \nNewbury’s 2026/27 Jumps season bursts into action with an afternoon of thrilling racing – expect big drama\, bold moves\, and unforgettable moments as the excitement builds for the season ahead.
URL:https://visitnewbury.org.uk/event/betvictor-jumps-season-opener-2026/
LOCATION:Newbury Racecourse\, Newbury Racecourse\, RG14 7NZ
CATEGORIES:Horse Racing
ATTACH;FMTTYPE=image/webp:https://visitnewbury.org.uk/wp-content/uploads/2026/01/BetVictor-Jumps-Season-Opener-2026.webp
END:VEVENT
BEGIN:VEVENT
DTSTART;TZID=Europe/London:20261127T103000
DTEND;TZID=Europe/London:20261127T103000
DTSTAMP:20260421T131126
CREATED:20260130T132249Z
LAST-MODIFIED:20260130T132427Z
UID:12003268-1795775400-1795775400@visitnewbury.org.uk
SUMMARY:Coral Long Distance Hurdle Day
DESCRIPTION:The big one’s back – the two-day Coral Gold Cup meeting gets underway on Friday 27th November with Coral Long Distance Hurdle Day. \nKick off the festive season in style with a big day’s racing followed by an afterparty in our famous Coral marquee with a whole host of activation and entertainment available across the Racecourse on what’s always a memorable day. \nWe’ve been treated to thrilling race in the past – think Champ vs Paisley Park – and we’re expecting nothing different this time around.
URL:https://visitnewbury.org.uk/event/coral-long-distance-hurdle-day-2026/
LOCATION:Newbury Racecourse\, Newbury Racecourse\, RG14 7NZ
CATEGORIES:Horse Racing
ATTACH;FMTTYPE=image/webp:https://visitnewbury.org.uk/wp-content/uploads/2026/01/Coral-Long-Distance-Hurdle-Day.webp
END:VEVENT
BEGIN:VEVENT
DTSTART;TZID=Europe/London:20261128T100000
DTEND;TZID=Europe/London:20261128T100000
DTSTAMP:20260421T131126
CREATED:20260130T132349Z
LAST-MODIFIED:20260130T132417Z
UID:12003269-1795860000-1795860000@visitnewbury.org.uk
SUMMARY:Coral Gold Cup Day
DESCRIPTION:It doesn’t get much bigger than this – the Coral Gold Cup returns\, promising high-stakes drama\, fierce competition\, and a chance to witness racing history in the making. \nThe feature day of the Coral Gold Cup weekend arrives on Saturday 28th November and includes the £250\,000 Coral Gold Cup race. \nGet the festive season started right with our biggest day of Jumps racing followed by an afterparty in our famous Coral marquee with a whole host of activation and entertainment available across the Racecourse throughout the day.
URL:https://visitnewbury.org.uk/event/coral-gold-cup-day-2026/
LOCATION:Newbury Racecourse\, Newbury Racecourse\, RG14 7NZ
CATEGORIES:Horse Racing
ATTACH;FMTTYPE=image/webp:https://visitnewbury.org.uk/wp-content/uploads/2026/01/Coral-Gold-Cup.webp
END:VEVENT
BEGIN:VEVENT
DTSTART;TZID=Europe/London:20261216T100000
DTEND;TZID=Europe/London:20261216T100000
DTSTAMP:20260421T131126
CREATED:20260130T132608Z
LAST-MODIFIED:20260130T132608Z
UID:12003270-1797415200-1797415200@visitnewbury.org.uk
SUMMARY:BetVictor Christmas Raceday
DESCRIPTION:Christmas gets started early at Newbury courtesy of our BetVictor Christmas Raceday on Wednesday 16th December. \nEnjoy a day’s Jumps racing with friends and family – all while getting in the festive spirit.
URL:https://visitnewbury.org.uk/event/betvictor-christmas-raceday-2026/
LOCATION:Newbury Racecourse\, Newbury Racecourse\, RG14 7NZ
CATEGORIES:Christmas,Horse Racing
ATTACH;FMTTYPE=image/webp:https://visitnewbury.org.uk/wp-content/uploads/2026/01/BetVictor-Christmas-Raceday.webp
END:VEVENT
BEGIN:VEVENT
DTSTART;TZID=Europe/London:20261228T100000
DTEND;TZID=Europe/London:20261228T100000
DTSTAMP:20260421T131126
CREATED:20260130T132628Z
LAST-MODIFIED:20260130T132628Z
UID:12003271-1798452000-1798452000@visitnewbury.org.uk
SUMMARY:Coral Challow Hurdle
DESCRIPTION:Family fun returns to Newbury on Saturday 28th December as the Coral Challow Hurdle Day arrives. \nSituated ideally between Christmas and New Year it’s the perfect excuse to get family and friends together and enjoy a day out at the races – but then again\, who needs an excuse. \nThe day – which features the Grade 1 Coral Challow Hurdle on the track – also boasts a host of free family-friendly activities and fun off it.
URL:https://visitnewbury.org.uk/event/coral-challow-hurdle-2026/
LOCATION:Newbury Racecourse\, Newbury Racecourse\, RG14 7NZ
CATEGORIES:Christmas,Horse Racing
ATTACH;FMTTYPE=image/webp:https://visitnewbury.org.uk/wp-content/uploads/2026/01/Coral-Challow-Hurdle.webp
END:VEVENT
END:VCALENDAR