BEGIN:VCALENDAR
VERSION:2.0
PRODID:-//Visit Newbury - ECPv6.13.2.1//NONSGML v1.0//EN
CALSCALE:GREGORIAN
METHOD:PUBLISH
X-ORIGINAL-URL:https://visitnewbury.org.uk
X-WR-CALDESC:Events for Visit Newbury
REFRESH-INTERVAL;VALUE=DURATION:PT1H
X-Robots-Tag:noindex
X-PUBLISHED-TTL:PT1H
BEGIN:VTIMEZONE
TZID:Europe/London
BEGIN:DAYLIGHT
TZOFFSETFROM:+0000
TZOFFSETTO:+0100
TZNAME:BST
DTSTART:20250330T010000
END:DAYLIGHT
BEGIN:STANDARD
TZOFFSETFROM:+0100
TZOFFSETTO:+0000
TZNAME:GMT
DTSTART:20251026T010000
END:STANDARD
END:VTIMEZONE
BEGIN:VEVENT
DTSTART;TZID=Europe/London:20250807T170000
DTEND;TZID=Europe/London:20250807T223000
DTSTAMP:20260425T162949
CREATED:20250620T113716Z
LAST-MODIFIED:20250623T105516Z
UID:12002121-1754586000-1754605800@visitnewbury.org.uk
SUMMARY:Late Night Shopping and Dining
DESCRIPTION:Make the most of the summer evenings as shops across Newbury town centre stay open until 7pm for these two special late-night shopping events. \nIt’s the perfect chance to pop in after work\, pick up a few essentials\, or enjoy a relaxed browse – whether you’re treating yourself or shopping for someone else! \nWhy not pair your visit with a meal out? With a fantastic mix of independent eateries and well-loved high street names\, Newbury’s hospitality scene is the ideal way to round off your evening. \nAnd best of all? There will be FREE parking at the Camp Hopson car park from 5pm. \nSupport local\, shop until 7… and dine until late! \nYou can find the full list of retailers staying open at the link below.
URL:https://visitnewbury.org.uk/event/late-night-shopping-and-dining-august/
LOCATION:Newbury Town Centre\, Newbury Town Centre\, RG15 5AA
CATEGORIES:Food & Drink,Pub & Restaurant Events,Shopping
ATTACH;FMTTYPE=image/jpeg:https://visitnewbury.org.uk/wp-content/uploads/2025/06/latenight_eventaug.jpg
END:VEVENT
BEGIN:VEVENT
DTSTART;TZID=Europe/London:20250808T180000
DTEND;TZID=Europe/London:20250808T230000
DTSTAMP:20260425T162950
CREATED:20250807T215215Z
LAST-MODIFIED:20250807T215428Z
UID:12002173-1754676000-1754694000@visitnewbury.org.uk
SUMMARY:Retro Festival
DESCRIPTION:Step back in time and soak up the sights and sounds of yesteryear as Retro Festival returns to Newbury Showground for its 25th anniversary! \nWith three fantastic stages celebrating 60 years of iconic hits\, there’s live music\, dancing\, and non-stop entertainment all weekend long. \nWander among an incredible line-up of vintage vehicles – from gleaming classic cars and retro campervans to military motors and more – or make the most of the funfair rides\, sideshows\, street food\, and buzzing bars. \nThis is one for the vintage lovers\, music fans\, or anyone simply looking for a great day out. \nThe festival is open on Friday 8th (6pm until 11pm)\, Saturday 9th and Sunday 10th August (10am until 11pm both days). \nLearn more or book your tickets via the link below.
URL:https://visitnewbury.org.uk/event/retro-festival-fri/
LOCATION:Newbury Showground\, Newbury Showground\, RG18 9QZ
CATEGORIES:Food & Drink,Music,Shopping
ATTACH;FMTTYPE=image/jpeg:https://visitnewbury.org.uk/wp-content/uploads/2025/08/Retro-Festival.jpg
END:VEVENT
BEGIN:VEVENT
DTSTART;TZID=Europe/London:20250809T100000
DTEND;TZID=Europe/London:20250809T230000
DTSTAMP:20260425T162950
CREATED:20250807T215545Z
LAST-MODIFIED:20250807T215545Z
UID:12002174-1754733600-1754780400@visitnewbury.org.uk
SUMMARY:Retro Festival
DESCRIPTION:Step back in time and soak up the sights and sounds of yesteryear as Retro Festival returns to Newbury Showground for its 25th anniversary! \nWith three fantastic stages celebrating 60 years of iconic hits\, there’s live music\, dancing\, and non-stop entertainment all weekend long. \nWander among an incredible line-up of vintage vehicles – from gleaming classic cars and retro campervans to military motors and more – or make the most of the funfair rides\, sideshows\, street food\, and buzzing bars. \nThis is one for the vintage lovers\, music fans\, or anyone simply looking for a great day out. \nThe festival is open on Friday 8th (6pm until 11pm)\, Saturday 9th and Sunday 10th August (10am until 11pm both days). \nLearn more or book your tickets via the link below.
URL:https://visitnewbury.org.uk/event/retro-festival-sat/
LOCATION:Newbury Showground\, Newbury Showground\, RG18 9QZ
CATEGORIES:Food & Drink,Music,Shopping
ATTACH;FMTTYPE=image/jpeg:https://visitnewbury.org.uk/wp-content/uploads/2025/08/Retro-Festival.jpg
END:VEVENT
BEGIN:VEVENT
DTSTART;TZID=Europe/London:20250810T100000
DTEND;TZID=Europe/London:20250810T230000
DTSTAMP:20260425T162950
CREATED:20250807T215656Z
LAST-MODIFIED:20250807T215656Z
UID:12002175-1754820000-1754866800@visitnewbury.org.uk
SUMMARY:Retro Festival
DESCRIPTION:Step back in time and soak up the sights and sounds of yesteryear as Retro Festival returns to Newbury Showground for its 25th anniversary! \nWith three fantastic stages celebrating 60 years of iconic hits\, there’s live music\, dancing\, and non-stop entertainment all weekend long. \nWander among an incredible line-up of vintage vehicles – from gleaming classic cars and retro campervans to military motors and more – or make the most of the funfair rides\, sideshows\, street food\, and buzzing bars. \nThis is one for the vintage lovers\, music fans\, or anyone simply looking for a great day out. \nThe festival is open on Friday 8th (6pm until 11pm)\, Saturday 9th and Sunday 10th August (10am until 11pm both days). \nLearn more or book your tickets via the link below.
URL:https://visitnewbury.org.uk/event/retro-festival-sun/
LOCATION:Newbury Showground\, Newbury Showground\, RG18 9QZ
CATEGORIES:Food & Drink,Music,Shopping
ATTACH;FMTTYPE=image/jpeg:https://visitnewbury.org.uk/wp-content/uploads/2025/08/Retro-Festival.jpg
END:VEVENT
END:VCALENDAR