BEGIN:VCALENDAR
VERSION:2.0
PRODID:-//Visit Newbury - ECPv6.13.2.1//NONSGML v1.0//EN
CALSCALE:GREGORIAN
METHOD:PUBLISH
X-ORIGINAL-URL:https://visitnewbury.org.uk
X-WR-CALDESC:Events for Visit Newbury
REFRESH-INTERVAL;VALUE=DURATION:PT1H
X-Robots-Tag:noindex
X-PUBLISHED-TTL:PT1H
BEGIN:VTIMEZONE
TZID:Europe/London
BEGIN:DAYLIGHT
TZOFFSETFROM:+0000
TZOFFSETTO:+0100
TZNAME:BST
DTSTART:20260329T010000
END:DAYLIGHT
BEGIN:STANDARD
TZOFFSETFROM:+0100
TZOFFSETTO:+0000
TZNAME:GMT
DTSTART:20261025T010000
END:STANDARD
END:VTIMEZONE
BEGIN:VEVENT
DTSTART;TZID=Europe/London:20260201T180000
DTEND;TZID=Europe/London:20260201T180000
DTSTAMP:20260420T134540
CREATED:20250930T095325Z
LAST-MODIFIED:20260209T141619Z
UID:12002359-1769968800-1769968800@visitnewbury.org.uk
SUMMARY:Quiz Night at Cobrizo Lounge
DESCRIPTION:Quiz nights at Cobrizo Lounge\, every Sunday at 6pm. \n£2 per person to enter\, maximum 6 people per team\, and the best part… half the proceeds go to charity! \n\nFirst prize is the prize pot and a £20 gift voucher.\nSecond prize is £10 Gift voucher\nThird prize is a bottle of wine (needs to be drunk on the night in The Lounge)\n\nTo book\, head to their website (below)\, email cobrizo@thelounges.co.uk\, or call 01635 523 372.
URL:https://visitnewbury.org.uk/event/quiz-night-at-cobrizo-lounge-2/2026-02-01/
LOCATION:Cobrizo Lounge\, Cobrizo Lounge\, RG14 1DJ
CATEGORIES:Pub & Restaurant Events,Quiz
ATTACH;FMTTYPE=image/jpeg:https://visitnewbury.org.uk/wp-content/uploads/2025/02/Cobrizo-Lounge.jpg
END:VEVENT
BEGIN:VEVENT
DTSTART;TZID=Europe/London:20260203T193000
DTEND;TZID=Europe/London:20260203T193000
DTSTAMP:20260420T134540
CREATED:20250904T231205Z
LAST-MODIFIED:20260209T141545Z
UID:12002252-1770147000-1770147000@visitnewbury.org.uk
SUMMARY:Pub Quiz at The High Horse
DESCRIPTION:Newbury\, are you feeling clever? \nJoin The High Horse for their weekly pub quiz\, every Tuesday from 7:30pm. \nThink plenty of pints and bragging rights… plus a £50 bar tab for the winning team! \nBook via the link below.
URL:https://visitnewbury.org.uk/event/pub-quiz-at-the-high-horse/2026-02-03/
LOCATION:The High Horse\, The High Horse\, RG14 1JX
CATEGORIES:Pub & Restaurant Events,Quiz
ATTACH;FMTTYPE=image/jpeg:https://visitnewbury.org.uk/wp-content/uploads/2025/09/The-High-Horse-Pub-Quiz-e1757026974597.jpg
END:VEVENT
BEGIN:VEVENT
DTSTART;TZID=Europe/London:20260208T180000
DTEND;TZID=Europe/London:20260208T180000
DTSTAMP:20260420T134540
CREATED:20250930T095325Z
LAST-MODIFIED:20260209T141619Z
UID:12002360-1770573600-1770573600@visitnewbury.org.uk
SUMMARY:Quiz Night at Cobrizo Lounge
DESCRIPTION:Quiz nights at Cobrizo Lounge\, every Sunday at 6pm. \n£2 per person to enter\, maximum 6 people per team\, and the best part… half the proceeds go to charity! \n\nFirst prize is the prize pot and a £20 gift voucher.\nSecond prize is £10 Gift voucher\nThird prize is a bottle of wine (needs to be drunk on the night in The Lounge)\n\nTo book\, head to their website (below)\, email cobrizo@thelounges.co.uk\, or call 01635 523 372.
URL:https://visitnewbury.org.uk/event/quiz-night-at-cobrizo-lounge-2/2026-02-08/
LOCATION:Cobrizo Lounge\, Cobrizo Lounge\, RG14 1DJ
CATEGORIES:Pub & Restaurant Events,Quiz
ATTACH;FMTTYPE=image/jpeg:https://visitnewbury.org.uk/wp-content/uploads/2025/02/Cobrizo-Lounge.jpg
END:VEVENT
BEGIN:VEVENT
DTSTART;TZID=Europe/London:20260210T193000
DTEND;TZID=Europe/London:20260210T193000
DTSTAMP:20260420T134541
CREATED:20250904T231205Z
LAST-MODIFIED:20260209T141545Z
UID:12002253-1770751800-1770751800@visitnewbury.org.uk
SUMMARY:Pub Quiz at The High Horse
DESCRIPTION:Newbury\, are you feeling clever? \nJoin The High Horse for their weekly pub quiz\, every Tuesday from 7:30pm. \nThink plenty of pints and bragging rights… plus a £50 bar tab for the winning team! \nBook via the link below.
URL:https://visitnewbury.org.uk/event/pub-quiz-at-the-high-horse/2026-02-10/
LOCATION:The High Horse\, The High Horse\, RG14 1JX
CATEGORIES:Pub & Restaurant Events,Quiz
ATTACH;FMTTYPE=image/jpeg:https://visitnewbury.org.uk/wp-content/uploads/2025/09/The-High-Horse-Pub-Quiz-e1757026974597.jpg
END:VEVENT
BEGIN:VEVENT
DTSTART;TZID=Europe/London:20260215T180000
DTEND;TZID=Europe/London:20260215T180000
DTSTAMP:20260420T134541
CREATED:20250930T095325Z
LAST-MODIFIED:20260209T141619Z
UID:12002361-1771178400-1771178400@visitnewbury.org.uk
SUMMARY:Quiz Night at Cobrizo Lounge
DESCRIPTION:Quiz nights at Cobrizo Lounge\, every Sunday at 6pm. \n£2 per person to enter\, maximum 6 people per team\, and the best part… half the proceeds go to charity! \n\nFirst prize is the prize pot and a £20 gift voucher.\nSecond prize is £10 Gift voucher\nThird prize is a bottle of wine (needs to be drunk on the night in The Lounge)\n\nTo book\, head to their website (below)\, email cobrizo@thelounges.co.uk\, or call 01635 523 372.
URL:https://visitnewbury.org.uk/event/quiz-night-at-cobrizo-lounge-2/2026-02-15/
LOCATION:Cobrizo Lounge\, Cobrizo Lounge\, RG14 1DJ
CATEGORIES:Pub & Restaurant Events,Quiz
ATTACH;FMTTYPE=image/jpeg:https://visitnewbury.org.uk/wp-content/uploads/2025/02/Cobrizo-Lounge.jpg
END:VEVENT
BEGIN:VEVENT
DTSTART;TZID=Europe/London:20260217T190000
DTEND;TZID=Europe/London:20260217T210000
DTSTAMP:20260420T134541
CREATED:20260209T135830Z
LAST-MODIFIED:20260209T135908Z
UID:12003373-1771354800-1771362000@visitnewbury.org.uk
SUMMARY:Quiz Night at the Coat & Bear
DESCRIPTION:The Coat & Bear hosts a weekly quiz night every Tuesday at 7pm. \nMaximum teams of 6 people\, with entry costing £2pp. \nThere are some great prizes to be won too: \n\n1st place: £40 Heartwood Inns voucher\n2nd to last place: a bottle of house wine\n\nYou can book a table by calling the Coat & Bear on 01635 283091\, email newbury@heartwoodinns.com\, or by sending a DM on social media.
URL:https://visitnewbury.org.uk/event/quiz-night-at-the-coat-bear/2026-02-17/
LOCATION:The Coat & Bear\, The Coat & Bear\, RG14 5EU
CATEGORIES:Quiz
ATTACH;FMTTYPE=image/jpeg:https://visitnewbury.org.uk/wp-content/uploads/2026/02/Coat-Bear-Quiz-Night.jpg
END:VEVENT
BEGIN:VEVENT
DTSTART;TZID=Europe/London:20260217T193000
DTEND;TZID=Europe/London:20260217T193000
DTSTAMP:20260420T134541
CREATED:20250904T231205Z
LAST-MODIFIED:20260209T141545Z
UID:12002254-1771356600-1771356600@visitnewbury.org.uk
SUMMARY:Pub Quiz at The High Horse
DESCRIPTION:Newbury\, are you feeling clever? \nJoin The High Horse for their weekly pub quiz\, every Tuesday from 7:30pm. \nThink plenty of pints and bragging rights… plus a £50 bar tab for the winning team! \nBook via the link below.
URL:https://visitnewbury.org.uk/event/pub-quiz-at-the-high-horse/2026-02-17/
LOCATION:The High Horse\, The High Horse\, RG14 1JX
CATEGORIES:Pub & Restaurant Events,Quiz
ATTACH;FMTTYPE=image/jpeg:https://visitnewbury.org.uk/wp-content/uploads/2025/09/The-High-Horse-Pub-Quiz-e1757026974597.jpg
END:VEVENT
BEGIN:VEVENT
DTSTART;TZID=Europe/London:20260218T193000
DTEND;TZID=Europe/London:20260218T220000
DTSTAMP:20260420T134541
CREATED:20260216T165447Z
LAST-MODIFIED:20260216T165447Z
UID:12003536-1771443000-1771452000@visitnewbury.org.uk
SUMMARY:Quiz Night at The Dolphin
DESCRIPTION:Don’t miss Quiz Night at The Dolphin\, taking place every Wednesday from 7:30pm to 10pm – book your table by visiting the pub’s website in the link below!
URL:https://visitnewbury.org.uk/event/quiz-night-at-the-dolphin/2026-02-18/
LOCATION:The Dolphin\, The Dolphin Newbury\, RG14 5DT
CATEGORIES:Pub & Restaurant Events,Quiz
ATTACH;FMTTYPE=image/jpeg:https://visitnewbury.org.uk/wp-content/uploads/2026/02/The-Dolphin-Pub-Quiz-e1771260577394.jpg
END:VEVENT
BEGIN:VEVENT
DTSTART;TZID=Europe/London:20260220T190000
DTEND;TZID=Europe/London:20260220T190000
DTSTAMP:20260420T134541
CREATED:20250602T155415Z
LAST-MODIFIED:20260209T143041Z
UID:12003158-1771614000-1771614000@visitnewbury.org.uk
SUMMARY:Quiz Night at The Lodge Hotel
DESCRIPTION:Join the The Lodge Hotel at Newbury Racecourse for Quiz Night! \nTest your knowledge across various categories\, enjoy friendly competition\, and win fantastic prizes. The Lodge Bar & Kitchen will be open to serve up your favourite snacks and refreshments. \nGather your friends\, family and colleagues together to form a team of up to six members – £12 per team to enter or £2 per person – Secure your spot by booking in advance.
URL:https://visitnewbury.org.uk/event/quiz-night-at-the-lodge-hotel/2026-02-20/
LOCATION:The Lodge Hotel\, The Lodge Hotel\, RG14 7ZN
CATEGORIES:Pub & Restaurant Events,Quiz
ATTACH;FMTTYPE=image/jpeg:https://visitnewbury.org.uk/wp-content/uploads/2025/06/The-Lodge-Hotel_Whats-On_Pub-Quiz.jpg
END:VEVENT
BEGIN:VEVENT
DTSTART;TZID=Europe/London:20260222T180000
DTEND;TZID=Europe/London:20260222T180000
DTSTAMP:20260420T134541
CREATED:20250930T095325Z
LAST-MODIFIED:20260209T141619Z
UID:12002362-1771783200-1771783200@visitnewbury.org.uk
SUMMARY:Quiz Night at Cobrizo Lounge
DESCRIPTION:Quiz nights at Cobrizo Lounge\, every Sunday at 6pm. \n£2 per person to enter\, maximum 6 people per team\, and the best part… half the proceeds go to charity! \n\nFirst prize is the prize pot and a £20 gift voucher.\nSecond prize is £10 Gift voucher\nThird prize is a bottle of wine (needs to be drunk on the night in The Lounge)\n\nTo book\, head to their website (below)\, email cobrizo@thelounges.co.uk\, or call 01635 523 372.
URL:https://visitnewbury.org.uk/event/quiz-night-at-cobrizo-lounge-2/2026-02-22/
LOCATION:Cobrizo Lounge\, Cobrizo Lounge\, RG14 1DJ
CATEGORIES:Pub & Restaurant Events,Quiz
ATTACH;FMTTYPE=image/jpeg:https://visitnewbury.org.uk/wp-content/uploads/2025/02/Cobrizo-Lounge.jpg
END:VEVENT
BEGIN:VEVENT
DTSTART;TZID=Europe/London:20260224T190000
DTEND;TZID=Europe/London:20260224T210000
DTSTAMP:20260420T134541
CREATED:20260209T135830Z
LAST-MODIFIED:20260209T135908Z
UID:12003374-1771959600-1771966800@visitnewbury.org.uk
SUMMARY:Quiz Night at the Coat & Bear
DESCRIPTION:The Coat & Bear hosts a weekly quiz night every Tuesday at 7pm. \nMaximum teams of 6 people\, with entry costing £2pp. \nThere are some great prizes to be won too: \n\n1st place: £40 Heartwood Inns voucher\n2nd to last place: a bottle of house wine\n\nYou can book a table by calling the Coat & Bear on 01635 283091\, email newbury@heartwoodinns.com\, or by sending a DM on social media.
URL:https://visitnewbury.org.uk/event/quiz-night-at-the-coat-bear/2026-02-24/
LOCATION:The Coat & Bear\, The Coat & Bear\, RG14 5EU
CATEGORIES:Quiz
ATTACH;FMTTYPE=image/jpeg:https://visitnewbury.org.uk/wp-content/uploads/2026/02/Coat-Bear-Quiz-Night.jpg
END:VEVENT
BEGIN:VEVENT
DTSTART;TZID=Europe/London:20260224T193000
DTEND;TZID=Europe/London:20260224T193000
DTSTAMP:20260420T134541
CREATED:20250904T231205Z
LAST-MODIFIED:20260209T141545Z
UID:12002255-1771961400-1771961400@visitnewbury.org.uk
SUMMARY:Pub Quiz at The High Horse
DESCRIPTION:Newbury\, are you feeling clever? \nJoin The High Horse for their weekly pub quiz\, every Tuesday from 7:30pm. \nThink plenty of pints and bragging rights… plus a £50 bar tab for the winning team! \nBook via the link below.
URL:https://visitnewbury.org.uk/event/pub-quiz-at-the-high-horse/2026-02-24/
LOCATION:The High Horse\, The High Horse\, RG14 1JX
CATEGORIES:Pub & Restaurant Events,Quiz
ATTACH;FMTTYPE=image/jpeg:https://visitnewbury.org.uk/wp-content/uploads/2025/09/The-High-Horse-Pub-Quiz-e1757026974597.jpg
END:VEVENT
BEGIN:VEVENT
DTSTART;TZID=Europe/London:20260225T193000
DTEND;TZID=Europe/London:20260225T220000
DTSTAMP:20260420T134541
CREATED:20260216T165447Z
LAST-MODIFIED:20260216T165447Z
UID:12003537-1772047800-1772056800@visitnewbury.org.uk
SUMMARY:Quiz Night at The Dolphin
DESCRIPTION:Don’t miss Quiz Night at The Dolphin\, taking place every Wednesday from 7:30pm to 10pm – book your table by visiting the pub’s website in the link below!
URL:https://visitnewbury.org.uk/event/quiz-night-at-the-dolphin/2026-02-25/
LOCATION:The Dolphin\, The Dolphin Newbury\, RG14 5DT
CATEGORIES:Pub & Restaurant Events,Quiz
ATTACH;FMTTYPE=image/jpeg:https://visitnewbury.org.uk/wp-content/uploads/2026/02/The-Dolphin-Pub-Quiz-e1771260577394.jpg
END:VEVENT
END:VCALENDAR