BEGIN:VCALENDAR
VERSION:2.0
PRODID:-//Visit Newbury - ECPv6.13.2.1//NONSGML v1.0//EN
CALSCALE:GREGORIAN
METHOD:PUBLISH
X-WR-CALNAME:Visit Newbury
X-ORIGINAL-URL:https://visitnewbury.org.uk
X-WR-CALDESC:Events for Visit Newbury
REFRESH-INTERVAL;VALUE=DURATION:PT1H
X-Robots-Tag:noindex
X-PUBLISHED-TTL:PT1H
BEGIN:VTIMEZONE
TZID:Europe/London
BEGIN:DAYLIGHT
TZOFFSETFROM:+0000
TZOFFSETTO:+0100
TZNAME:BST
DTSTART:20250330T010000
END:DAYLIGHT
BEGIN:STANDARD
TZOFFSETFROM:+0100
TZOFFSETTO:+0000
TZNAME:GMT
DTSTART:20251026T010000
END:STANDARD
END:VTIMEZONE
BEGIN:VEVENT
DTSTART;TZID=Europe/London:20251202T193000
DTEND;TZID=Europe/London:20251202T193000
DTSTAMP:20260420T151710
CREATED:20250904T231205Z
LAST-MODIFIED:20260209T141545Z
UID:12002243-1764703800-1764703800@visitnewbury.org.uk
SUMMARY:Pub Quiz at The High Horse
DESCRIPTION:Newbury\, are you feeling clever? \nJoin The High Horse for their weekly pub quiz\, every Tuesday from 7:30pm. \nThink plenty of pints and bragging rights… plus a £50 bar tab for the winning team! \nBook via the link below.
URL:https://visitnewbury.org.uk/event/pub-quiz-at-the-high-horse/2025-12-02/
LOCATION:The High Horse\, The High Horse\, RG14 1JX
CATEGORIES:Pub & Restaurant Events,Quiz
ATTACH;FMTTYPE=image/jpeg:https://visitnewbury.org.uk/wp-content/uploads/2025/09/The-High-Horse-Pub-Quiz-e1757026974597.jpg
END:VEVENT
BEGIN:VEVENT
DTSTART;TZID=Europe/London:20251207T180000
DTEND;TZID=Europe/London:20251207T180000
DTSTAMP:20260420T151710
CREATED:20250930T095325Z
LAST-MODIFIED:20260209T141619Z
UID:12002351-1765130400-1765130400@visitnewbury.org.uk
SUMMARY:Quiz Night at Cobrizo Lounge
DESCRIPTION:Quiz nights at Cobrizo Lounge\, every Sunday at 6pm. \n£2 per person to enter\, maximum 6 people per team\, and the best part… half the proceeds go to charity! \n\nFirst prize is the prize pot and a £20 gift voucher.\nSecond prize is £10 Gift voucher\nThird prize is a bottle of wine (needs to be drunk on the night in The Lounge)\n\nTo book\, head to their website (below)\, email cobrizo@thelounges.co.uk\, or call 01635 523 372.
URL:https://visitnewbury.org.uk/event/quiz-night-at-cobrizo-lounge-2/2025-12-07/
LOCATION:Cobrizo Lounge\, Cobrizo Lounge\, RG14 1DJ
CATEGORIES:Pub & Restaurant Events,Quiz
ATTACH;FMTTYPE=image/jpeg:https://visitnewbury.org.uk/wp-content/uploads/2025/02/Cobrizo-Lounge.jpg
END:VEVENT
BEGIN:VEVENT
DTSTART;TZID=Europe/London:20251209T193000
DTEND;TZID=Europe/London:20251209T193000
DTSTAMP:20260420T151710
CREATED:20250904T231205Z
LAST-MODIFIED:20260209T141545Z
UID:12002244-1765308600-1765308600@visitnewbury.org.uk
SUMMARY:Pub Quiz at The High Horse
DESCRIPTION:Newbury\, are you feeling clever? \nJoin The High Horse for their weekly pub quiz\, every Tuesday from 7:30pm. \nThink plenty of pints and bragging rights… plus a £50 bar tab for the winning team! \nBook via the link below.
URL:https://visitnewbury.org.uk/event/pub-quiz-at-the-high-horse/2025-12-09/
LOCATION:The High Horse\, The High Horse\, RG14 1JX
CATEGORIES:Pub & Restaurant Events,Quiz
ATTACH;FMTTYPE=image/jpeg:https://visitnewbury.org.uk/wp-content/uploads/2025/09/The-High-Horse-Pub-Quiz-e1757026974597.jpg
END:VEVENT
BEGIN:VEVENT
DTSTART;TZID=Europe/London:20251214T180000
DTEND;TZID=Europe/London:20251214T180000
DTSTAMP:20260420T151710
CREATED:20250930T095325Z
LAST-MODIFIED:20260209T141619Z
UID:12002352-1765735200-1765735200@visitnewbury.org.uk
SUMMARY:Quiz Night at Cobrizo Lounge
DESCRIPTION:Quiz nights at Cobrizo Lounge\, every Sunday at 6pm. \n£2 per person to enter\, maximum 6 people per team\, and the best part… half the proceeds go to charity! \n\nFirst prize is the prize pot and a £20 gift voucher.\nSecond prize is £10 Gift voucher\nThird prize is a bottle of wine (needs to be drunk on the night in The Lounge)\n\nTo book\, head to their website (below)\, email cobrizo@thelounges.co.uk\, or call 01635 523 372.
URL:https://visitnewbury.org.uk/event/quiz-night-at-cobrizo-lounge-2/2025-12-14/
LOCATION:Cobrizo Lounge\, Cobrizo Lounge\, RG14 1DJ
CATEGORIES:Pub & Restaurant Events,Quiz
ATTACH;FMTTYPE=image/jpeg:https://visitnewbury.org.uk/wp-content/uploads/2025/02/Cobrizo-Lounge.jpg
END:VEVENT
BEGIN:VEVENT
DTSTART;TZID=Europe/London:20251216T193000
DTEND;TZID=Europe/London:20251216T193000
DTSTAMP:20260420T151710
CREATED:20250904T231205Z
LAST-MODIFIED:20260209T141545Z
UID:12002245-1765913400-1765913400@visitnewbury.org.uk
SUMMARY:Pub Quiz at The High Horse
DESCRIPTION:Newbury\, are you feeling clever? \nJoin The High Horse for their weekly pub quiz\, every Tuesday from 7:30pm. \nThink plenty of pints and bragging rights… plus a £50 bar tab for the winning team! \nBook via the link below.
URL:https://visitnewbury.org.uk/event/pub-quiz-at-the-high-horse/2025-12-16/
LOCATION:The High Horse\, The High Horse\, RG14 1JX
CATEGORIES:Pub & Restaurant Events,Quiz
ATTACH;FMTTYPE=image/jpeg:https://visitnewbury.org.uk/wp-content/uploads/2025/09/The-High-Horse-Pub-Quiz-e1757026974597.jpg
END:VEVENT
BEGIN:VEVENT
DTSTART;TZID=Europe/London:20251221T180000
DTEND;TZID=Europe/London:20251221T180000
DTSTAMP:20260420T151710
CREATED:20250930T095325Z
LAST-MODIFIED:20260209T141619Z
UID:12002353-1766340000-1766340000@visitnewbury.org.uk
SUMMARY:Quiz Night at Cobrizo Lounge
DESCRIPTION:Quiz nights at Cobrizo Lounge\, every Sunday at 6pm. \n£2 per person to enter\, maximum 6 people per team\, and the best part… half the proceeds go to charity! \n\nFirst prize is the prize pot and a £20 gift voucher.\nSecond prize is £10 Gift voucher\nThird prize is a bottle of wine (needs to be drunk on the night in The Lounge)\n\nTo book\, head to their website (below)\, email cobrizo@thelounges.co.uk\, or call 01635 523 372.
URL:https://visitnewbury.org.uk/event/quiz-night-at-cobrizo-lounge-2/2025-12-21/
LOCATION:Cobrizo Lounge\, Cobrizo Lounge\, RG14 1DJ
CATEGORIES:Pub & Restaurant Events,Quiz
ATTACH;FMTTYPE=image/jpeg:https://visitnewbury.org.uk/wp-content/uploads/2025/02/Cobrizo-Lounge.jpg
END:VEVENT
BEGIN:VEVENT
DTSTART;TZID=Europe/London:20251223T193000
DTEND;TZID=Europe/London:20251223T193000
DTSTAMP:20260420T151710
CREATED:20250904T231205Z
LAST-MODIFIED:20260209T141545Z
UID:12002246-1766518200-1766518200@visitnewbury.org.uk
SUMMARY:Pub Quiz at The High Horse
DESCRIPTION:Newbury\, are you feeling clever? \nJoin The High Horse for their weekly pub quiz\, every Tuesday from 7:30pm. \nThink plenty of pints and bragging rights… plus a £50 bar tab for the winning team! \nBook via the link below.
URL:https://visitnewbury.org.uk/event/pub-quiz-at-the-high-horse/2025-12-23/
LOCATION:The High Horse\, The High Horse\, RG14 1JX
CATEGORIES:Pub & Restaurant Events,Quiz
ATTACH;FMTTYPE=image/jpeg:https://visitnewbury.org.uk/wp-content/uploads/2025/09/The-High-Horse-Pub-Quiz-e1757026974597.jpg
END:VEVENT
BEGIN:VEVENT
DTSTART;TZID=Europe/London:20251226T190000
DTEND;TZID=Europe/London:20251226T190000
DTSTAMP:20260420T151711
CREATED:20250602T155415Z
LAST-MODIFIED:20260209T143041Z
UID:12003420-1766775600-1766775600@visitnewbury.org.uk
SUMMARY:Quiz Night at The Lodge Hotel
DESCRIPTION:Join the The Lodge Hotel at Newbury Racecourse for Quiz Night! \nTest your knowledge across various categories\, enjoy friendly competition\, and win fantastic prizes. The Lodge Bar & Kitchen will be open to serve up your favourite snacks and refreshments. \nGather your friends\, family and colleagues together to form a team of up to six members – £12 per team to enter or £2 per person – Secure your spot by booking in advance.
URL:https://visitnewbury.org.uk/event/quiz-night-at-the-lodge-hotel/2025-12-26/
LOCATION:The Lodge Hotel\, The Lodge Hotel\, RG14 7ZN
CATEGORIES:Pub & Restaurant Events,Quiz
ATTACH;FMTTYPE=image/jpeg:https://visitnewbury.org.uk/wp-content/uploads/2025/06/The-Lodge-Hotel_Whats-On_Pub-Quiz.jpg
END:VEVENT
BEGIN:VEVENT
DTSTART;TZID=Europe/London:20251228T180000
DTEND;TZID=Europe/London:20251228T180000
DTSTAMP:20260420T151711
CREATED:20250930T095325Z
LAST-MODIFIED:20260209T141619Z
UID:12002354-1766944800-1766944800@visitnewbury.org.uk
SUMMARY:Quiz Night at Cobrizo Lounge
DESCRIPTION:Quiz nights at Cobrizo Lounge\, every Sunday at 6pm. \n£2 per person to enter\, maximum 6 people per team\, and the best part… half the proceeds go to charity! \n\nFirst prize is the prize pot and a £20 gift voucher.\nSecond prize is £10 Gift voucher\nThird prize is a bottle of wine (needs to be drunk on the night in The Lounge)\n\nTo book\, head to their website (below)\, email cobrizo@thelounges.co.uk\, or call 01635 523 372.
URL:https://visitnewbury.org.uk/event/quiz-night-at-cobrizo-lounge-2/2025-12-28/
LOCATION:Cobrizo Lounge\, Cobrizo Lounge\, RG14 1DJ
CATEGORIES:Pub & Restaurant Events,Quiz
ATTACH;FMTTYPE=image/jpeg:https://visitnewbury.org.uk/wp-content/uploads/2025/02/Cobrizo-Lounge.jpg
END:VEVENT
BEGIN:VEVENT
DTSTART;TZID=Europe/London:20251230T193000
DTEND;TZID=Europe/London:20251230T193000
DTSTAMP:20260420T151711
CREATED:20250904T231205Z
LAST-MODIFIED:20260209T141545Z
UID:12002247-1767123000-1767123000@visitnewbury.org.uk
SUMMARY:Pub Quiz at The High Horse
DESCRIPTION:Newbury\, are you feeling clever? \nJoin The High Horse for their weekly pub quiz\, every Tuesday from 7:30pm. \nThink plenty of pints and bragging rights… plus a £50 bar tab for the winning team! \nBook via the link below.
URL:https://visitnewbury.org.uk/event/pub-quiz-at-the-high-horse/2025-12-30/
LOCATION:The High Horse\, The High Horse\, RG14 1JX
CATEGORIES:Pub & Restaurant Events,Quiz
ATTACH;FMTTYPE=image/jpeg:https://visitnewbury.org.uk/wp-content/uploads/2025/09/The-High-Horse-Pub-Quiz-e1757026974597.jpg
END:VEVENT
END:VCALENDAR