BEGIN:VCALENDAR
VERSION:2.0
PRODID:-//Visit Newbury - ECPv6.13.2.1//NONSGML v1.0//EN
CALSCALE:GREGORIAN
METHOD:PUBLISH
X-ORIGINAL-URL:https://visitnewbury.org.uk
X-WR-CALDESC:Events for Visit Newbury
REFRESH-INTERVAL;VALUE=DURATION:PT1H
X-Robots-Tag:noindex
X-PUBLISHED-TTL:PT1H
BEGIN:VTIMEZONE
TZID:Europe/London
BEGIN:DAYLIGHT
TZOFFSETFROM:+0000
TZOFFSETTO:+0100
TZNAME:BST
DTSTART:20250330T010000
END:DAYLIGHT
BEGIN:STANDARD
TZOFFSETFROM:+0100
TZOFFSETTO:+0000
TZNAME:GMT
DTSTART:20251026T010000
END:STANDARD
END:VTIMEZONE
BEGIN:VEVENT
DTSTART;TZID=Europe/London:20250614T100000
DTEND;TZID=Europe/London:20250614T130000
DTSTAMP:20260421T143949
CREATED:20250613T132353Z
LAST-MODIFIED:20250613T132353Z
UID:12002089-1749895200-1749906000@visitnewbury.org.uk
SUMMARY:Board Games Meetup
DESCRIPTION:Newbury Library hosts a Board Games Meetup on the second and fourth Saturday each month\, 10am-1pm. \nEveryone is welcome to come along to these free drop in sessions\, with plenty of games to choose from – suitable for all ages.
URL:https://visitnewbury.org.uk/event/board-games-meetup/2025-06-14/
LOCATION:Newbury Library\, Newbury Library\, The Wharf\, RG14 5AU
CATEGORIES:Gaming,Library Events
ATTACH;FMTTYPE=image/jpeg:https://visitnewbury.org.uk/wp-content/uploads/2025/06/Board-Games-Meetup-Newbury-Library.jpg
END:VEVENT
BEGIN:VEVENT
DTSTART;TZID=Europe/London:20250621T103000
DTEND;TZID=Europe/London:20250621T130000
DTSTAMP:20260421T143949
CREATED:20250613T090008Z
LAST-MODIFIED:20250613T090008Z
UID:12002070-1750501800-1750510800@visitnewbury.org.uk
SUMMARY:Pokémon Club
DESCRIPTION:Corn Exchange Newbury hosts its monthly meet up to trade or play! \nPokémon contiunues to appeal to all ages\, and this free event is a great opportunity to meet other Pokémon fans in the Balcony Bar. Whether you’re 5 or 105\, you are welcome to head along to battle\, trade or just talk Pokémon in a friendly environment with other fans or collectors.
URL:https://visitnewbury.org.uk/event/pokemon-club/2025-06-21/
LOCATION:Corn Exchange Newbury\, Corn Exchange\, Market Place\, RG14 5BD
CATEGORIES:Gaming
ATTACH;FMTTYPE=image/webp:https://visitnewbury.org.uk/wp-content/uploads/2025/06/Pokemon-Club-at-CE.webp
END:VEVENT
BEGIN:VEVENT
DTSTART;TZID=Europe/London:20250626T180000
DTEND;TZID=Europe/London:20250626T200000
DTSTAMP:20260421T143949
CREATED:20250617T082747Z
LAST-MODIFIED:20250617T082747Z
UID:12002109-1750960800-1750968000@visitnewbury.org.uk
SUMMARY:The Market Place Card Game Club
DESCRIPTION:Head over to Newbury’s newest café for an evening of playing\, trading and learning your favourite card based games! \n\nPOKEMON\nYU-GI-OH\nLORCANA\nMAGIC THE GATHERING\n\nThe event runs 6pm-8pm\, entrance is free with a cafe purchase\, food and drink available to your table. \nFree board games and football table. \nUnder 14’s must be with a responsible adult. \nLearn more via the link below.
URL:https://visitnewbury.org.uk/event/the-market-place-card-game-club/
LOCATION:The Market Place Café\, The Market Place Café\, RG14 5AA
CATEGORIES:Gaming
ATTACH;FMTTYPE=image/jpeg:https://visitnewbury.org.uk/wp-content/uploads/2025/06/The-Market-Place-Cafe-Card-Game-Club.jpg
END:VEVENT
BEGIN:VEVENT
DTSTART;TZID=Europe/London:20250627T190000
DTEND;TZID=Europe/London:20250627T190000
DTSTAMP:20260421T143949
CREATED:20250602T155415Z
LAST-MODIFIED:20260209T143041Z
UID:12002017-1751050800-1751050800@visitnewbury.org.uk
SUMMARY:Quiz Night at The Lodge Hotel
DESCRIPTION:Join the The Lodge Hotel at Newbury Racecourse for Quiz Night! \nTest your knowledge across various categories\, enjoy friendly competition\, and win fantastic prizes. The Lodge Bar & Kitchen will be open to serve up your favourite snacks and refreshments. \nGather your friends\, family and colleagues together to form a team of up to six members – £12 per team to enter or £2 per person – Secure your spot by booking in advance.
URL:https://visitnewbury.org.uk/event/quiz-night-at-the-lodge-hotel/2025-06-27/
LOCATION:The Lodge Hotel\, The Lodge Hotel\, RG14 7ZN
CATEGORIES:Pub & Restaurant Events,Quiz
ATTACH;FMTTYPE=image/jpeg:https://visitnewbury.org.uk/wp-content/uploads/2025/06/The-Lodge-Hotel_Whats-On_Pub-Quiz.jpg
END:VEVENT
BEGIN:VEVENT
DTSTART;TZID=Europe/London:20250628T100000
DTEND;TZID=Europe/London:20250628T130000
DTSTAMP:20260421T143949
CREATED:20250613T132514Z
LAST-MODIFIED:20250613T132514Z
UID:12002103-1751104800-1751115600@visitnewbury.org.uk
SUMMARY:Board Games Meetup
DESCRIPTION:Newbury Library hosts a Board Games Meetup on the second and fourth Saturday each month\, 10am-1pm. \nEveryone is welcome to come along to these free drop in sessions\, with plenty of games to choose from – suitable for all ages.
URL:https://visitnewbury.org.uk/event/board-games-meetup-2/2025-06-28/
LOCATION:Newbury Library\, Newbury Library\, The Wharf\, RG14 5AU
CATEGORIES:Gaming,Library Events
ATTACH;FMTTYPE=image/jpeg:https://visitnewbury.org.uk/wp-content/uploads/2025/06/Board-Games-Meetup-Newbury-Library.jpg
END:VEVENT
BEGIN:VEVENT
DTSTART;TZID=Europe/London:20250712T100000
DTEND;TZID=Europe/London:20250712T130000
DTSTAMP:20260421T143949
CREATED:20250613T132353Z
LAST-MODIFIED:20250613T132353Z
UID:12002090-1752314400-1752325200@visitnewbury.org.uk
SUMMARY:Board Games Meetup
DESCRIPTION:Newbury Library hosts a Board Games Meetup on the second and fourth Saturday each month\, 10am-1pm. \nEveryone is welcome to come along to these free drop in sessions\, with plenty of games to choose from – suitable for all ages.
URL:https://visitnewbury.org.uk/event/board-games-meetup/2025-07-12/
LOCATION:Newbury Library\, Newbury Library\, The Wharf\, RG14 5AU
CATEGORIES:Gaming,Library Events
ATTACH;FMTTYPE=image/jpeg:https://visitnewbury.org.uk/wp-content/uploads/2025/06/Board-Games-Meetup-Newbury-Library.jpg
END:VEVENT
BEGIN:VEVENT
DTSTART;TZID=Europe/London:20250719T103000
DTEND;TZID=Europe/London:20250719T130000
DTSTAMP:20260421T143949
CREATED:20250613T090008Z
LAST-MODIFIED:20250613T090008Z
UID:12002071-1752921000-1752930000@visitnewbury.org.uk
SUMMARY:Pokémon Club
DESCRIPTION:Corn Exchange Newbury hosts its monthly meet up to trade or play! \nPokémon contiunues to appeal to all ages\, and this free event is a great opportunity to meet other Pokémon fans in the Balcony Bar. Whether you’re 5 or 105\, you are welcome to head along to battle\, trade or just talk Pokémon in a friendly environment with other fans or collectors.
URL:https://visitnewbury.org.uk/event/pokemon-club/2025-07-19/
LOCATION:Corn Exchange Newbury\, Corn Exchange\, Market Place\, RG14 5BD
CATEGORIES:Gaming
ATTACH;FMTTYPE=image/webp:https://visitnewbury.org.uk/wp-content/uploads/2025/06/Pokemon-Club-at-CE.webp
END:VEVENT
BEGIN:VEVENT
DTSTART;TZID=Europe/London:20250720T110000
DTEND;TZID=Europe/London:20250720T180000
DTSTAMP:20260421T143949
CREATED:20250613T084733Z
LAST-MODIFIED:20250613T084733Z
UID:12002069-1753009200-1753034400@visitnewbury.org.uk
SUMMARY:Tabletop Gaming Event
DESCRIPTION:Celebrate all things tabletop gaming at Corn Exchange Newbury! \nJoin other gamers in the Balcony Bar for the venue’s second annual Tabletop Gaming Event for all things analogue gaming. \nImmerse yourself in a Dungeons and Dragons intro sessions for beginners\, or one-shot campaigns for the seasoned gamer. Try your hand at painting mini figures or browse stalls demoing and selling board games\, handcrafted treasures and dice. \nIt’s free to head along and no booking required\, so grab your friends and head along! Learn more at the link below.
URL:https://visitnewbury.org.uk/event/tabletop-gaming-event/
LOCATION:Corn Exchange Newbury\, Corn Exchange\, Market Place\, RG14 5BD
CATEGORIES:Gaming,Shopping
ATTACH;FMTTYPE=image/webp:https://visitnewbury.org.uk/wp-content/uploads/2025/06/Tabletop-gaming-at-CE.webp
END:VEVENT
BEGIN:VEVENT
DTSTART;TZID=Europe/London:20250725T190000
DTEND;TZID=Europe/London:20250725T190000
DTSTAMP:20260421T143949
CREATED:20250602T155415Z
LAST-MODIFIED:20260209T143041Z
UID:12002018-1753470000-1753470000@visitnewbury.org.uk
SUMMARY:Quiz Night at The Lodge Hotel
DESCRIPTION:Join the The Lodge Hotel at Newbury Racecourse for Quiz Night! \nTest your knowledge across various categories\, enjoy friendly competition\, and win fantastic prizes. The Lodge Bar & Kitchen will be open to serve up your favourite snacks and refreshments. \nGather your friends\, family and colleagues together to form a team of up to six members – £12 per team to enter or £2 per person – Secure your spot by booking in advance.
URL:https://visitnewbury.org.uk/event/quiz-night-at-the-lodge-hotel/2025-07-25/
LOCATION:The Lodge Hotel\, The Lodge Hotel\, RG14 7ZN
CATEGORIES:Pub & Restaurant Events,Quiz
ATTACH;FMTTYPE=image/jpeg:https://visitnewbury.org.uk/wp-content/uploads/2025/06/The-Lodge-Hotel_Whats-On_Pub-Quiz.jpg
END:VEVENT
BEGIN:VEVENT
DTSTART;TZID=Europe/London:20250726T100000
DTEND;TZID=Europe/London:20250726T130000
DTSTAMP:20260421T143949
CREATED:20250613T132514Z
LAST-MODIFIED:20250613T132514Z
UID:12002104-1753524000-1753534800@visitnewbury.org.uk
SUMMARY:Board Games Meetup
DESCRIPTION:Newbury Library hosts a Board Games Meetup on the second and fourth Saturday each month\, 10am-1pm. \nEveryone is welcome to come along to these free drop in sessions\, with plenty of games to choose from – suitable for all ages.
URL:https://visitnewbury.org.uk/event/board-games-meetup-2/2025-07-26/
LOCATION:Newbury Library\, Newbury Library\, The Wharf\, RG14 5AU
CATEGORIES:Gaming,Library Events
ATTACH;FMTTYPE=image/jpeg:https://visitnewbury.org.uk/wp-content/uploads/2025/06/Board-Games-Meetup-Newbury-Library.jpg
END:VEVENT
BEGIN:VEVENT
DTSTART;TZID=Europe/London:20250809T100000
DTEND;TZID=Europe/London:20250809T130000
DTSTAMP:20260421T143949
CREATED:20250613T132353Z
LAST-MODIFIED:20250613T132353Z
UID:12002091-1754733600-1754744400@visitnewbury.org.uk
SUMMARY:Board Games Meetup
DESCRIPTION:Newbury Library hosts a Board Games Meetup on the second and fourth Saturday each month\, 10am-1pm. \nEveryone is welcome to come along to these free drop in sessions\, with plenty of games to choose from – suitable for all ages.
URL:https://visitnewbury.org.uk/event/board-games-meetup/2025-08-09/
LOCATION:Newbury Library\, Newbury Library\, The Wharf\, RG14 5AU
CATEGORIES:Gaming,Library Events
ATTACH;FMTTYPE=image/jpeg:https://visitnewbury.org.uk/wp-content/uploads/2025/06/Board-Games-Meetup-Newbury-Library.jpg
END:VEVENT
BEGIN:VEVENT
DTSTART;TZID=Europe/London:20250816T103000
DTEND;TZID=Europe/London:20250816T130000
DTSTAMP:20260421T143949
CREATED:20250613T090008Z
LAST-MODIFIED:20250613T090008Z
UID:12002072-1755340200-1755349200@visitnewbury.org.uk
SUMMARY:Pokémon Club
DESCRIPTION:Corn Exchange Newbury hosts its monthly meet up to trade or play! \nPokémon contiunues to appeal to all ages\, and this free event is a great opportunity to meet other Pokémon fans in the Balcony Bar. Whether you’re 5 or 105\, you are welcome to head along to battle\, trade or just talk Pokémon in a friendly environment with other fans or collectors.
URL:https://visitnewbury.org.uk/event/pokemon-club/2025-08-16/
LOCATION:Corn Exchange Newbury\, Corn Exchange\, Market Place\, RG14 5BD
CATEGORIES:Gaming
ATTACH;FMTTYPE=image/webp:https://visitnewbury.org.uk/wp-content/uploads/2025/06/Pokemon-Club-at-CE.webp
END:VEVENT
BEGIN:VEVENT
DTSTART;TZID=Europe/London:20250823T100000
DTEND;TZID=Europe/London:20250823T130000
DTSTAMP:20260421T143949
CREATED:20250613T132514Z
LAST-MODIFIED:20250613T132514Z
UID:12002105-1755943200-1755954000@visitnewbury.org.uk
SUMMARY:Board Games Meetup
DESCRIPTION:Newbury Library hosts a Board Games Meetup on the second and fourth Saturday each month\, 10am-1pm. \nEveryone is welcome to come along to these free drop in sessions\, with plenty of games to choose from – suitable for all ages.
URL:https://visitnewbury.org.uk/event/board-games-meetup-2/2025-08-23/
LOCATION:Newbury Library\, Newbury Library\, The Wharf\, RG14 5AU
CATEGORIES:Gaming,Library Events
ATTACH;FMTTYPE=image/jpeg:https://visitnewbury.org.uk/wp-content/uploads/2025/06/Board-Games-Meetup-Newbury-Library.jpg
END:VEVENT
BEGIN:VEVENT
DTSTART;TZID=Europe/London:20250829T190000
DTEND;TZID=Europe/London:20250829T190000
DTSTAMP:20260421T143949
CREATED:20250602T155415Z
LAST-MODIFIED:20260209T143041Z
UID:12002019-1756494000-1756494000@visitnewbury.org.uk
SUMMARY:Quiz Night at The Lodge Hotel
DESCRIPTION:Join the The Lodge Hotel at Newbury Racecourse for Quiz Night! \nTest your knowledge across various categories\, enjoy friendly competition\, and win fantastic prizes. The Lodge Bar & Kitchen will be open to serve up your favourite snacks and refreshments. \nGather your friends\, family and colleagues together to form a team of up to six members – £12 per team to enter or £2 per person – Secure your spot by booking in advance.
URL:https://visitnewbury.org.uk/event/quiz-night-at-the-lodge-hotel/2025-08-29/
LOCATION:The Lodge Hotel\, The Lodge Hotel\, RG14 7ZN
CATEGORIES:Pub & Restaurant Events,Quiz
ATTACH;FMTTYPE=image/jpeg:https://visitnewbury.org.uk/wp-content/uploads/2025/06/The-Lodge-Hotel_Whats-On_Pub-Quiz.jpg
END:VEVENT
BEGIN:VEVENT
DTSTART;TZID=Europe/London:20250830T100000
DTEND;TZID=Europe/London:20250830T220000
DTSTAMP:20260421T143949
CREATED:20250827T085818Z
LAST-MODIFIED:20250827T085949Z
UID:12002223-1756548000-1756591200@visitnewbury.org.uk
SUMMARY:Rocket Propelled Games Grand Opening
DESCRIPTION:Don’t miss the chance to join the team at the Grand Opening of Newbury’s brand new gaming cafe! \nRocket Propelled Games is a welcoming\, family-friendly board game café\, designed to be an inclusive community hub. It stocks stock a library of board games for all ages\, alongside a café serving food and drink – and if any of the games take your fancy\, you can always buy a brand new game to take home with you. \nTable bookings start from £6 for 1 hour – see more below: \n \nTo book\, email rocketpropelledgames@outlook.com
URL:https://visitnewbury.org.uk/event/rocket-propelled-games-grand-opening/
LOCATION:Rocket Propelled Games\, Rocket Propelled Games\, RG14 5HB
CATEGORIES:Gaming
ATTACH;FMTTYPE=image/jpeg:https://visitnewbury.org.uk/wp-content/uploads/2025/08/Rocket-Propelled-Games-Grand-Openening.jpg
END:VEVENT
BEGIN:VEVENT
DTSTART;TZID=Europe/London:20250913T100000
DTEND;TZID=Europe/London:20250913T130000
DTSTAMP:20260421T143949
CREATED:20250613T132353Z
LAST-MODIFIED:20250613T132353Z
UID:12002092-1757757600-1757768400@visitnewbury.org.uk
SUMMARY:Board Games Meetup
DESCRIPTION:Newbury Library hosts a Board Games Meetup on the second and fourth Saturday each month\, 10am-1pm. \nEveryone is welcome to come along to these free drop in sessions\, with plenty of games to choose from – suitable for all ages.
URL:https://visitnewbury.org.uk/event/board-games-meetup/2025-09-13/
LOCATION:Newbury Library\, Newbury Library\, The Wharf\, RG14 5AU
CATEGORIES:Gaming,Library Events
ATTACH;FMTTYPE=image/jpeg:https://visitnewbury.org.uk/wp-content/uploads/2025/06/Board-Games-Meetup-Newbury-Library.jpg
END:VEVENT
BEGIN:VEVENT
DTSTART;TZID=Europe/London:20250916T193000
DTEND;TZID=Europe/London:20250916T193000
DTSTAMP:20260421T143949
CREATED:20250904T231205Z
LAST-MODIFIED:20260209T141545Z
UID:12002232-1758051000-1758051000@visitnewbury.org.uk
SUMMARY:Pub Quiz at The High Horse
DESCRIPTION:Newbury\, are you feeling clever? \nJoin The High Horse for their weekly pub quiz\, every Tuesday from 7:30pm. \nThink plenty of pints and bragging rights… plus a £50 bar tab for the winning team! \nBook via the link below.
URL:https://visitnewbury.org.uk/event/pub-quiz-at-the-high-horse/2025-09-16/
LOCATION:The High Horse\, The High Horse\, RG14 1JX
CATEGORIES:Pub & Restaurant Events,Quiz
ATTACH;FMTTYPE=image/jpeg:https://visitnewbury.org.uk/wp-content/uploads/2025/09/The-High-Horse-Pub-Quiz-e1757026974597.jpg
END:VEVENT
BEGIN:VEVENT
DTSTART;TZID=Europe/London:20250920T103000
DTEND;TZID=Europe/London:20250920T130000
DTSTAMP:20260421T143949
CREATED:20250613T090008Z
LAST-MODIFIED:20250613T090008Z
UID:12002073-1758364200-1758373200@visitnewbury.org.uk
SUMMARY:Pokémon Club
DESCRIPTION:Corn Exchange Newbury hosts its monthly meet up to trade or play! \nPokémon contiunues to appeal to all ages\, and this free event is a great opportunity to meet other Pokémon fans in the Balcony Bar. Whether you’re 5 or 105\, you are welcome to head along to battle\, trade or just talk Pokémon in a friendly environment with other fans or collectors.
URL:https://visitnewbury.org.uk/event/pokemon-club/2025-09-20/
LOCATION:Corn Exchange Newbury\, Corn Exchange\, Market Place\, RG14 5BD
CATEGORIES:Gaming
ATTACH;FMTTYPE=image/webp:https://visitnewbury.org.uk/wp-content/uploads/2025/06/Pokemon-Club-at-CE.webp
END:VEVENT
BEGIN:VEVENT
DTSTART;TZID=Europe/London:20250923T193000
DTEND;TZID=Europe/London:20250923T193000
DTSTAMP:20260421T143949
CREATED:20250904T231205Z
LAST-MODIFIED:20260209T141545Z
UID:12002233-1758655800-1758655800@visitnewbury.org.uk
SUMMARY:Pub Quiz at The High Horse
DESCRIPTION:Newbury\, are you feeling clever? \nJoin The High Horse for their weekly pub quiz\, every Tuesday from 7:30pm. \nThink plenty of pints and bragging rights… plus a £50 bar tab for the winning team! \nBook via the link below.
URL:https://visitnewbury.org.uk/event/pub-quiz-at-the-high-horse/2025-09-23/
LOCATION:The High Horse\, The High Horse\, RG14 1JX
CATEGORIES:Pub & Restaurant Events,Quiz
ATTACH;FMTTYPE=image/jpeg:https://visitnewbury.org.uk/wp-content/uploads/2025/09/The-High-Horse-Pub-Quiz-e1757026974597.jpg
END:VEVENT
BEGIN:VEVENT
DTSTART;TZID=Europe/London:20250926T190000
DTEND;TZID=Europe/London:20250926T190000
DTSTAMP:20260421T143949
CREATED:20250602T155415Z
LAST-MODIFIED:20260209T143041Z
UID:12003417-1758913200-1758913200@visitnewbury.org.uk
SUMMARY:Quiz Night at The Lodge Hotel
DESCRIPTION:Join the The Lodge Hotel at Newbury Racecourse for Quiz Night! \nTest your knowledge across various categories\, enjoy friendly competition\, and win fantastic prizes. The Lodge Bar & Kitchen will be open to serve up your favourite snacks and refreshments. \nGather your friends\, family and colleagues together to form a team of up to six members – £12 per team to enter or £2 per person – Secure your spot by booking in advance.
URL:https://visitnewbury.org.uk/event/quiz-night-at-the-lodge-hotel/2025-09-26/
LOCATION:The Lodge Hotel\, The Lodge Hotel\, RG14 7ZN
CATEGORIES:Pub & Restaurant Events,Quiz
ATTACH;FMTTYPE=image/jpeg:https://visitnewbury.org.uk/wp-content/uploads/2025/06/The-Lodge-Hotel_Whats-On_Pub-Quiz.jpg
END:VEVENT
BEGIN:VEVENT
DTSTART;TZID=Europe/London:20250927T100000
DTEND;TZID=Europe/London:20250927T130000
DTSTAMP:20260421T143949
CREATED:20250613T132514Z
LAST-MODIFIED:20250613T132514Z
UID:12002106-1758967200-1758978000@visitnewbury.org.uk
SUMMARY:Board Games Meetup
DESCRIPTION:Newbury Library hosts a Board Games Meetup on the second and fourth Saturday each month\, 10am-1pm. \nEveryone is welcome to come along to these free drop in sessions\, with plenty of games to choose from – suitable for all ages.
URL:https://visitnewbury.org.uk/event/board-games-meetup-2/2025-09-27/
LOCATION:Newbury Library\, Newbury Library\, The Wharf\, RG14 5AU
CATEGORIES:Gaming,Library Events
ATTACH;FMTTYPE=image/jpeg:https://visitnewbury.org.uk/wp-content/uploads/2025/06/Board-Games-Meetup-Newbury-Library.jpg
END:VEVENT
BEGIN:VEVENT
DTSTART;TZID=Europe/London:20250930T193000
DTEND;TZID=Europe/London:20250930T193000
DTSTAMP:20260421T143949
CREATED:20250904T231205Z
LAST-MODIFIED:20260209T141545Z
UID:12002234-1759260600-1759260600@visitnewbury.org.uk
SUMMARY:Pub Quiz at The High Horse
DESCRIPTION:Newbury\, are you feeling clever? \nJoin The High Horse for their weekly pub quiz\, every Tuesday from 7:30pm. \nThink plenty of pints and bragging rights… plus a £50 bar tab for the winning team! \nBook via the link below.
URL:https://visitnewbury.org.uk/event/pub-quiz-at-the-high-horse/2025-09-30/
LOCATION:The High Horse\, The High Horse\, RG14 1JX
CATEGORIES:Pub & Restaurant Events,Quiz
ATTACH;FMTTYPE=image/jpeg:https://visitnewbury.org.uk/wp-content/uploads/2025/09/The-High-Horse-Pub-Quiz-e1757026974597.jpg
END:VEVENT
BEGIN:VEVENT
DTSTART;TZID=Europe/London:20251005T180000
DTEND;TZID=Europe/London:20251005T180000
DTSTAMP:20260421T143949
CREATED:20250930T095325Z
LAST-MODIFIED:20260209T141619Z
UID:11000357-1759687200-1759687200@visitnewbury.org.uk
SUMMARY:Quiz Night at Cobrizo Lounge
DESCRIPTION:Quiz nights at Cobrizo Lounge\, every Sunday at 6pm. \n£2 per person to enter\, maximum 6 people per team\, and the best part… half the proceeds go to charity! \n\nFirst prize is the prize pot and a £20 gift voucher.\nSecond prize is £10 Gift voucher\nThird prize is a bottle of wine (needs to be drunk on the night in The Lounge)\n\nTo book\, head to their website (below)\, email cobrizo@thelounges.co.uk\, or call 01635 523 372.
URL:https://visitnewbury.org.uk/event/quiz-night-at-cobrizo-lounge-2/2025-10-05/
LOCATION:Cobrizo Lounge\, Cobrizo Lounge\, RG14 1DJ
CATEGORIES:Pub & Restaurant Events,Quiz
ATTACH;FMTTYPE=image/jpeg:https://visitnewbury.org.uk/wp-content/uploads/2025/02/Cobrizo-Lounge.jpg
END:VEVENT
BEGIN:VEVENT
DTSTART;TZID=Europe/London:20251007T193000
DTEND;TZID=Europe/London:20251007T193000
DTSTAMP:20260421T143949
CREATED:20250904T231205Z
LAST-MODIFIED:20260209T141545Z
UID:12002235-1759865400-1759865400@visitnewbury.org.uk
SUMMARY:Pub Quiz at The High Horse
DESCRIPTION:Newbury\, are you feeling clever? \nJoin The High Horse for their weekly pub quiz\, every Tuesday from 7:30pm. \nThink plenty of pints and bragging rights… plus a £50 bar tab for the winning team! \nBook via the link below.
URL:https://visitnewbury.org.uk/event/pub-quiz-at-the-high-horse/2025-10-07/
LOCATION:The High Horse\, The High Horse\, RG14 1JX
CATEGORIES:Pub & Restaurant Events,Quiz
ATTACH;FMTTYPE=image/jpeg:https://visitnewbury.org.uk/wp-content/uploads/2025/09/The-High-Horse-Pub-Quiz-e1757026974597.jpg
END:VEVENT
BEGIN:VEVENT
DTSTART;TZID=Europe/London:20251011T100000
DTEND;TZID=Europe/London:20251011T130000
DTSTAMP:20260421T143949
CREATED:20250613T132353Z
LAST-MODIFIED:20250613T132353Z
UID:12002093-1760176800-1760187600@visitnewbury.org.uk
SUMMARY:Board Games Meetup
DESCRIPTION:Newbury Library hosts a Board Games Meetup on the second and fourth Saturday each month\, 10am-1pm. \nEveryone is welcome to come along to these free drop in sessions\, with plenty of games to choose from – suitable for all ages.
URL:https://visitnewbury.org.uk/event/board-games-meetup/2025-10-11/
LOCATION:Newbury Library\, Newbury Library\, The Wharf\, RG14 5AU
CATEGORIES:Gaming,Library Events
ATTACH;FMTTYPE=image/jpeg:https://visitnewbury.org.uk/wp-content/uploads/2025/06/Board-Games-Meetup-Newbury-Library.jpg
END:VEVENT
BEGIN:VEVENT
DTSTART;TZID=Europe/London:20251012T180000
DTEND;TZID=Europe/London:20251012T180000
DTSTAMP:20260421T143949
CREATED:20250930T095325Z
LAST-MODIFIED:20260209T141619Z
UID:12002343-1760292000-1760292000@visitnewbury.org.uk
SUMMARY:Quiz Night at Cobrizo Lounge
DESCRIPTION:Quiz nights at Cobrizo Lounge\, every Sunday at 6pm. \n£2 per person to enter\, maximum 6 people per team\, and the best part… half the proceeds go to charity! \n\nFirst prize is the prize pot and a £20 gift voucher.\nSecond prize is £10 Gift voucher\nThird prize is a bottle of wine (needs to be drunk on the night in The Lounge)\n\nTo book\, head to their website (below)\, email cobrizo@thelounges.co.uk\, or call 01635 523 372.
URL:https://visitnewbury.org.uk/event/quiz-night-at-cobrizo-lounge-2/2025-10-12/
LOCATION:Cobrizo Lounge\, Cobrizo Lounge\, RG14 1DJ
CATEGORIES:Pub & Restaurant Events,Quiz
ATTACH;FMTTYPE=image/jpeg:https://visitnewbury.org.uk/wp-content/uploads/2025/02/Cobrizo-Lounge.jpg
END:VEVENT
BEGIN:VEVENT
DTSTART;TZID=Europe/London:20251014T193000
DTEND;TZID=Europe/London:20251014T193000
DTSTAMP:20260421T143949
CREATED:20250904T231205Z
LAST-MODIFIED:20260209T141545Z
UID:12002236-1760470200-1760470200@visitnewbury.org.uk
SUMMARY:Pub Quiz at The High Horse
DESCRIPTION:Newbury\, are you feeling clever? \nJoin The High Horse for their weekly pub quiz\, every Tuesday from 7:30pm. \nThink plenty of pints and bragging rights… plus a £50 bar tab for the winning team! \nBook via the link below.
URL:https://visitnewbury.org.uk/event/pub-quiz-at-the-high-horse/2025-10-14/
LOCATION:The High Horse\, The High Horse\, RG14 1JX
CATEGORIES:Pub & Restaurant Events,Quiz
ATTACH;FMTTYPE=image/jpeg:https://visitnewbury.org.uk/wp-content/uploads/2025/09/The-High-Horse-Pub-Quiz-e1757026974597.jpg
END:VEVENT
BEGIN:VEVENT
DTSTART;TZID=Europe/London:20251018T103000
DTEND;TZID=Europe/London:20251018T130000
DTSTAMP:20260421T143949
CREATED:20250613T090008Z
LAST-MODIFIED:20250613T090008Z
UID:12002074-1760783400-1760792400@visitnewbury.org.uk
SUMMARY:Pokémon Club
DESCRIPTION:Corn Exchange Newbury hosts its monthly meet up to trade or play! \nPokémon contiunues to appeal to all ages\, and this free event is a great opportunity to meet other Pokémon fans in the Balcony Bar. Whether you’re 5 or 105\, you are welcome to head along to battle\, trade or just talk Pokémon in a friendly environment with other fans or collectors.
URL:https://visitnewbury.org.uk/event/pokemon-club/2025-10-18/
LOCATION:Corn Exchange Newbury\, Corn Exchange\, Market Place\, RG14 5BD
CATEGORIES:Gaming
ATTACH;FMTTYPE=image/webp:https://visitnewbury.org.uk/wp-content/uploads/2025/06/Pokemon-Club-at-CE.webp
END:VEVENT
BEGIN:VEVENT
DTSTART;TZID=Europe/London:20251019T180000
DTEND;TZID=Europe/London:20251019T180000
DTSTAMP:20260421T143949
CREATED:20250930T095325Z
LAST-MODIFIED:20260209T141619Z
UID:12002344-1760896800-1760896800@visitnewbury.org.uk
SUMMARY:Quiz Night at Cobrizo Lounge
DESCRIPTION:Quiz nights at Cobrizo Lounge\, every Sunday at 6pm. \n£2 per person to enter\, maximum 6 people per team\, and the best part… half the proceeds go to charity! \n\nFirst prize is the prize pot and a £20 gift voucher.\nSecond prize is £10 Gift voucher\nThird prize is a bottle of wine (needs to be drunk on the night in The Lounge)\n\nTo book\, head to their website (below)\, email cobrizo@thelounges.co.uk\, or call 01635 523 372.
URL:https://visitnewbury.org.uk/event/quiz-night-at-cobrizo-lounge-2/2025-10-19/
LOCATION:Cobrizo Lounge\, Cobrizo Lounge\, RG14 1DJ
CATEGORIES:Pub & Restaurant Events,Quiz
ATTACH;FMTTYPE=image/jpeg:https://visitnewbury.org.uk/wp-content/uploads/2025/02/Cobrizo-Lounge.jpg
END:VEVENT
BEGIN:VEVENT
DTSTART;TZID=Europe/London:20251021T193000
DTEND;TZID=Europe/London:20251021T193000
DTSTAMP:20260421T143949
CREATED:20250904T231205Z
LAST-MODIFIED:20260209T141545Z
UID:12002237-1761075000-1761075000@visitnewbury.org.uk
SUMMARY:Pub Quiz at The High Horse
DESCRIPTION:Newbury\, are you feeling clever? \nJoin The High Horse for their weekly pub quiz\, every Tuesday from 7:30pm. \nThink plenty of pints and bragging rights… plus a £50 bar tab for the winning team! \nBook via the link below.
URL:https://visitnewbury.org.uk/event/pub-quiz-at-the-high-horse/2025-10-21/
LOCATION:The High Horse\, The High Horse\, RG14 1JX
CATEGORIES:Pub & Restaurant Events,Quiz
ATTACH;FMTTYPE=image/jpeg:https://visitnewbury.org.uk/wp-content/uploads/2025/09/The-High-Horse-Pub-Quiz-e1757026974597.jpg
END:VEVENT
END:VCALENDAR