BEGIN:VCALENDAR
VERSION:2.0
PRODID:-//Visit Newbury - ECPv6.13.2.1//NONSGML v1.0//EN
CALSCALE:GREGORIAN
METHOD:PUBLISH
X-WR-CALNAME:Visit Newbury
X-ORIGINAL-URL:https://visitnewbury.org.uk
X-WR-CALDESC:Events for Visit Newbury
REFRESH-INTERVAL;VALUE=DURATION:PT1H
X-Robots-Tag:noindex
X-PUBLISHED-TTL:PT1H
BEGIN:VTIMEZONE
TZID:Europe/London
BEGIN:DAYLIGHT
TZOFFSETFROM:+0000
TZOFFSETTO:+0100
TZNAME:BST
DTSTART:20260329T010000
END:DAYLIGHT
BEGIN:STANDARD
TZOFFSETFROM:+0100
TZOFFSETTO:+0000
TZNAME:GMT
DTSTART:20261025T010000
END:STANDARD
END:VTIMEZONE
BEGIN:VEVENT
DTSTART;TZID=Europe/London:20261103T190000
DTEND;TZID=Europe/London:20261103T210000
DTSTAMP:20260425T201230
CREATED:20260209T135830Z
LAST-MODIFIED:20260209T135908Z
UID:12003410-1793732400-1793739600@visitnewbury.org.uk
SUMMARY:Quiz Night at the Coat & Bear
DESCRIPTION:The Coat & Bear hosts a weekly quiz night every Tuesday at 7pm. \nMaximum teams of 6 people\, with entry costing £2pp. \nThere are some great prizes to be won too: \n\n1st place: £40 Heartwood Inns voucher\n2nd to last place: a bottle of house wine\n\nYou can book a table by calling the Coat & Bear on 01635 283091\, email newbury@heartwoodinns.com\, or by sending a DM on social media.
URL:https://visitnewbury.org.uk/event/quiz-night-at-the-coat-bear/2026-11-03/
LOCATION:The Coat & Bear\, The Coat & Bear\, RG14 5EU
CATEGORIES:Quiz
ATTACH;FMTTYPE=image/jpeg:https://visitnewbury.org.uk/wp-content/uploads/2026/02/Coat-Bear-Quiz-Night.jpg
END:VEVENT
BEGIN:VEVENT
DTSTART;TZID=Europe/London:20261104T193000
DTEND;TZID=Europe/London:20261104T220000
DTSTAMP:20260425T201230
CREATED:20260216T165447Z
LAST-MODIFIED:20260216T165447Z
UID:12003573-1793820600-1793829600@visitnewbury.org.uk
SUMMARY:Quiz Night at The Dolphin
DESCRIPTION:Don’t miss Quiz Night at The Dolphin\, taking place every Wednesday from 7:30pm to 10pm – book your table by visiting the pub’s website in the link below!
URL:https://visitnewbury.org.uk/event/quiz-night-at-the-dolphin/2026-11-04/
LOCATION:The Dolphin\, The Dolphin Newbury\, RG14 5DT
CATEGORIES:Pub & Restaurant Events,Quiz
ATTACH;FMTTYPE=image/jpeg:https://visitnewbury.org.uk/wp-content/uploads/2026/02/The-Dolphin-Pub-Quiz-e1771260577394.jpg
END:VEVENT
BEGIN:VEVENT
DTSTART;TZID=Europe/London:20261106T190000
DTEND;TZID=Europe/London:20261106T220000
DTSTAMP:20260425T201230
CREATED:20260209T170130Z
LAST-MODIFIED:20260209T170130Z
UID:12003429-1793991600-1794002400@visitnewbury.org.uk
SUMMARY:Quiz Night at Rocket Propelled Games
DESCRIPTION:Every first Friday of the month Newbury’s very own gaming experts\, Rocket Propelled Games\, host a fun quiz with 6 rounds – including a practical games round! \nThe quiz starts at 7pm\, and tickets cost £2.50 per person. Once finished\, you can keep playing games until late\, as the table is all yours until 10pm. \nBook your team in via the link below.
URL:https://visitnewbury.org.uk/event/quiz-night-at-rocket-propelled-games/2026-11-06/
LOCATION:Rocket Propelled Games\, Rocket Propelled Games\, RG14 5HB
CATEGORIES:Gaming,Quiz
ATTACH;FMTTYPE=image/jpeg:https://visitnewbury.org.uk/wp-content/uploads/2026/02/Quiz-Night-Rocket-Propelled-Games.jpg
END:VEVENT
BEGIN:VEVENT
DTSTART;TZID=Europe/London:20261110T190000
DTEND;TZID=Europe/London:20261110T210000
DTSTAMP:20260425T201230
CREATED:20260209T135830Z
LAST-MODIFIED:20260209T135908Z
UID:12003411-1794337200-1794344400@visitnewbury.org.uk
SUMMARY:Quiz Night at the Coat & Bear
DESCRIPTION:The Coat & Bear hosts a weekly quiz night every Tuesday at 7pm. \nMaximum teams of 6 people\, with entry costing £2pp. \nThere are some great prizes to be won too: \n\n1st place: £40 Heartwood Inns voucher\n2nd to last place: a bottle of house wine\n\nYou can book a table by calling the Coat & Bear on 01635 283091\, email newbury@heartwoodinns.com\, or by sending a DM on social media.
URL:https://visitnewbury.org.uk/event/quiz-night-at-the-coat-bear/2026-11-10/
LOCATION:The Coat & Bear\, The Coat & Bear\, RG14 5EU
CATEGORIES:Quiz
ATTACH;FMTTYPE=image/jpeg:https://visitnewbury.org.uk/wp-content/uploads/2026/02/Coat-Bear-Quiz-Night.jpg
END:VEVENT
BEGIN:VEVENT
DTSTART;TZID=Europe/London:20261111T193000
DTEND;TZID=Europe/London:20261111T220000
DTSTAMP:20260425T201230
CREATED:20260216T165447Z
LAST-MODIFIED:20260216T165447Z
UID:12003574-1794425400-1794434400@visitnewbury.org.uk
SUMMARY:Quiz Night at The Dolphin
DESCRIPTION:Don’t miss Quiz Night at The Dolphin\, taking place every Wednesday from 7:30pm to 10pm – book your table by visiting the pub’s website in the link below!
URL:https://visitnewbury.org.uk/event/quiz-night-at-the-dolphin/2026-11-11/
LOCATION:The Dolphin\, The Dolphin Newbury\, RG14 5DT
CATEGORIES:Pub & Restaurant Events,Quiz
ATTACH;FMTTYPE=image/jpeg:https://visitnewbury.org.uk/wp-content/uploads/2026/02/The-Dolphin-Pub-Quiz-e1771260577394.jpg
END:VEVENT
BEGIN:VEVENT
DTSTART;TZID=Europe/London:20261117T190000
DTEND;TZID=Europe/London:20261117T210000
DTSTAMP:20260425T201230
CREATED:20260209T135830Z
LAST-MODIFIED:20260209T135908Z
UID:12003412-1794942000-1794949200@visitnewbury.org.uk
SUMMARY:Quiz Night at the Coat & Bear
DESCRIPTION:The Coat & Bear hosts a weekly quiz night every Tuesday at 7pm. \nMaximum teams of 6 people\, with entry costing £2pp. \nThere are some great prizes to be won too: \n\n1st place: £40 Heartwood Inns voucher\n2nd to last place: a bottle of house wine\n\nYou can book a table by calling the Coat & Bear on 01635 283091\, email newbury@heartwoodinns.com\, or by sending a DM on social media.
URL:https://visitnewbury.org.uk/event/quiz-night-at-the-coat-bear/2026-11-17/
LOCATION:The Coat & Bear\, The Coat & Bear\, RG14 5EU
CATEGORIES:Quiz
ATTACH;FMTTYPE=image/jpeg:https://visitnewbury.org.uk/wp-content/uploads/2026/02/Coat-Bear-Quiz-Night.jpg
END:VEVENT
BEGIN:VEVENT
DTSTART;TZID=Europe/London:20261118T193000
DTEND;TZID=Europe/London:20261118T220000
DTSTAMP:20260425T201230
CREATED:20260216T165447Z
LAST-MODIFIED:20260216T165447Z
UID:12003575-1795030200-1795039200@visitnewbury.org.uk
SUMMARY:Quiz Night at The Dolphin
DESCRIPTION:Don’t miss Quiz Night at The Dolphin\, taking place every Wednesday from 7:30pm to 10pm – book your table by visiting the pub’s website in the link below!
URL:https://visitnewbury.org.uk/event/quiz-night-at-the-dolphin/2026-11-18/
LOCATION:The Dolphin\, The Dolphin Newbury\, RG14 5DT
CATEGORIES:Pub & Restaurant Events,Quiz
ATTACH;FMTTYPE=image/jpeg:https://visitnewbury.org.uk/wp-content/uploads/2026/02/The-Dolphin-Pub-Quiz-e1771260577394.jpg
END:VEVENT
BEGIN:VEVENT
DTSTART;TZID=Europe/London:20261125T193000
DTEND;TZID=Europe/London:20261125T220000
DTSTAMP:20260425T201230
CREATED:20260216T165447Z
LAST-MODIFIED:20260216T165447Z
UID:12003576-1795635000-1795644000@visitnewbury.org.uk
SUMMARY:Quiz Night at The Dolphin
DESCRIPTION:Don’t miss Quiz Night at The Dolphin\, taking place every Wednesday from 7:30pm to 10pm – book your table by visiting the pub’s website in the link below!
URL:https://visitnewbury.org.uk/event/quiz-night-at-the-dolphin/2026-11-25/
LOCATION:The Dolphin\, The Dolphin Newbury\, RG14 5DT
CATEGORIES:Pub & Restaurant Events,Quiz
ATTACH;FMTTYPE=image/jpeg:https://visitnewbury.org.uk/wp-content/uploads/2026/02/The-Dolphin-Pub-Quiz-e1771260577394.jpg
END:VEVENT
END:VCALENDAR