BEGIN:VCALENDAR
VERSION:2.0
PRODID:-//Visit Newbury - ECPv6.13.2.1//NONSGML v1.0//EN
CALSCALE:GREGORIAN
METHOD:PUBLISH
X-WR-CALNAME:Visit Newbury
X-ORIGINAL-URL:https://visitnewbury.org.uk
X-WR-CALDESC:Events for Visit Newbury
REFRESH-INTERVAL;VALUE=DURATION:PT1H
X-Robots-Tag:noindex
X-PUBLISHED-TTL:PT1H
BEGIN:VTIMEZONE
TZID:Europe/London
BEGIN:DAYLIGHT
TZOFFSETFROM:+0000
TZOFFSETTO:+0100
TZNAME:BST
DTSTART:20250330T010000
END:DAYLIGHT
BEGIN:STANDARD
TZOFFSETFROM:+0100
TZOFFSETTO:+0000
TZNAME:GMT
DTSTART:20251026T010000
END:STANDARD
END:VTIMEZONE
BEGIN:VEVENT
DTSTART;TZID=Europe/London:20250926T100000
DTEND;TZID=Europe/London:20250926T130000
DTSTAMP:20260425T230058
CREATED:20250917T155926Z
LAST-MODIFIED:20250917T155926Z
UID:12002309-1758880800-1758891600@visitnewbury.org.uk
SUMMARY:Lee's Job Fair
DESCRIPTION:Looking for your next career move or just starting out? Why not head along to Lee’s Job Fair on Friday 26th September. \nA wide range of employers from across multiple sectors will be attending Lee’s Job Fair\, offering opportunities in industries such as retail\, hospitality\, healthcare\, finance\, technology\, public services\, and more. Whether you’re looking for a fresh start\, a new role\, or simply exploring career options\, this is your chance to connect directly with potential employers and learn about the roles available. Jobseekers – reserve your free space today via the link below. \nWith thanks to Newbury Job Centre and West Berkshire Council.
URL:https://visitnewbury.org.uk/event/lees-job-fair/
LOCATION:West Berkshire Council Offices\, West Berkshire Council Offices\, RG14 5LD
CATEGORIES:Job Fair
ATTACH;FMTTYPE=image/png:https://visitnewbury.org.uk/wp-content/uploads/2025/09/Newbury-Job-Fair-2025.png
END:VEVENT
END:VCALENDAR