BEGIN:VCALENDAR
VERSION:2.0
PRODID:-//Visit Newbury - ECPv6.13.2.1//NONSGML v1.0//EN
CALSCALE:GREGORIAN
METHOD:PUBLISH
X-ORIGINAL-URL:https://visitnewbury.org.uk
X-WR-CALDESC:Events for Visit Newbury
REFRESH-INTERVAL;VALUE=DURATION:PT1H
X-Robots-Tag:noindex
X-PUBLISHED-TTL:PT1H
BEGIN:VTIMEZONE
TZID:Europe/London
BEGIN:DAYLIGHT
TZOFFSETFROM:+0000
TZOFFSETTO:+0100
TZNAME:BST
DTSTART:20250330T010000
END:DAYLIGHT
BEGIN:STANDARD
TZOFFSETFROM:+0100
TZOFFSETTO:+0000
TZNAME:GMT
DTSTART:20251026T010000
END:STANDARD
BEGIN:DAYLIGHT
TZOFFSETFROM:+0000
TZOFFSETTO:+0100
TZNAME:BST
DTSTART:20260329T010000
END:DAYLIGHT
BEGIN:STANDARD
TZOFFSETFROM:+0100
TZOFFSETTO:+0000
TZNAME:GMT
DTSTART:20261025T010000
END:STANDARD
END:VTIMEZONE
BEGIN:VEVENT
DTSTART;TZID=Europe/London:20260128T170000
DTEND;TZID=Europe/London:20260128T170000
DTSTAMP:20260420T123850
CREATED:20260112T093644Z
LAST-MODIFIED:20260112T093644Z
UID:12003151-1769619600-1769619600@visitnewbury.org.uk
SUMMARY:Events Open Evening
DESCRIPTION:Orida Hotel hosts an event open evening on Wednesday 28th January\, where you can meet their Sales Team and explore their conference space\, perfect if you are looking to run an event\, conference or meeting in 2026. Plus\, enjoy complimentary prosecco and canapés!
URL:https://visitnewbury.org.uk/event/orida-events-open-evening/
LOCATION:Orida Hotel Newbury\, Orida Hotel Newbury\, RG20 8XY
CATEGORIES:Networking,Open Days
ATTACH;FMTTYPE=image/webp:https://visitnewbury.org.uk/wp-content/uploads/2026/01/Orida-Hotel-events-open-evening.webp
END:VEVENT
BEGIN:VEVENT
DTSTART;TZID=Europe/London:20260110T100000
DTEND;TZID=Europe/London:20260110T143000
DTSTAMP:20260420T123850
CREATED:20251222T110059Z
LAST-MODIFIED:20251222T110059Z
UID:12003081-1768039200-1768055400@visitnewbury.org.uk
SUMMARY:Volunteer Fair V365
DESCRIPTION:If one of your New Year’s resolutions is trying to give back a little more to your local community\, you won’t want to miss the V365 Volunteer Fair on 10th January! \nThe county’s largest volunteer recruitment fair is organised by Volunteer Centre West Berkshire\, and brings over 50 charitable organisations together under one roof – where you can meet all of the different organisations and learn how you could help support the wonderful work they do. \nClick on the link below to learn more.
URL:https://visitnewbury.org.uk/event/volunteer-fair-v365-2026/
LOCATION:Corn Exchange Newbury\, Corn Exchange\, Market Place\, RG14 5BD
CATEGORIES:Networking,Open Days,Volunteering
ATTACH;FMTTYPE=image/jpeg:https://visitnewbury.org.uk/wp-content/uploads/2025/12/V365-2026.jpg
END:VEVENT
BEGIN:VEVENT
DTSTART;TZID=Europe/London:20250912T160000
DTEND;TZID=Europe/London:20250912T200000
DTSTAMP:20260420T123850
CREATED:20250903T115347Z
LAST-MODIFIED:20250903T120005Z
UID:12002227-1757692800-1757707200@visitnewbury.org.uk
SUMMARY:N-Fest Sundowner
DESCRIPTION:Strictly limited numbers can join the setup team\, volunteers and some of the sponsors ahead of this year’s N-Fest main event. \nThe whole site wont be open but there will be a good selection of drinks you can preview\, music and some relaxed after work drinks – please note bar is card payments only. \nHead below to learn more or book your Sundowner ticket.
URL:https://visitnewbury.org.uk/event/n-fest-sundowner/
LOCATION:Northcroft Playing Fields\, RG14 1RS
CATEGORIES:Community Events,Food & Drink,Networking
ATTACH;FMTTYPE=image/jpeg:https://visitnewbury.org.uk/wp-content/uploads/2025/09/N-Fest-Sundowner.jpg
END:VEVENT
BEGIN:VEVENT
DTSTART;TZID=Europe/London:20250625T130000
DTEND;TZID=Europe/London:20250625T160000
DTSTAMP:20260420T123850
CREATED:20250619T115658Z
LAST-MODIFIED:20250619T115658Z
UID:12002119-1750856400-1750867200@visitnewbury.org.uk
SUMMARY:The Knowledge Event
DESCRIPTION:If you’ve been ever been curious about ways you can give back to our community\, either personally or through your workplace\, then why not head along to Volunteer Centre West Berkshire’s upcoming Knowledge Event at Shaw House? \nThis free\, drop-in event is running on Wednesday 25th June from 1pm – 4pm\, and it’s a great chance to meet local charities\, discover the brilliant work happening across West Berkshire\, and explore how you or your organisation can get involved through volunteering\, fundraising or partnerships. \nThere is an on-site cafe and free parking\, and you can learn more here at the link below.
URL:https://visitnewbury.org.uk/event/the-knowledge-event/
LOCATION:Shaw House\, Shaw House\, RG14 2DR
CATEGORIES:Networking,Open Days,Volunteering
ATTACH;FMTTYPE=image/jpeg:https://visitnewbury.org.uk/wp-content/uploads/2025/06/VCWB-The-Knowledge-Event.jpg
END:VEVENT
BEGIN:VEVENT
DTSTART;TZID=Europe/London:20250306T090000
DTEND;TZID=Europe/London:20250306T103000
DTSTAMP:20260420T123850
CREATED:20250228T142211Z
LAST-MODIFIED:20250228T142610Z
UID:11000812-1741251600-1741257000@visitnewbury.org.uk
SUMMARY:Get Connected - International Women's Day
DESCRIPTION:In honour of International Women’s Day\, Metro Bank Newbury and Get Connected are hosting a special networking \, with two inspiring guest speakers:\n\nSasi Krishnan – Self-employed cookery teacher\nTrish Willetts – CEO\, Newbury BID\n\nGet Connected events are friendly and informal\, where everyone is welcome to join\, making them a great opportunity to expand your local business network. Plus\, there are complimentary pastries and beverages!\n\nThis event is free to attend – secure your spot at the link below.
URL:https://visitnewbury.org.uk/event/get-connected-international-womens-day/
LOCATION:Metro Bank Newbury\, Metro Bank\, RG14 1AE
CATEGORIES:Networking
ATTACH;FMTTYPE=image/jpeg:https://visitnewbury.org.uk/wp-content/uploads/2025/02/Metro-Bank-event.jpg
END:VEVENT
END:VCALENDAR