BEGIN:VCALENDAR
VERSION:2.0
PRODID:-//Visit Newbury - ECPv6.13.2.1//NONSGML v1.0//EN
CALSCALE:GREGORIAN
METHOD:PUBLISH
X-ORIGINAL-URL:https://visitnewbury.org.uk
X-WR-CALDESC:Events for Visit Newbury
REFRESH-INTERVAL;VALUE=DURATION:PT1H
X-Robots-Tag:noindex
X-PUBLISHED-TTL:PT1H
BEGIN:VTIMEZONE
TZID:Europe/London
BEGIN:DAYLIGHT
TZOFFSETFROM:+0000
TZOFFSETTO:+0100
TZNAME:BST
DTSTART:20250330T010000
END:DAYLIGHT
BEGIN:STANDARD
TZOFFSETFROM:+0100
TZOFFSETTO:+0000
TZNAME:GMT
DTSTART:20251026T010000
END:STANDARD
BEGIN:DAYLIGHT
TZOFFSETFROM:+0000
TZOFFSETTO:+0100
TZNAME:BST
DTSTART:20260329T010000
END:DAYLIGHT
BEGIN:STANDARD
TZOFFSETFROM:+0100
TZOFFSETTO:+0000
TZNAME:GMT
DTSTART:20261025T010000
END:STANDARD
END:VTIMEZONE
BEGIN:VEVENT
DTSTART;TZID=Europe/London:20251203T190000
DTEND;TZID=Europe/London:20251203T190000
DTSTAMP:20260425T121015
CREATED:20251006T112758Z
LAST-MODIFIED:20251006T112758Z
UID:12002436-1764788400-1764788400@visitnewbury.org.uk
SUMMARY:Open Mic with Zoe Badmam
DESCRIPTION:Zoe Badman presents Open Mic at Reloaded! Enjoy the amazing local talent of Newbury – or bring your instrument and jump on stage yourself. \nStarts 7pm\, with Happy Hour drinks at the bar. Don’t miss a night of great music\, good vibes\, and cold drinks!
URL:https://visitnewbury.org.uk/event/open-mic-with-zoe-badmam/2025-12-03/
LOCATION:Reloaded Bar\, Reloaded Bar\, RG14 5AN
CATEGORIES:Open Mic,Pub & Restaurant Events
ATTACH;FMTTYPE=image/jpeg:https://visitnewbury.org.uk/wp-content/uploads/2025/10/Reloaded-Open-Mic.jpg
END:VEVENT
BEGIN:VEVENT
DTSTART;TZID=Europe/London:20251204T200000
DTEND;TZID=Europe/London:20251204T200000
DTSTAMP:20260425T121015
CREATED:20251006T113101Z
LAST-MODIFIED:20251006T113101Z
UID:11000402-1764878400-1764878400@visitnewbury.org.uk
SUMMARY:Open Mic Night with Sion Whiley
DESCRIPTION:Up for a sing along? The Newbury host their fantastic open mic night every Thursday from 8pm! \n  \n 
URL:https://visitnewbury.org.uk/event/open-mic-night-with-sion-whiley-2-2/2025-12-04/
LOCATION:The Newbury Pub & Terrace\, The Newbury Pub & Terrace\, RG145HB
CATEGORIES:Open Mic,Pub & Restaurant Events
ATTACH;FMTTYPE=image/jpeg:https://visitnewbury.org.uk/wp-content/uploads/2025/02/The-Newbury-open-mic-night-b.jpg
END:VEVENT
BEGIN:VEVENT
DTSTART;TZID=Europe/London:20251206T100000
DTEND;TZID=Europe/London:20251206T113000
DTSTAMP:20260425T121015
CREATED:20251128T110630Z
LAST-MODIFIED:20251128T111727Z
UID:12003075-1765015200-1765020600@visitnewbury.org.uk
SUMMARY:Christmas Charity Coffee Morning
DESCRIPTION:The Mayor and Mayoress of Newbury will be making a special appearance at our Daisy’s Dream Christmas Coffee Morning – a wonderfully festive morning on Saturday 6th December\, 10am-11.30am at St Nic’s Hall in Newbury opposite the church. \nEnjoy a hot drink – tea\, coffee\, or hot chocolate – and a slice of delicious cake while listening to beautiful carols and Christmas songs performed by the fantastic local choir Incantata.
URL:https://visitnewbury.org.uk/event/christmas-charity-coffee-morning/
LOCATION:St Nicolas Church Hall\, St Nicolas Church Hall\, RG14 5HG
CATEGORIES:Coffee Mornings and Cake Sales,Community Events,Fundraising,Music,Seasonal Events
ATTACH;FMTTYPE=image/jpeg:https://visitnewbury.org.uk/wp-content/uploads/2025/11/Christmas-Charity-Morning-Daisys-Dream.jpg
END:VEVENT
BEGIN:VEVENT
DTSTART;TZID=Europe/London:20251206T150000
DTEND;TZID=Europe/London:20251206T150000
DTSTAMP:20260425T121015
CREATED:20251128T115421Z
LAST-MODIFIED:20251128T115522Z
UID:12003080-1765033200-1765033200@visitnewbury.org.uk
SUMMARY:Coming Home For Christmas
DESCRIPTION:The Cromwell Singers are Coming Home for Christmas to St Mary’s Church\, Shaw on Saturday 6th December at 3.00pm. \nThe choir will be peforming some of their favourite songs from recent concerts\, as well as some new songs they think you will enjoy. \nCharity partner is the Newbury & Thatcham Handybus service\, which provides a lifeline for those having difficulty accessing public transport. \nThis concert with The Cromwell Singers is the perfect excuse to put off shopping for last-minute presents. \nTickets can be ordered from thecromwellsingers@gmail.com.
URL:https://visitnewbury.org.uk/event/coming-home-for-christmas/
LOCATION:St Mary’s Church\, St Mary's Church\, Shaw\, RG14 2DR
CATEGORIES:Christmas,Live Music
ATTACH;FMTTYPE=image/jpeg:https://visitnewbury.org.uk/wp-content/uploads/2025/11/Cromwells_Winter_2025_A5_single_flyer-1.jpg
END:VEVENT
BEGIN:VEVENT
DTSTART;TZID=Europe/London:20251210T190000
DTEND;TZID=Europe/London:20251210T190000
DTSTAMP:20260425T121015
CREATED:20251006T112758Z
LAST-MODIFIED:20251006T112758Z
UID:12002437-1765393200-1765393200@visitnewbury.org.uk
SUMMARY:Open Mic with Zoe Badmam
DESCRIPTION:Zoe Badman presents Open Mic at Reloaded! Enjoy the amazing local talent of Newbury – or bring your instrument and jump on stage yourself. \nStarts 7pm\, with Happy Hour drinks at the bar. Don’t miss a night of great music\, good vibes\, and cold drinks!
URL:https://visitnewbury.org.uk/event/open-mic-with-zoe-badmam/2025-12-10/
LOCATION:Reloaded Bar\, Reloaded Bar\, RG14 5AN
CATEGORIES:Open Mic,Pub & Restaurant Events
ATTACH;FMTTYPE=image/jpeg:https://visitnewbury.org.uk/wp-content/uploads/2025/10/Reloaded-Open-Mic.jpg
END:VEVENT
BEGIN:VEVENT
DTSTART;TZID=Europe/London:20251211T200000
DTEND;TZID=Europe/London:20251211T200000
DTSTAMP:20260425T121015
CREATED:20251006T113101Z
LAST-MODIFIED:20251006T113101Z
UID:11000403-1765483200-1765483200@visitnewbury.org.uk
SUMMARY:Open Mic Night with Sion Whiley
DESCRIPTION:Up for a sing along? The Newbury host their fantastic open mic night every Thursday from 8pm! \n  \n 
URL:https://visitnewbury.org.uk/event/open-mic-night-with-sion-whiley-2-2/2025-12-11/
LOCATION:The Newbury Pub & Terrace\, The Newbury Pub & Terrace\, RG145HB
CATEGORIES:Open Mic,Pub & Restaurant Events
ATTACH;FMTTYPE=image/jpeg:https://visitnewbury.org.uk/wp-content/uploads/2025/02/The-Newbury-open-mic-night-b.jpg
END:VEVENT
BEGIN:VEVENT
DTSTART;TZID=Europe/London:20251214T180000
DTEND;TZID=Europe/London:20251214T180000
DTSTAMP:20260425T121015
CREATED:20250213T152427Z
LAST-MODIFIED:20250213T152619Z
UID:11000310-1765735200-1765735200@visitnewbury.org.uk
SUMMARY:Your Space - Open Mic Night
DESCRIPTION:Your Space is a unique open mic experience for 15-18 year-olds held at the Good Vibes Music Academy studio. \nIt provides a space for Good Vibes students to perform in front of a supportive audience of family\, friends and fellow students in a relaxed and familiar setting. \nWith an audience of 20 this is a fantastic opportunity to test the waters with live performance\, prep for an upcoming show/gig or exam. \nGVMA want to provide a space for their students to showcase their skills\, songs and talents. \nYou can learn more at the link below.
URL:https://visitnewbury.org.uk/event/your-space-open-mic-night/2025-12-14/
LOCATION:Good Vibes Music Academy\, Good Vibes Music Academy\, RG14 5BN
CATEGORIES:Open Mic
ATTACH;FMTTYPE=image/jpeg:https://visitnewbury.org.uk/wp-content/uploads/2025/02/YourSpace.jpg
END:VEVENT
BEGIN:VEVENT
DTSTART;TZID=Europe/London:20251217T190000
DTEND;TZID=Europe/London:20251217T190000
DTSTAMP:20260425T121015
CREATED:20251006T112758Z
LAST-MODIFIED:20251006T112758Z
UID:12002438-1765998000-1765998000@visitnewbury.org.uk
SUMMARY:Open Mic with Zoe Badmam
DESCRIPTION:Zoe Badman presents Open Mic at Reloaded! Enjoy the amazing local talent of Newbury – or bring your instrument and jump on stage yourself. \nStarts 7pm\, with Happy Hour drinks at the bar. Don’t miss a night of great music\, good vibes\, and cold drinks!
URL:https://visitnewbury.org.uk/event/open-mic-with-zoe-badmam/2025-12-17/
LOCATION:Reloaded Bar\, Reloaded Bar\, RG14 5AN
CATEGORIES:Open Mic,Pub & Restaurant Events
ATTACH;FMTTYPE=image/jpeg:https://visitnewbury.org.uk/wp-content/uploads/2025/10/Reloaded-Open-Mic.jpg
END:VEVENT
BEGIN:VEVENT
DTSTART;TZID=Europe/London:20251218T200000
DTEND;TZID=Europe/London:20251218T200000
DTSTAMP:20260425T121015
CREATED:20251006T113101Z
LAST-MODIFIED:20251006T113101Z
UID:11000404-1766088000-1766088000@visitnewbury.org.uk
SUMMARY:Open Mic Night with Sion Whiley
DESCRIPTION:Up for a sing along? The Newbury host their fantastic open mic night every Thursday from 8pm! \n  \n 
URL:https://visitnewbury.org.uk/event/open-mic-night-with-sion-whiley-2-2/2025-12-18/
LOCATION:The Newbury Pub & Terrace\, The Newbury Pub & Terrace\, RG145HB
CATEGORIES:Open Mic,Pub & Restaurant Events
ATTACH;FMTTYPE=image/jpeg:https://visitnewbury.org.uk/wp-content/uploads/2025/02/The-Newbury-open-mic-night-b.jpg
END:VEVENT
BEGIN:VEVENT
DTSTART;TZID=Europe/London:20251231T190000
DTEND;TZID=Europe/London:20260101T010000
DTSTAMP:20260425T121015
CREATED:20251222T134303Z
LAST-MODIFIED:20251223T154724Z
UID:12003089-1767207600-1767229200@visitnewbury.org.uk
SUMMARY:NYE at The High Horse
DESCRIPTION:The High Horse is pulling out all the stops for its first NYE Party! \nStart off strong with Happy Hour from 5pm-9pm\, then enjoy live music from The Polite Applause and DJ Wilf Hertz. \nBook your ticket by heading to the link below and scrolling to The High Horse.
URL:https://visitnewbury.org.uk/event/nye-at-the-high-horse/
LOCATION:The High Horse\, The High Horse\, RG14 1JX
CATEGORIES:Live Music,New Year's Eve,Pub & Restaurant Events
ATTACH;FMTTYPE=image/webp:https://visitnewbury.org.uk/wp-content/uploads/2025/12/The-High-Horse-NYE-2025.webp
END:VEVENT
BEGIN:VEVENT
DTSTART;TZID=Europe/London:20251231T200000
DTEND;TZID=Europe/London:20251231T233000
DTSTAMP:20260425T121015
CREATED:20251222T123648Z
LAST-MODIFIED:20251223T154713Z
UID:12003085-1767211200-1767223800@visitnewbury.org.uk
SUMMARY:Live Music at The Lion: Clustertruck
DESCRIPTION:See out 2025 and celebrate one last party at The Lion\, who think it’s only right to end the year with their friends Clustertruck!
URL:https://visitnewbury.org.uk/event/live-music-at-the-lion-clustertruck/
LOCATION:The Lion\, The Lion\, RG14 1BD
CATEGORIES:Live Music,New Year's Eve,Pub & Restaurant Events
ATTACH;FMTTYPE=image/jpeg:https://visitnewbury.org.uk/wp-content/uploads/2025/12/The-Lion-NYE-2025.jpg
END:VEVENT
BEGIN:VEVENT
DTSTART;TZID=Europe/London:20251231T200000
DTEND;TZID=Europe/London:20251231T233000
DTSTAMP:20260425T121015
CREATED:20251222T124609Z
LAST-MODIFIED:20251223T154659Z
UID:12003086-1767211200-1767223800@visitnewbury.org.uk
SUMMARY:NYE at LSB: with live music from Sion Whiley
DESCRIPTION:LSB is kicking off 2026 with a disco-ball explosion and glitter in every possible form – so wear your sparkles proudly (and loudly)! \nSee out 2025 in style\, with live music from Sion Whiley (from 9pm)\, bubbles on arrival\, confetti cannons and much more. \nBooked tables get free bubbles\, so head to the link below to book your table and secure your spot!
URL:https://visitnewbury.org.uk/event/nye-at-lsb/
LOCATION:The Lock Stock & Barrel\, The Lock Stock & Barrel\, RG14 1AA
CATEGORIES:Live Music,New Year's Eve,Pub & Restaurant Events
ATTACH;FMTTYPE=image/jpeg:https://visitnewbury.org.uk/wp-content/uploads/2025/12/LSB-NYE-2025.jpg
END:VEVENT
BEGIN:VEVENT
DTSTART;TZID=Europe/London:20251231T213000
DTEND;TZID=Europe/London:20251231T233000
DTSTAMP:20260425T121015
CREATED:20251222T123254Z
LAST-MODIFIED:20251223T154518Z
UID:12003084-1767216600-1767223800@visitnewbury.org.uk
SUMMARY:Live Music at The Monument: JJ and the Jukes
DESCRIPTION:Enjoy live music at The Monument on New Year’s Eve\, where JJ and the Jukes will be performing an evening of Rock & Roll covers from the 50s and 60s. \nTickets available FOC from the bar\, make sure you get yours early to avoid disappointment!
URL:https://visitnewbury.org.uk/event/live-music-at-the-monument-jj-and-the-jukes/
LOCATION:The Monument\, The Monument\, RG14 1AN
CATEGORIES:Live Music,New Year's Eve,Pub & Restaurant Events
ATTACH;FMTTYPE=image/jpeg:https://visitnewbury.org.uk/wp-content/uploads/2025/12/The-Monument-NYE-2025.jpg
END:VEVENT
END:VCALENDAR