BEGIN:VCALENDAR
VERSION:2.0
PRODID:-//Visit Newbury - ECPv6.13.2.1//NONSGML v1.0//EN
CALSCALE:GREGORIAN
METHOD:PUBLISH
X-ORIGINAL-URL:https://visitnewbury.org.uk
X-WR-CALDESC:Events for Visit Newbury
REFRESH-INTERVAL;VALUE=DURATION:PT1H
X-Robots-Tag:noindex
X-PUBLISHED-TTL:PT1H
BEGIN:VTIMEZONE
TZID:Europe/London
BEGIN:DAYLIGHT
TZOFFSETFROM:+0000
TZOFFSETTO:+0100
TZNAME:BST
DTSTART:20250330T010000
END:DAYLIGHT
BEGIN:STANDARD
TZOFFSETFROM:+0100
TZOFFSETTO:+0000
TZNAME:GMT
DTSTART:20251026T010000
END:STANDARD
END:VTIMEZONE
BEGIN:VEVENT
DTSTART;TZID=Europe/London:20251101T130000
DTEND;TZID=Europe/London:20251101T130000
DTSTAMP:20260425T121011
CREATED:20250812T124234Z
LAST-MODIFIED:20250812T124716Z
UID:12002183-1762002000-1762002000@visitnewbury.org.uk
SUMMARY:FestiBel IV
DESCRIPTION:FestiBel returns for its 4th year with new songs and a new band member! \nNick Piper created FestiBel after his wife Bel sadly passed away in 2021. When covid restrictions were lifted\, he organised a mini festival to celebrate Bel’s life through music\, and to raise valuable funds for Newbury Cancer Care – FestiBel was born. \nThis special 4th event will take place at Newbury’s Royal British Legion\, where you can expect a wonderful afternoon of music\, with profits again going towards Newbury Cancer Care. \nCapacity at the venue is limited\, so make sure you get in early and book your tickets via the link below.
URL:https://visitnewbury.org.uk/event/festibel-iv/
LOCATION:Pelican Lounge & Haig Hall\, Pelican Lounge & Haig Hall at Newbury Royal British Legion\, RG14 1NP
CATEGORIES:Fundraising,Live Music
ATTACH;FMTTYPE=image/jpeg:https://visitnewbury.org.uk/wp-content/uploads/2025/08/FestiBel.jpg
END:VEVENT
BEGIN:VEVENT
DTSTART;TZID=Europe/London:20251101T190000
DTEND;TZID=Europe/London:20251101T213000
DTSTAMP:20260425T121011
CREATED:20251021T110843Z
LAST-MODIFIED:20251021T110912Z
UID:12003056-1762023600-1762032600@visitnewbury.org.uk
SUMMARY:Reading Male Voice Choir
DESCRIPTION:This sounds like a wonderful evening of music and song\, with two great choirs performing in concert. \nThe award winning Reading Male Voice choir will be joined by the Sing For Fun choir at St John’s church\, as a fundraiser for Parkinson’s UK. \nHead to the link below to learn more or book your tickets.
URL:https://visitnewbury.org.uk/event/reading-male-voice-choir/
LOCATION:St John the Evangelist Church\, St John the Evangelist Church\, RG14 7PY
CATEGORIES:Fundraising,Live Music
ATTACH;FMTTYPE=image/jpeg:https://visitnewbury.org.uk/wp-content/uploads/2025/10/Reading-Male-Voice-Choice-St-Johns-Church.jpg
END:VEVENT
BEGIN:VEVENT
DTSTART;TZID=Europe/London:20251101T203000
DTEND;TZID=Europe/London:20251101T203000
DTSTAMP:20260425T121011
CREATED:20250919T085456Z
LAST-MODIFIED:20251023T175320Z
UID:12002324-1762029000-1762029000@visitnewbury.org.uk
SUMMARY:Live Music at The Lion: Roadhouse
DESCRIPTION:Enjoy live music at The Lion\, with Roadhouse performing classic rock covers from 8:30pm.
URL:https://visitnewbury.org.uk/event/live-music-at-the-lion-roadhouse/
LOCATION:The Lion\, The Lion\, RG14 1BD
CATEGORIES:Live Music,Pub & Restaurant Events
ATTACH;FMTTYPE=image/jpeg:https://visitnewbury.org.uk/wp-content/uploads/2025/09/Roadhouse-The-Lion.jpg
END:VEVENT
BEGIN:VEVENT
DTSTART;TZID=Europe/London:20251101T210000
DTEND;TZID=Europe/London:20251101T210000
DTSTAMP:20260425T121011
CREATED:20251003T103038Z
LAST-MODIFIED:20251003T103038Z
UID:12002420-1762030800-1762030800@visitnewbury.org.uk
SUMMARY:Live Music at The Catherine Wheel: Mississippi Queen
DESCRIPTION:Head along to the Catherine Wheel and enjoy live music from Mississippi Queen in the Courtyard\, from 9pm
URL:https://visitnewbury.org.uk/event/live-music-at-the-catherine-wheel-mississippi-queen/
LOCATION:The Catherine Wheel\, The Catherine Wheel\, RG14 5DB
CATEGORIES:Live Music,Pub & Restaurant Events
ATTACH;FMTTYPE=image/png:https://visitnewbury.org.uk/wp-content/uploads/2025/10/MISSISSPPI-QUEEN.png
END:VEVENT
BEGIN:VEVENT
DTSTART;TZID=Europe/London:20251102T183000
DTEND;TZID=Europe/London:20251102T183000
DTSTAMP:20260425T121011
CREATED:20250729T162500Z
LAST-MODIFIED:20250729T162500Z
UID:12002161-1762108200-1762108200@visitnewbury.org.uk
SUMMARY:Open Mic in the Balcony Bar
DESCRIPTION:Head along to Corn Exchange Newbury’s open mic evening and support local performers as they showcase their talents from live music and spoken word\, to close-up magic and more. \nThe Open Mic Nights are held in the Balcony Bar on the first Sunday of every month. \nActs interesting in taking part can also apply on the Corn Exchange website.
URL:https://visitnewbury.org.uk/event/open-mic-in-the-balcony-bar-5/
LOCATION:Corn Exchange Newbury\, Corn Exchange\, Market Place\, RG14 5BD
CATEGORIES:Open Mic
ATTACH;FMTTYPE=image/webp:https://visitnewbury.org.uk/wp-content/uploads/2025/06/CRAFT-Open-Mic-Night-1-1.webp
END:VEVENT
BEGIN:VEVENT
DTSTART;TZID=Europe/London:20251105T190000
DTEND;TZID=Europe/London:20251105T190000
DTSTAMP:20260425T121011
CREATED:20251006T112758Z
LAST-MODIFIED:20251006T112758Z
UID:12002432-1762369200-1762369200@visitnewbury.org.uk
SUMMARY:Open Mic with Zoe Badmam
DESCRIPTION:Zoe Badman presents Open Mic at Reloaded! Enjoy the amazing local talent of Newbury – or bring your instrument and jump on stage yourself. \nStarts 7pm\, with Happy Hour drinks at the bar. Don’t miss a night of great music\, good vibes\, and cold drinks!
URL:https://visitnewbury.org.uk/event/open-mic-with-zoe-badmam/2025-11-05/
LOCATION:Reloaded Bar\, Reloaded Bar\, RG14 5AN
CATEGORIES:Open Mic,Pub & Restaurant Events
ATTACH;FMTTYPE=image/jpeg:https://visitnewbury.org.uk/wp-content/uploads/2025/10/Reloaded-Open-Mic.jpg
END:VEVENT
BEGIN:VEVENT
DTSTART;TZID=Europe/London:20251106T200000
DTEND;TZID=Europe/London:20251106T200000
DTSTAMP:20260425T121011
CREATED:20251006T113101Z
LAST-MODIFIED:20251006T113101Z
UID:11000398-1762459200-1762459200@visitnewbury.org.uk
SUMMARY:Open Mic Night with Sion Whiley
DESCRIPTION:Up for a sing along? The Newbury host their fantastic open mic night every Thursday from 8pm! \n  \n 
URL:https://visitnewbury.org.uk/event/open-mic-night-with-sion-whiley-2-2/2025-11-06/
LOCATION:The Newbury Pub & Terrace\, The Newbury Pub & Terrace\, RG145HB
CATEGORIES:Open Mic,Pub & Restaurant Events
ATTACH;FMTTYPE=image/jpeg:https://visitnewbury.org.uk/wp-content/uploads/2025/02/The-Newbury-open-mic-night-b.jpg
END:VEVENT
BEGIN:VEVENT
DTSTART;TZID=Europe/London:20251108T110000
DTEND;TZID=Europe/London:20251108T220000
DTSTAMP:20260425T121011
CREATED:20251031T094607Z
LAST-MODIFIED:20251031T094607Z
UID:12003061-1762599600-1762639200@visitnewbury.org.uk
SUMMARY:Delphic’s 6th Birthday Celebrations
DESCRIPTION:Celebrate Delphic’s 6th Birthday in style on 8th November! \nHead along between 11am and 10pm to join the party\, where you can enjoy 6 brand new birthday beers (featuring collabs with some of your other favourite local breweries)\, live music from 4pm\, and party bags for first 50 customers. \nHappy birthday folks!
URL:https://visitnewbury.org.uk/event/delphics-6th-birthday-celebrations/
LOCATION:Delphic Brewing Co Taproom\, Delphic Brewing Co Taproom\, RG14 5DR
CATEGORIES:Live Music,Pub & Restaurant Events
ATTACH;FMTTYPE=image/jpeg:https://visitnewbury.org.uk/wp-content/uploads/2025/10/Delphic-6th-Birthday.jpg
END:VEVENT
BEGIN:VEVENT
DTSTART;TZID=Europe/London:20251108T200000
DTEND;TZID=Europe/London:20251108T233000
DTSTAMP:20260425T121011
CREATED:20250909T120841Z
LAST-MODIFIED:20250909T120841Z
UID:12002301-1762632000-1762644600@visitnewbury.org.uk
SUMMARY:Soul on the Terrace
DESCRIPTION:The Newbury is bringing the best of Soul\, Motown\, Disco and modern classics to town with DJ Steiner and guests. \nThis over-30s night promises great music\, dancing\, and atmosphere\, running from 8pm until late on select dates this autumn.
URL:https://visitnewbury.org.uk/event/soul-on-the-terrace/2025-11-08/
LOCATION:The Newbury Pub & Terrace\, The Newbury Pub & Terrace\, RG145HB
CATEGORIES:Live Music,Pub & Restaurant Events
ATTACH;FMTTYPE=image/jpeg:https://visitnewbury.org.uk/wp-content/uploads/2025/09/Soul-on-the-Terrace-The-Newbury.jpg
END:VEVENT
BEGIN:VEVENT
DTSTART;TZID=Europe/London:20251109T180000
DTEND;TZID=Europe/London:20251109T180000
DTSTAMP:20260425T121011
CREATED:20250213T152427Z
LAST-MODIFIED:20250213T152619Z
UID:11000309-1762711200-1762711200@visitnewbury.org.uk
SUMMARY:Your Space - Open Mic Night
DESCRIPTION:Your Space is a unique open mic experience for 15-18 year-olds held at the Good Vibes Music Academy studio. \nIt provides a space for Good Vibes students to perform in front of a supportive audience of family\, friends and fellow students in a relaxed and familiar setting. \nWith an audience of 20 this is a fantastic opportunity to test the waters with live performance\, prep for an upcoming show/gig or exam. \nGVMA want to provide a space for their students to showcase their skills\, songs and talents. \nYou can learn more at the link below.
URL:https://visitnewbury.org.uk/event/your-space-open-mic-night/2025-11-09/
LOCATION:Good Vibes Music Academy\, Good Vibes Music Academy\, RG14 5BN
CATEGORIES:Open Mic
ATTACH;FMTTYPE=image/jpeg:https://visitnewbury.org.uk/wp-content/uploads/2025/02/YourSpace.jpg
END:VEVENT
BEGIN:VEVENT
DTSTART;TZID=Europe/London:20251112T190000
DTEND;TZID=Europe/London:20251112T190000
DTSTAMP:20260425T121012
CREATED:20251006T112758Z
LAST-MODIFIED:20251006T112758Z
UID:12002433-1762974000-1762974000@visitnewbury.org.uk
SUMMARY:Open Mic with Zoe Badmam
DESCRIPTION:Zoe Badman presents Open Mic at Reloaded! Enjoy the amazing local talent of Newbury – or bring your instrument and jump on stage yourself. \nStarts 7pm\, with Happy Hour drinks at the bar. Don’t miss a night of great music\, good vibes\, and cold drinks!
URL:https://visitnewbury.org.uk/event/open-mic-with-zoe-badmam/2025-11-12/
LOCATION:Reloaded Bar\, Reloaded Bar\, RG14 5AN
CATEGORIES:Open Mic,Pub & Restaurant Events
ATTACH;FMTTYPE=image/jpeg:https://visitnewbury.org.uk/wp-content/uploads/2025/10/Reloaded-Open-Mic.jpg
END:VEVENT
BEGIN:VEVENT
DTSTART;TZID=Europe/London:20251113T200000
DTEND;TZID=Europe/London:20251113T200000
DTSTAMP:20260425T121012
CREATED:20251006T113101Z
LAST-MODIFIED:20251006T113101Z
UID:11000399-1763064000-1763064000@visitnewbury.org.uk
SUMMARY:Open Mic Night with Sion Whiley
DESCRIPTION:Up for a sing along? The Newbury host their fantastic open mic night every Thursday from 8pm! \n  \n 
URL:https://visitnewbury.org.uk/event/open-mic-night-with-sion-whiley-2-2/2025-11-13/
LOCATION:The Newbury Pub & Terrace\, The Newbury Pub & Terrace\, RG145HB
CATEGORIES:Open Mic,Pub & Restaurant Events
ATTACH;FMTTYPE=image/jpeg:https://visitnewbury.org.uk/wp-content/uploads/2025/02/The-Newbury-open-mic-night-b.jpg
END:VEVENT
BEGIN:VEVENT
DTSTART;TZID=Europe/London:20251114T170000
DTEND;TZID=Europe/London:20251114T210000
DTSTAMP:20260425T121012
CREATED:20251028T110324Z
LAST-MODIFIED:20251106T105543Z
UID:12003060-1763139600-1763154000@visitnewbury.org.uk
SUMMARY:The Night Before...
DESCRIPTION:Join us in Newbury Market Place from 5pm on Friday 14th November\, as we get into the festive spirit ahead of a very busy day at the Christmas Lights Switch On on Saturday. \nWe’ll be kicking off Christmas Party season with FREE live music from fantastic local bands – do come along and start the party with us! \nThe evening’s entertainment will be opened by The Rokkits\, followed by The Caskettes at 6.30pm\, and headlined by local favourites Juliette The Band at 8pm. It wouldn’t be Christmas without a big-stage peformance of The Big Red Guy! \n \n 
URL:https://visitnewbury.org.uk/event/the-night-before/
LOCATION:Market Place\, Newbury\, Market Place\, Newbury
CATEGORIES:Christmas,Community Events,Live Music
ATTACH;FMTTYPE=image/jpeg:https://visitnewbury.org.uk/wp-content/uploads/2025/10/The-Night-Before-lineup-1.jpg
END:VEVENT
BEGIN:VEVENT
DTSTART;TZID=Europe/London:20251114T193000
DTEND;TZID=Europe/London:20251114T213000
DTSTAMP:20260425T121012
CREATED:20251014T130858Z
LAST-MODIFIED:20251014T131042Z
UID:12003049-1763148600-1763155800@visitnewbury.org.uk
SUMMARY:Nosferatu: Silent cinema with live musical accompaniment
DESCRIPTION:A Symphony of horrors – The silent masterpiece with a brand-new live score. \nHaving recently come to a new generation thanks to Robert Eggers’ recent remake\, Nosferatu (1922) is arguably the film that gave birth to the horror genre. Notable as the first cinematic interpretation of Bram Stoker’s Dracula\, its combination of expressionistic acting and unforgettable images renders it just as powerful and unsettling today as when it first thrilled cinema goers 100 years ago. \nChris Green’s new score was commissioned by English Heritage for a live outdoor screening of the film at Dracula’s spiritual home of Whitby Abbey. The music is a haunting blend of electronic and acoustic instruments performed liveby the composer and combined with FW Murnau’s iconic images makes for a genuinely remarkable and unique cinematic experience. \nBBFC film rating PG (although not suitable for very young children). \n90 minutes plus 20-minute interval. Book via the link below.
URL:https://visitnewbury.org.uk/event/nosferatu-silent-cinema-with-live-musical-accompaniment/
LOCATION:Shaw House\, Shaw House\, RG14 2DR
CATEGORIES:Cinema,Live Music
ATTACH;FMTTYPE=image/jpeg:https://visitnewbury.org.uk/wp-content/uploads/2025/10/Nosferatu-Shaw-House.jpg
END:VEVENT
BEGIN:VEVENT
DTSTART;TZID=Europe/London:20251115T090000
DTEND;TZID=Europe/London:20251115T193000
DTSTAMP:20260425T121012
CREATED:20250813T091749Z
LAST-MODIFIED:20251113T102318Z
UID:12002202-1763197200-1763235000@visitnewbury.org.uk
SUMMARY:Christmas Lights Switch On 2025
DESCRIPTION:We are delighted to announce the return of one of Newbury’s largest free-to-attend events\, the Christmas Lights Switch On takes place on 15th November! \nExpect a full day of live music\, entertainment for all the family\, a chance to meeting Paddington in person\, market stalls and much more – all leading up to the spectatular Christmas Lights Switch On finale at 6.30pm in Market Place. We’ve got quite the finale lined up\, including a short light show and firework display! See the full schedule on our main event page.
URL:https://visitnewbury.org.uk/event/christmas-lights-switch-on-2025/
LOCATION:Newbury Town Centre\, Newbury Town Centre\, RG15 5AA
CATEGORIES:Christmas,Community Events,Craft Fair,Live Music,Markets,Outdoor Performances
ATTACH;FMTTYPE=image/jpeg:https://visitnewbury.org.uk/wp-content/uploads/2025/10/Christmas-Lights-event-tile.jpg
END:VEVENT
BEGIN:VEVENT
DTSTART;TZID=Europe/London:20251115T200000
DTEND;TZID=Europe/London:20251115T200000
DTSTAMP:20260425T121012
CREATED:20251003T103337Z
LAST-MODIFIED:20251003T103337Z
UID:12002421-1763236800-1763236800@visitnewbury.org.uk
SUMMARY:Live Music at The Catherine Wheel: Jukefox
DESCRIPTION:Head over to the Catherine Wheel after Newbury’s Christmas Lights Switch On\, and enjoy live music from Jukefox\, from 8pm!
URL:https://visitnewbury.org.uk/event/live-music-at-the-catherine-wheel-jukefox/
LOCATION:The Catherine Wheel\, The Catherine Wheel\, RG14 5DB
CATEGORIES:Live Music,Pub & Restaurant Events
ATTACH;FMTTYPE=image/png:https://visitnewbury.org.uk/wp-content/uploads/2025/10/CW-JUKEFOX.png
END:VEVENT
BEGIN:VEVENT
DTSTART;TZID=Europe/London:20251119T190000
DTEND;TZID=Europe/London:20251119T190000
DTSTAMP:20260425T121012
CREATED:20251006T112758Z
LAST-MODIFIED:20251006T112758Z
UID:12002434-1763578800-1763578800@visitnewbury.org.uk
SUMMARY:Open Mic with Zoe Badmam
DESCRIPTION:Zoe Badman presents Open Mic at Reloaded! Enjoy the amazing local talent of Newbury – or bring your instrument and jump on stage yourself. \nStarts 7pm\, with Happy Hour drinks at the bar. Don’t miss a night of great music\, good vibes\, and cold drinks!
URL:https://visitnewbury.org.uk/event/open-mic-with-zoe-badmam/2025-11-19/
LOCATION:Reloaded Bar\, Reloaded Bar\, RG14 5AN
CATEGORIES:Open Mic,Pub & Restaurant Events
ATTACH;FMTTYPE=image/jpeg:https://visitnewbury.org.uk/wp-content/uploads/2025/10/Reloaded-Open-Mic.jpg
END:VEVENT
BEGIN:VEVENT
DTSTART;TZID=Europe/London:20251120T200000
DTEND;TZID=Europe/London:20251120T200000
DTSTAMP:20260425T121012
CREATED:20251006T113101Z
LAST-MODIFIED:20251006T113101Z
UID:11000400-1763668800-1763668800@visitnewbury.org.uk
SUMMARY:Open Mic Night with Sion Whiley
DESCRIPTION:Up for a sing along? The Newbury host their fantastic open mic night every Thursday from 8pm! \n  \n 
URL:https://visitnewbury.org.uk/event/open-mic-night-with-sion-whiley-2-2/2025-11-20/
LOCATION:The Newbury Pub & Terrace\, The Newbury Pub & Terrace\, RG145HB
CATEGORIES:Open Mic,Pub & Restaurant Events
ATTACH;FMTTYPE=image/jpeg:https://visitnewbury.org.uk/wp-content/uploads/2025/02/The-Newbury-open-mic-night-b.jpg
END:VEVENT
BEGIN:VEVENT
DTSTART;TZID=Europe/London:20251126T190000
DTEND;TZID=Europe/London:20251126T190000
DTSTAMP:20260425T121012
CREATED:20251006T112758Z
LAST-MODIFIED:20251006T112758Z
UID:12002435-1764183600-1764183600@visitnewbury.org.uk
SUMMARY:Open Mic with Zoe Badmam
DESCRIPTION:Zoe Badman presents Open Mic at Reloaded! Enjoy the amazing local talent of Newbury – or bring your instrument and jump on stage yourself. \nStarts 7pm\, with Happy Hour drinks at the bar. Don’t miss a night of great music\, good vibes\, and cold drinks!
URL:https://visitnewbury.org.uk/event/open-mic-with-zoe-badmam/2025-11-26/
LOCATION:Reloaded Bar\, Reloaded Bar\, RG14 5AN
CATEGORIES:Open Mic,Pub & Restaurant Events
ATTACH;FMTTYPE=image/jpeg:https://visitnewbury.org.uk/wp-content/uploads/2025/10/Reloaded-Open-Mic.jpg
END:VEVENT
BEGIN:VEVENT
DTSTART;TZID=Europe/London:20251127T200000
DTEND;TZID=Europe/London:20251127T200000
DTSTAMP:20260425T121012
CREATED:20251006T113101Z
LAST-MODIFIED:20251006T113101Z
UID:11000401-1764273600-1764273600@visitnewbury.org.uk
SUMMARY:Open Mic Night with Sion Whiley
DESCRIPTION:Up for a sing along? The Newbury host their fantastic open mic night every Thursday from 8pm! \n  \n 
URL:https://visitnewbury.org.uk/event/open-mic-night-with-sion-whiley-2-2/2025-11-27/
LOCATION:The Newbury Pub & Terrace\, The Newbury Pub & Terrace\, RG145HB
CATEGORIES:Open Mic,Pub & Restaurant Events
ATTACH;FMTTYPE=image/jpeg:https://visitnewbury.org.uk/wp-content/uploads/2025/02/The-Newbury-open-mic-night-b.jpg
END:VEVENT
BEGIN:VEVENT
DTSTART;TZID=Europe/London:20251128T200000
DTEND;TZID=Europe/London:20251128T200000
DTSTAMP:20260425T121012
CREATED:20251003T102842Z
LAST-MODIFIED:20251003T102842Z
UID:12002419-1764360000-1764360000@visitnewbury.org.uk
SUMMARY:Live Music at The Catherine Wheel: Wood & Steel
DESCRIPTION:Head along to the Catherine Wheel and enjoy live music from Wood & Steel\, from 8pm
URL:https://visitnewbury.org.uk/event/live-music-at-the-catherine-wheel-wood-steel/
LOCATION:The Catherine Wheel\, The Catherine Wheel\, RG14 5DB
CATEGORIES:Live Music,Pub & Restaurant Events
ATTACH;FMTTYPE=image/png:https://visitnewbury.org.uk/wp-content/uploads/2025/10/CW-WOOD-STEEL.png
END:VEVENT
BEGIN:VEVENT
DTSTART;TZID=Europe/London:20251130T193000
DTEND;TZID=Europe/London:20251130T220000
DTSTAMP:20260425T121012
CREATED:20250909T102332Z
LAST-MODIFIED:20251003T103919Z
UID:12002278-1764531000-1764540000@visitnewbury.org.uk
SUMMARY:Open Mic Night at The Wheel
DESCRIPTION:Looking for a relaxed Sunday night out? Open Mic Night at The Catherine Wheel is the perfect spot to enjoy live local music in a friendly\, welcoming setting. \nHosted by Sion Whiley\, the monthly event invites singers\, musicians\, and performers of all styles to take to the stage\, regardless of whether you’re a seasoned gigging pro or trying it for the first time! Not performing? Head along\, grab a drink\, and enjoy the atmosphere. \nThe open mic nights will take place on the last Sunday each month.
URL:https://visitnewbury.org.uk/event/open-mic-night-at-the-wheel/2025-11-30/
LOCATION:The Catherine Wheel\, The Catherine Wheel\, RG14 5DB
CATEGORIES:Open Mic,Pub & Restaurant Events
ATTACH;FMTTYPE=image/png:https://visitnewbury.org.uk/wp-content/uploads/2025/09/CW-OPEN-MIC-NIGHT.png
END:VEVENT
END:VCALENDAR