BEGIN:VCALENDAR
VERSION:2.0
PRODID:-//Visit Newbury - ECPv6.13.2.1//NONSGML v1.0//EN
CALSCALE:GREGORIAN
METHOD:PUBLISH
X-WR-CALNAME:Visit Newbury
X-ORIGINAL-URL:https://visitnewbury.org.uk
X-WR-CALDESC:Events for Visit Newbury
REFRESH-INTERVAL;VALUE=DURATION:PT1H
X-Robots-Tag:noindex
X-PUBLISHED-TTL:PT1H
BEGIN:VTIMEZONE
TZID:Europe/London
BEGIN:DAYLIGHT
TZOFFSETFROM:+0000
TZOFFSETTO:+0100
TZNAME:BST
DTSTART:20250330T010000
END:DAYLIGHT
BEGIN:STANDARD
TZOFFSETFROM:+0100
TZOFFSETTO:+0000
TZNAME:GMT
DTSTART:20251026T010000
END:STANDARD
END:VTIMEZONE
BEGIN:VEVENT
DTSTART;TZID=Europe/London:20251002T200000
DTEND;TZID=Europe/London:20251002T200000
DTSTAMP:20260425T144721
CREATED:20250220T094348Z
LAST-MODIFIED:20250814T133653Z
UID:11000393-1759435200-1759435200@visitnewbury.org.uk
SUMMARY:Open Mic Night with Sion Whiley
DESCRIPTION:Up for a sing along? The Newbury host their fantastic open mic night every Thursday from 8pm! \n  \n 
URL:https://visitnewbury.org.uk/event/open-mic-night-with-sion-whiley-2/2025-10-02/
LOCATION:The Newbury Pub & Terrace\, The Newbury Pub & Terrace\, RG145HB
CATEGORIES:Open Mic,Pub & Restaurant Events
ATTACH;FMTTYPE=image/jpeg:https://visitnewbury.org.uk/wp-content/uploads/2025/02/The-Newbury-Sion-Whiley.jpg
END:VEVENT
BEGIN:VEVENT
DTSTART;TZID=Europe/London:20251004T200000
DTEND;TZID=Europe/London:20251004T200000
DTSTAMP:20260425T144721
CREATED:20250905T001224Z
LAST-MODIFIED:20250905T001316Z
UID:12002271-1759608000-1759608000@visitnewbury.org.uk
SUMMARY:Live Music at The Lion: Lee Robert
DESCRIPTION:The Lion certainly haven’t forgotten their music lovers\, with a packed line up for their infamous Saturday night bands during September & October!
URL:https://visitnewbury.org.uk/event/live-music-at-the-lion-lee-robert/
LOCATION:The Lion\, The Lion\, RG14 1BD
CATEGORIES:Live Music,Pub & Restaurant Events
ATTACH;FMTTYPE=image/jpeg:https://visitnewbury.org.uk/wp-content/uploads/2025/09/Live-Music-at-The-Lion-September.jpg
END:VEVENT
BEGIN:VEVENT
DTSTART;TZID=Europe/London:20251004T200000
DTEND;TZID=Europe/London:20251004T200000
DTSTAMP:20260425T144721
CREATED:20250918T083241Z
LAST-MODIFIED:20250918T083241Z
UID:12002310-1759608000-1759608000@visitnewbury.org.uk
SUMMARY:Drag Night with Zelda Stone
DESCRIPTION:Join in the fun at Cobrizo Lounge for their next Drag Night featuring live music from the fantastic Zelda Stone. She has an amazing voice and there is something for everyone! \nBooking is recommended for tables above 6 people\, as spaces will be limited – head to the link below to reserve your table.
URL:https://visitnewbury.org.uk/event/drag-night-with-zelda-stone-2/
LOCATION:Cobrizo Lounge\, Cobrizo Lounge\, RG14 1DJ
CATEGORIES:Live Music,Pub & Restaurant Events
ATTACH;FMTTYPE=image/jpeg:https://visitnewbury.org.uk/wp-content/uploads/2025/09/Zelda-Stone-Cobrizo-Lounge-1.jpg
END:VEVENT
BEGIN:VEVENT
DTSTART;TZID=Europe/London:20251004T200000
DTEND;TZID=Europe/London:20251004T223000
DTSTAMP:20260425T144721
CREATED:20250909T134813Z
LAST-MODIFIED:20250909T134813Z
UID:12002303-1759608000-1759617000@visitnewbury.org.uk
SUMMARY:Annie Keating Band
DESCRIPTION:A staple of the contemporary Americana scene\, Annie Keating writes and sings like a woman who knows deep down that heartache is the price of hope\, and she can make us believe\, in a way that only the best artists can\, that all of it is worth the cost. \nHaving played at Ace Space solo before\, Annie returns once more – this time with her full British band! \nOpening the evening will be Liverpool alt-folk band ‘She´s In The Trees’\, described as “haunting and ethereal” by their Madrid based label. \nLearn more or book your tickets via the link below.
URL:https://visitnewbury.org.uk/event/annie-keating-band/
LOCATION:ACE Space\, ACE Space\, RG14 5PR
CATEGORIES:Live Music
ATTACH;FMTTYPE=image/jpeg:https://visitnewbury.org.uk/wp-content/uploads/2025/09/Annie-Keating-Ace-Space.jpg
END:VEVENT
BEGIN:VEVENT
DTSTART;TZID=Europe/London:20251004T210000
DTEND;TZID=Europe/London:20251004T210000
DTSTAMP:20260425T144721
CREATED:20251003T102527Z
LAST-MODIFIED:20251003T102527Z
UID:12002406-1759611600-1759611600@visitnewbury.org.uk
SUMMARY:Live Music at The Catherine Wheel: Hollie Feltham
DESCRIPTION:Head along to the Catherine Wheel and enjoy live music from Hollie Feltham\, from 9pm
URL:https://visitnewbury.org.uk/event/live-music-at-the-catherine-wheel-hollie-feltham/
LOCATION:The Catherine Wheel\, The Catherine Wheel\, RG14 5DB
CATEGORIES:Live Music,Pub & Restaurant Events
ATTACH;FMTTYPE=image/png:https://visitnewbury.org.uk/wp-content/uploads/2025/10/CW-HOLLIE-FELTHAM.png
END:VEVENT
BEGIN:VEVENT
DTSTART;TZID=Europe/London:20251005T183000
DTEND;TZID=Europe/London:20251005T183000
DTSTAMP:20260425T144721
CREATED:20250729T162424Z
LAST-MODIFIED:20250729T162424Z
UID:12002160-1759689000-1759689000@visitnewbury.org.uk
SUMMARY:Open Mic in the Balcony Bar
DESCRIPTION:Head along to Corn Exchange Newbury’s open mic evening and support local performers as they showcase their talents from live music and spoken word\, to close-up magic and more. \nThe Open Mic Nights are held in the Balcony Bar on the first Sunday of every month. \nActs interesting in taking part can also apply on the Corn Exchange website.
URL:https://visitnewbury.org.uk/event/open-mic-in-the-balcony-bar-4/
LOCATION:Corn Exchange Newbury\, Corn Exchange\, Market Place\, RG14 5BD
CATEGORIES:Open Mic
ATTACH;FMTTYPE=image/webp:https://visitnewbury.org.uk/wp-content/uploads/2025/06/CRAFT-Open-Mic-Night-1-1.webp
END:VEVENT
BEGIN:VEVENT
DTSTART;TZID=Europe/London:20251008T190000
DTEND;TZID=Europe/London:20251008T190000
DTSTAMP:20260425T144721
CREATED:20251006T112758Z
LAST-MODIFIED:20251006T112758Z
UID:12002428-1759950000-1759950000@visitnewbury.org.uk
SUMMARY:Open Mic with Zoe Badmam
DESCRIPTION:Zoe Badman presents Open Mic at Reloaded! Enjoy the amazing local talent of Newbury – or bring your instrument and jump on stage yourself. \nStarts 7pm\, with Happy Hour drinks at the bar. Don’t miss a night of great music\, good vibes\, and cold drinks!
URL:https://visitnewbury.org.uk/event/open-mic-with-zoe-badmam/2025-10-08/
LOCATION:Reloaded Bar\, Reloaded Bar\, RG14 5AN
CATEGORIES:Open Mic,Pub & Restaurant Events
ATTACH;FMTTYPE=image/jpeg:https://visitnewbury.org.uk/wp-content/uploads/2025/10/Reloaded-Open-Mic.jpg
END:VEVENT
BEGIN:VEVENT
DTSTART;TZID=Europe/London:20251009T200000
DTEND;TZID=Europe/London:20251009T200000
DTSTAMP:20260425T144721
CREATED:20251006T113101Z
LAST-MODIFIED:20251006T113101Z
UID:11000394-1760040000-1760040000@visitnewbury.org.uk
SUMMARY:Open Mic Night with Sion Whiley
DESCRIPTION:Up for a sing along? The Newbury host their fantastic open mic night every Thursday from 8pm! \n  \n 
URL:https://visitnewbury.org.uk/event/open-mic-night-with-sion-whiley-2-2/2025-10-09/
LOCATION:The Newbury Pub & Terrace\, The Newbury Pub & Terrace\, RG145HB
CATEGORIES:Open Mic,Pub & Restaurant Events
ATTACH;FMTTYPE=image/jpeg:https://visitnewbury.org.uk/wp-content/uploads/2025/02/The-Newbury-open-mic-night-b.jpg
END:VEVENT
BEGIN:VEVENT
DTSTART;TZID=Europe/London:20251011T210000
DTEND;TZID=Europe/London:20251011T210000
DTSTAMP:20260425T144721
CREATED:20251009T121120Z
LAST-MODIFIED:20251009T121120Z
UID:12003028-1760216400-1760216400@visitnewbury.org.uk
SUMMARY:Live Music at The Monument: Pop Punk Disaster
DESCRIPTION:Enjoy live music at The Monument\, with the Pop Punk Disaster performing from 9pm! \nExpect cover from the the likes of Blink-182\, Green Day\, Sum41\, and more. Pull out the hairspray\, the Dr Martens and the plaid shirts for a brilliant night of singing and dancing!
URL:https://visitnewbury.org.uk/event/live-music-at-the-monument-pop-punk-disaster/
LOCATION:The Monument\, The Monument\, RG14 1AN
CATEGORIES:Live Music,Pub & Restaurant Events
ATTACH;FMTTYPE=image/jpeg:https://visitnewbury.org.uk/wp-content/uploads/2025/10/The-Monument-Pop-Punk-Disaster.jpg
END:VEVENT
BEGIN:VEVENT
DTSTART;TZID=Europe/London:20251012T180000
DTEND;TZID=Europe/London:20251012T180000
DTSTAMP:20260425T144721
CREATED:20250213T152427Z
LAST-MODIFIED:20250213T152619Z
UID:11000308-1760292000-1760292000@visitnewbury.org.uk
SUMMARY:Your Space - Open Mic Night
DESCRIPTION:Your Space is a unique open mic experience for 15-18 year-olds held at the Good Vibes Music Academy studio. \nIt provides a space for Good Vibes students to perform in front of a supportive audience of family\, friends and fellow students in a relaxed and familiar setting. \nWith an audience of 20 this is a fantastic opportunity to test the waters with live performance\, prep for an upcoming show/gig or exam. \nGVMA want to provide a space for their students to showcase their skills\, songs and talents. \nYou can learn more at the link below.
URL:https://visitnewbury.org.uk/event/your-space-open-mic-night/2025-10-12/
LOCATION:Good Vibes Music Academy\, Good Vibes Music Academy\, RG14 5BN
CATEGORIES:Open Mic
ATTACH;FMTTYPE=image/jpeg:https://visitnewbury.org.uk/wp-content/uploads/2025/02/YourSpace.jpg
END:VEVENT
BEGIN:VEVENT
DTSTART;TZID=Europe/London:20251015T183000
DTEND;TZID=Europe/London:20251015T183000
DTSTAMP:20260425T144721
CREATED:20251009T113826Z
LAST-MODIFIED:20251009T113925Z
UID:12003023-1760553000-1760553000@visitnewbury.org.uk
SUMMARY:An Evening of Jazz & Blues Music with Jon Walsh
DESCRIPTION:Join Chego’s for an evening of jazz & blues with fantastic local artist Jon Walsh\, \nBook a table and enjoy a relaxed evening of wine\, cheese and smooth jazz\, from 6:30pm. \nHead to the link below to book your table.
URL:https://visitnewbury.org.uk/event/an-evening-of-jazz-blues-music-with-jon-walsh-2/
LOCATION:Chego’s\, Chego's\, RG14 5LL
CATEGORIES:Live Music,Pub & Restaurant Events
ATTACH;FMTTYPE=image/jpeg:https://visitnewbury.org.uk/wp-content/uploads/2025/10/Chegos-an-evening-of-Jazz-Blues-October.jpg
END:VEVENT
BEGIN:VEVENT
DTSTART;TZID=Europe/London:20251015T190000
DTEND;TZID=Europe/London:20251015T190000
DTSTAMP:20260425T144721
CREATED:20251006T112758Z
LAST-MODIFIED:20251006T112758Z
UID:12002429-1760554800-1760554800@visitnewbury.org.uk
SUMMARY:Open Mic with Zoe Badmam
DESCRIPTION:Zoe Badman presents Open Mic at Reloaded! Enjoy the amazing local talent of Newbury – or bring your instrument and jump on stage yourself. \nStarts 7pm\, with Happy Hour drinks at the bar. Don’t miss a night of great music\, good vibes\, and cold drinks!
URL:https://visitnewbury.org.uk/event/open-mic-with-zoe-badmam/2025-10-15/
LOCATION:Reloaded Bar\, Reloaded Bar\, RG14 5AN
CATEGORIES:Open Mic,Pub & Restaurant Events
ATTACH;FMTTYPE=image/jpeg:https://visitnewbury.org.uk/wp-content/uploads/2025/10/Reloaded-Open-Mic.jpg
END:VEVENT
BEGIN:VEVENT
DTSTART;TZID=Europe/London:20251016T200000
DTEND;TZID=Europe/London:20251016T200000
DTSTAMP:20260425T144721
CREATED:20251006T113101Z
LAST-MODIFIED:20251006T113101Z
UID:11000395-1760644800-1760644800@visitnewbury.org.uk
SUMMARY:Open Mic Night with Sion Whiley
DESCRIPTION:Up for a sing along? The Newbury host their fantastic open mic night every Thursday from 8pm! \n  \n 
URL:https://visitnewbury.org.uk/event/open-mic-night-with-sion-whiley-2-2/2025-10-16/
LOCATION:The Newbury Pub & Terrace\, The Newbury Pub & Terrace\, RG145HB
CATEGORIES:Open Mic,Pub & Restaurant Events
ATTACH;FMTTYPE=image/jpeg:https://visitnewbury.org.uk/wp-content/uploads/2025/02/The-Newbury-open-mic-night-b.jpg
END:VEVENT
BEGIN:VEVENT
DTSTART;TZID=Europe/London:20251017T210000
DTEND;TZID=Europe/London:20251017T210000
DTSTAMP:20260425T144721
CREATED:20251003T120216Z
LAST-MODIFIED:20251003T120216Z
UID:12002426-1760734800-1760734800@visitnewbury.org.uk
SUMMARY:Live Music at The Globe: Mostly Matt
DESCRIPTION:Live music at The Globe from 9pm!
URL:https://visitnewbury.org.uk/event/live-music-at-the-globe-mostly-matt-2/
LOCATION:The Globe\, The Globe\, RG14 5HB
CATEGORIES:Live Music,Pub & Restaurant Events
ATTACH;FMTTYPE=image/jpeg:https://visitnewbury.org.uk/wp-content/uploads/2025/10/Mostly-Matt.jpg
END:VEVENT
BEGIN:VEVENT
DTSTART;TZID=Europe/London:20251018T190000
DTEND;TZID=Europe/London:20251018T230000
DTSTAMP:20260425T144721
CREATED:20250904T225417Z
LAST-MODIFIED:20251017T123508Z
UID:12002231-1760814000-1760828400@visitnewbury.org.uk
SUMMARY:Raise it for a Reason Auction & Raffle
DESCRIPTION:When Summer was just 13 years old\, she suffered a spinal stroke that left her paralysed for four long weeks. Thanks to the incredible generosity of the the local public over the past year\, Summer has been able to access vital therapies not available on the NHS. \nSummer has now teamed up with brand new Newbury locals The High Horse Pub\, plus favourite local musician Sion Whiley\, to bring you a night of good vibes\, live music and community spirit – all while raising awareness of Childhood Stroke and helping to raise fuds that can support other children and families facing similar challenges. They aim to: \n💫 Build a network for children silently affected by stroke\n💫 Raise funds for essential therapies and treatments not available through the NHS\n💫 Share stories and inspire hope\n💫 Connect with like-minded people who want to make a difference \nThere will be raffle tickets available on the night\, with a whole load of prizes generously donated from local businesses in and around Newbury & Thatcham. \nYou can see the latest event updates on Summer’s Instagram page\, or head to the link below to learn more about Summer’s story.
URL:https://visitnewbury.org.uk/event/raise-it-for-a-reason-auction-raffle/
LOCATION:The High Horse\, The High Horse\, RG14 1JX
CATEGORIES:Community Events,Fundraising,Health & Wellbeing,Live Music,Pub & Restaurant Events
ATTACH;FMTTYPE=image/jpeg:https://visitnewbury.org.uk/wp-content/uploads/2025/09/Raise-it-for-a-Reason-Raffle.jpg
END:VEVENT
BEGIN:VEVENT
DTSTART;TZID=Europe/London:20251018T200000
DTEND;TZID=Europe/London:20251018T233000
DTSTAMP:20260425T144721
CREATED:20250909T120841Z
LAST-MODIFIED:20250909T120841Z
UID:12002300-1760817600-1760830200@visitnewbury.org.uk
SUMMARY:Soul on the Terrace
DESCRIPTION:The Newbury is bringing the best of Soul\, Motown\, Disco and modern classics to town with DJ Steiner and guests. \nThis over-30s night promises great music\, dancing\, and atmosphere\, running from 8pm until late on select dates this autumn.
URL:https://visitnewbury.org.uk/event/soul-on-the-terrace/2025-10-18/
LOCATION:The Newbury Pub & Terrace\, The Newbury Pub & Terrace\, RG145HB
CATEGORIES:Live Music,Pub & Restaurant Events
ATTACH;FMTTYPE=image/jpeg:https://visitnewbury.org.uk/wp-content/uploads/2025/09/Soul-on-the-Terrace-The-Newbury.jpg
END:VEVENT
BEGIN:VEVENT
DTSTART;TZID=Europe/London:20251018T210000
DTEND;TZID=Europe/London:20251018T210000
DTSTAMP:20260425T144721
CREATED:20251003T102648Z
LAST-MODIFIED:20251003T102719Z
UID:12002418-1760821200-1760821200@visitnewbury.org.uk
SUMMARY:Live Music at The Catherine Wheel: Roadhouse
DESCRIPTION:Head along to the Catherine Wheel and enjoy live music from Roadhouse in the Courtyard\, from 9pm
URL:https://visitnewbury.org.uk/event/live-music-at-the-catherine-wheel-roadhouse/
LOCATION:The Catherine Wheel\, The Catherine Wheel\, RG14 5DB
CATEGORIES:Live Music,Pub & Restaurant Events
ATTACH;FMTTYPE=image/png:https://visitnewbury.org.uk/wp-content/uploads/2025/10/CW-ROADHOUSE.png
END:VEVENT
BEGIN:VEVENT
DTSTART;TZID=Europe/London:20251019T100000
DTEND;TZID=Europe/London:20251019T163000
DTSTAMP:20260425T144721
CREATED:20250903T112951Z
LAST-MODIFIED:20250903T113050Z
UID:12002226-1760868000-1760891400@visitnewbury.org.uk
SUMMARY:Wind Band Workshop
DESCRIPTION:Beenham Wind Orchestra marks its 25th Anniversary with a special Wind Band Workshop. \nThey will be welcoming guest conductor Thomas (Tom) Milford\, an award winning conductor\, composer and arranger\, who led one of finest Bands in the British Army – the Coldstream Guards. \nTom brings a unique blend of warmth\, inspiration and authority\, encouraging players of all levels to reach their best. \nAttendees will rehearse two vibrant works: \n• The Ghost Ship by José Alberto Pina – a thrilling\, evocative tone poem steeped in legend.\n• The Wishing Well by Rossano Galante – a lyrical\, cinematic piece brimming with sweeping melodic lines. \nThis is a wonderful opportunity for wind musicians to come together and celebrate the group’s milestone anniversary. Non-members of Grade 6 standard and above are also welcome. The fee of £20 is payable in advance (including lunch and refreshments). \nTo register in advance\, contact: beenhamwo@gmail.com \nFurther details can be found at the link below.
URL:https://visitnewbury.org.uk/event/wind-band-workshop/
LOCATION:Beenham Primary School\, Beenham Primary School\, RG7 5NN
CATEGORIES:Arts & Culture,Music
ATTACH;FMTTYPE=image/jpeg:https://visitnewbury.org.uk/wp-content/uploads/2025/09/BWO-Wind-Band-Workshop.jpg
END:VEVENT
BEGIN:VEVENT
DTSTART;TZID=Europe/London:20251022T190000
DTEND;TZID=Europe/London:20251022T190000
DTSTAMP:20260425T144721
CREATED:20251006T112758Z
LAST-MODIFIED:20251006T112758Z
UID:12002430-1761159600-1761159600@visitnewbury.org.uk
SUMMARY:Open Mic with Zoe Badmam
DESCRIPTION:Zoe Badman presents Open Mic at Reloaded! Enjoy the amazing local talent of Newbury – or bring your instrument and jump on stage yourself. \nStarts 7pm\, with Happy Hour drinks at the bar. Don’t miss a night of great music\, good vibes\, and cold drinks!
URL:https://visitnewbury.org.uk/event/open-mic-with-zoe-badmam/2025-10-22/
LOCATION:Reloaded Bar\, Reloaded Bar\, RG14 5AN
CATEGORIES:Open Mic,Pub & Restaurant Events
ATTACH;FMTTYPE=image/jpeg:https://visitnewbury.org.uk/wp-content/uploads/2025/10/Reloaded-Open-Mic.jpg
END:VEVENT
BEGIN:VEVENT
DTSTART;TZID=Europe/London:20251023T200000
DTEND;TZID=Europe/London:20251023T200000
DTSTAMP:20260425T144721
CREATED:20251006T113101Z
LAST-MODIFIED:20251006T113101Z
UID:11000396-1761249600-1761249600@visitnewbury.org.uk
SUMMARY:Open Mic Night with Sion Whiley
DESCRIPTION:Up for a sing along? The Newbury host their fantastic open mic night every Thursday from 8pm! \n  \n 
URL:https://visitnewbury.org.uk/event/open-mic-night-with-sion-whiley-2-2/2025-10-23/
LOCATION:The Newbury Pub & Terrace\, The Newbury Pub & Terrace\, RG145HB
CATEGORIES:Open Mic,Pub & Restaurant Events
ATTACH;FMTTYPE=image/jpeg:https://visitnewbury.org.uk/wp-content/uploads/2025/02/The-Newbury-open-mic-night-b.jpg
END:VEVENT
BEGIN:VEVENT
DTSTART;TZID=Europe/London:20251024T200000
DTEND;TZID=Europe/London:20251024T230000
DTSTAMP:20260425T144721
CREATED:20251006T123952Z
LAST-MODIFIED:20251006T123952Z
UID:12002494-1761336000-1761346800@visitnewbury.org.uk
SUMMARY:The Coat & Bear turns 1
DESCRIPTION:The Coat and Bear is turning 1! \nJoin them for live music by the contemporary duo Dragonfly Sky from 8pm till late. \nCelebrate their birthday with\, for one night only\, 2-4-1 Marmalade sandwich & Marmalade Mimosa cocktails served all night long. \nI think we know a certain local celebrity who’d be up for that!
URL:https://visitnewbury.org.uk/event/the-coat-bear-turns-1/
LOCATION:The Coat & Bear\, The Coat & Bear\, RG14 5EU
CATEGORIES:Live Music,Pub & Restaurant Events
ATTACH;FMTTYPE=image/jpeg:https://visitnewbury.org.uk/wp-content/uploads/2025/10/Dragonfly-Sky-Coat-Bear-birthday.jpg
END:VEVENT
BEGIN:VEVENT
DTSTART;TZID=Europe/London:20251025T200000
DTEND;TZID=Europe/London:20251025T200000
DTSTAMP:20260425T144721
CREATED:20250905T001329Z
LAST-MODIFIED:20251003T115705Z
UID:12002272-1761422400-1761422400@visitnewbury.org.uk
SUMMARY:Live Music at The Lion: Number of the Beef
DESCRIPTION:The Lion certainly haven’t forgotten their music lovers\, with a packed line up for their infamous Saturday night bands during September & October. \nNumber of the Beef are back in Newbury and bringing a special Halloween set with them – expect it to be spooky and heavy! \nFancy dress optional\, but certainly encouraged.
URL:https://visitnewbury.org.uk/event/live-music-at-the-lion-number-of-the-beef/
LOCATION:The Lion\, The Lion\, RG14 1BD
CATEGORIES:Halloween,Live Music,Pub & Restaurant Events
ATTACH;FMTTYPE=image/jpeg:https://visitnewbury.org.uk/wp-content/uploads/2025/09/Number-of-the-Beef-Halloween-at-The-Lion.jpg
END:VEVENT
BEGIN:VEVENT
DTSTART;TZID=Europe/London:20251025T200000
DTEND;TZID=Europe/London:20251025T200000
DTSTAMP:20260425T144721
CREATED:20251014T124105Z
LAST-MODIFIED:20251014T124136Z
UID:12003048-1761422400-1761422400@visitnewbury.org.uk
SUMMARY:Live Music at The Bacon Arms: 13 Lies
DESCRIPTION:Live music at The Bacon Arms from 13 Lies. If your penchant is late 70s through 80s and 90s to contemporary ROCK\, then this is your gig! This 4-piece juggernaut performs tributes and covers from AC/DC to Bowie\, The Cult to Foo Fighters & everything in between…
URL:https://visitnewbury.org.uk/event/live-music-at-the-bacon-arms-13-lies/
LOCATION:The Bacon Arms\, The Bacon Arms\, RG14 1JB
CATEGORIES:Live Music,Pub & Restaurant Events
ATTACH;FMTTYPE=image/jpeg:https://visitnewbury.org.uk/wp-content/uploads/2025/10/13-Lies-Bacon-Arms.jpg
END:VEVENT
BEGIN:VEVENT
DTSTART;TZID=Europe/London:20251026T193000
DTEND;TZID=Europe/London:20251026T220000
DTSTAMP:20260425T144721
CREATED:20250909T102332Z
LAST-MODIFIED:20251003T103919Z
UID:12002277-1761507000-1761516000@visitnewbury.org.uk
SUMMARY:Open Mic Night at The Wheel
DESCRIPTION:Looking for a relaxed Sunday night out? Open Mic Night at The Catherine Wheel is the perfect spot to enjoy live local music in a friendly\, welcoming setting. \nHosted by Sion Whiley\, the monthly event invites singers\, musicians\, and performers of all styles to take to the stage\, regardless of whether you’re a seasoned gigging pro or trying it for the first time! Not performing? Head along\, grab a drink\, and enjoy the atmosphere. \nThe open mic nights will take place on the last Sunday each month.
URL:https://visitnewbury.org.uk/event/open-mic-night-at-the-wheel/2025-10-26/
LOCATION:The Catherine Wheel\, The Catherine Wheel\, RG14 5DB
CATEGORIES:Open Mic,Pub & Restaurant Events
ATTACH;FMTTYPE=image/png:https://visitnewbury.org.uk/wp-content/uploads/2025/09/CW-OPEN-MIC-NIGHT.png
END:VEVENT
BEGIN:VEVENT
DTSTART;TZID=Europe/London:20251029T190000
DTEND;TZID=Europe/London:20251029T190000
DTSTAMP:20260425T144721
CREATED:20251006T112758Z
LAST-MODIFIED:20251006T112758Z
UID:12002431-1761764400-1761764400@visitnewbury.org.uk
SUMMARY:Open Mic with Zoe Badmam
DESCRIPTION:Zoe Badman presents Open Mic at Reloaded! Enjoy the amazing local talent of Newbury – or bring your instrument and jump on stage yourself. \nStarts 7pm\, with Happy Hour drinks at the bar. Don’t miss a night of great music\, good vibes\, and cold drinks!
URL:https://visitnewbury.org.uk/event/open-mic-with-zoe-badmam/2025-10-29/
LOCATION:Reloaded Bar\, Reloaded Bar\, RG14 5AN
CATEGORIES:Open Mic,Pub & Restaurant Events
ATTACH;FMTTYPE=image/jpeg:https://visitnewbury.org.uk/wp-content/uploads/2025/10/Reloaded-Open-Mic.jpg
END:VEVENT
BEGIN:VEVENT
DTSTART;TZID=Europe/London:20251030T200000
DTEND;TZID=Europe/London:20251030T200000
DTSTAMP:20260425T144721
CREATED:20251006T113101Z
LAST-MODIFIED:20251006T113101Z
UID:11000397-1761854400-1761854400@visitnewbury.org.uk
SUMMARY:Open Mic Night with Sion Whiley
DESCRIPTION:Up for a sing along? The Newbury host their fantastic open mic night every Thursday from 8pm! \n  \n 
URL:https://visitnewbury.org.uk/event/open-mic-night-with-sion-whiley-2-2/2025-10-30/
LOCATION:The Newbury Pub & Terrace\, The Newbury Pub & Terrace\, RG145HB
CATEGORIES:Open Mic,Pub & Restaurant Events
ATTACH;FMTTYPE=image/jpeg:https://visitnewbury.org.uk/wp-content/uploads/2025/02/The-Newbury-open-mic-night-b.jpg
END:VEVENT
BEGIN:VEVENT
DTSTART;TZID=Europe/London:20251031T200000
DTEND;TZID=Europe/London:20251031T230000
DTSTAMP:20260425T144721
CREATED:20250919T084230Z
LAST-MODIFIED:20250919T084230Z
UID:12002322-1761940800-1761951600@visitnewbury.org.uk
SUMMARY:Halloween Party at The Wheel
DESCRIPTION:It’s getting spooky at The Catherine Wheel as they host a Halloween Party this year. \nHead along on Friday 31st in your spookiest outfit… there will be prizes up for grabs! \nThen enjoy live music from 9pm. \nWhat’s in your head\, in your head?\nZombie\, zombie\, zombie-ie-ie-ie
URL:https://visitnewbury.org.uk/event/halloween-party-at-the-wheel/
LOCATION:The Catherine Wheel\, The Catherine Wheel\, RG14 5DB
CATEGORIES:Halloween,Live Music,Pub & Restaurant Events
ATTACH;FMTTYPE=image/png:https://visitnewbury.org.uk/wp-content/uploads/2025/09/CW-HALLOWEEN.png
END:VEVENT
BEGIN:VEVENT
DTSTART;TZID=Europe/London:20251031T203000
DTEND;TZID=Europe/London:20251031T230000
DTSTAMP:20260425T144721
CREATED:20250926T114913Z
LAST-MODIFIED:20250926T114913Z
UID:12002341-1761942600-1761951600@visitnewbury.org.uk
SUMMARY:Halloween at LSB
DESCRIPTION:Lock Stock & Barrel is hosting a spooky Halloween Party – get ready for a night of live music and spooky fun. \nSion Whiley will be playing live from 8:30pm\, and there will also be prizes for the WORST dressed. No pressure! \nBook a table to secure your spot at this spooooky event.
URL:https://visitnewbury.org.uk/event/halloween-at-lsb/
LOCATION:The Lock Stock & Barrel\, The Lock Stock & Barrel\, RG14 1AA
CATEGORIES:Halloween,Live Music,Pub & Restaurant Events
ATTACH;FMTTYPE=image/jpeg:https://visitnewbury.org.uk/wp-content/uploads/2025/09/LSB-Halloween-2.jpg
END:VEVENT
END:VCALENDAR