BEGIN:VCALENDAR
VERSION:2.0
PRODID:-//Visit Newbury - ECPv6.13.2.1//NONSGML v1.0//EN
CALSCALE:GREGORIAN
METHOD:PUBLISH
X-WR-CALNAME:Visit Newbury
X-ORIGINAL-URL:https://visitnewbury.org.uk
X-WR-CALDESC:Events for Visit Newbury
REFRESH-INTERVAL;VALUE=DURATION:PT1H
X-Robots-Tag:noindex
X-PUBLISHED-TTL:PT1H
BEGIN:VTIMEZONE
TZID:Europe/London
BEGIN:DAYLIGHT
TZOFFSETFROM:+0000
TZOFFSETTO:+0100
TZNAME:BST
DTSTART:20250330T010000
END:DAYLIGHT
BEGIN:STANDARD
TZOFFSETFROM:+0100
TZOFFSETTO:+0000
TZNAME:GMT
DTSTART:20251026T010000
END:STANDARD
END:VTIMEZONE
BEGIN:VEVENT
DTSTART;TZID=Europe/London:20250501T200000
DTEND;TZID=Europe/London:20250501T200000
DTSTAMP:20260425T215522
CREATED:20250220T094348Z
LAST-MODIFIED:20250814T133653Z
UID:11000371-1746129600-1746129600@visitnewbury.org.uk
SUMMARY:Open Mic Night with Sion Whiley
DESCRIPTION:Up for a sing along? The Newbury host their fantastic open mic night every Thursday from 8pm! \n  \n 
URL:https://visitnewbury.org.uk/event/open-mic-night-with-sion-whiley-2/2025-05-01/
LOCATION:The Newbury Pub & Terrace\, The Newbury Pub & Terrace\, RG145HB
CATEGORIES:Open Mic,Pub & Restaurant Events
ATTACH;FMTTYPE=image/jpeg:https://visitnewbury.org.uk/wp-content/uploads/2025/02/The-Newbury-Sion-Whiley.jpg
END:VEVENT
BEGIN:VEVENT
DTSTART;TZID=Europe/London:20250503T200000
DTEND;TZID=Europe/London:20250503T200000
DTSTAMP:20260425T215523
CREATED:20250219T160651Z
LAST-MODIFIED:20250219T160651Z
UID:11000327-1746302400-1746302400@visitnewbury.org.uk
SUMMARY:Drag Night with Zelda Stone
DESCRIPTION:Join in the fun at Cobrizo Lounge for their next Drag Night featuring live music from the fantastic Zelda Stone. She has an amazing voice and there is something for everyone! \nBooking is recommended for tables above 6 people\, as spaces will be limited – head to the link below to reserve your table.
URL:https://visitnewbury.org.uk/event/drag-night-with-zelda-stone/
LOCATION:Cobrizo Lounge\, Cobrizo Lounge\, RG14 1DJ
CATEGORIES:Live Music,Pub & Restaurant Events
ATTACH;FMTTYPE=image/jpeg:https://visitnewbury.org.uk/wp-content/uploads/2025/02/Cobrizo-Lounge-Drag-Night.jpg
END:VEVENT
BEGIN:VEVENT
DTSTART;TZID=Europe/London:20250504T133000
DTEND;TZID=Europe/London:20250504T133000
DTSTAMP:20260425T215523
CREATED:20250221T153851Z
LAST-MODIFIED:20250221T153851Z
UID:11000633-1746365400-1746365400@visitnewbury.org.uk
SUMMARY:May Music at LSB: Josh Smith & Izzy Adams
DESCRIPTION:There’s live music all month at The Lock Stock & Barrel! Pop along\, grab a drink\, and enjoy fantastic music on the banks of the River Kennet.
URL:https://visitnewbury.org.uk/event/may-music-at-lsb-josh-smith-izzy-adams/
LOCATION:The Lock Stock & Barrel\, The Lock Stock & Barrel\, RG14 1AA
CATEGORIES:Live Music,Pub & Restaurant Events
ATTACH;FMTTYPE=image/jpeg:https://visitnewbury.org.uk/wp-content/uploads/2025/02/LSB-May-Music-scaled-e1740152153532.jpg
END:VEVENT
BEGIN:VEVENT
DTSTART;TZID=Europe/London:20250508T200000
DTEND;TZID=Europe/London:20250508T200000
DTSTAMP:20260425T215523
CREATED:20250220T094348Z
LAST-MODIFIED:20250814T133653Z
UID:11000372-1746734400-1746734400@visitnewbury.org.uk
SUMMARY:Open Mic Night with Sion Whiley
DESCRIPTION:Up for a sing along? The Newbury host their fantastic open mic night every Thursday from 8pm! \n  \n 
URL:https://visitnewbury.org.uk/event/open-mic-night-with-sion-whiley-2/2025-05-08/
LOCATION:The Newbury Pub & Terrace\, The Newbury Pub & Terrace\, RG145HB
CATEGORIES:Open Mic,Pub & Restaurant Events
ATTACH;FMTTYPE=image/jpeg:https://visitnewbury.org.uk/wp-content/uploads/2025/02/The-Newbury-Sion-Whiley.jpg
END:VEVENT
BEGIN:VEVENT
DTSTART;TZID=Europe/London:20250511T180000
DTEND;TZID=Europe/London:20250511T180000
DTSTAMP:20260425T215523
CREATED:20250213T152427Z
LAST-MODIFIED:20250213T152619Z
UID:11000303-1746986400-1746986400@visitnewbury.org.uk
SUMMARY:Your Space - Open Mic Night
DESCRIPTION:Your Space is a unique open mic experience for 15-18 year-olds held at the Good Vibes Music Academy studio. \nIt provides a space for Good Vibes students to perform in front of a supportive audience of family\, friends and fellow students in a relaxed and familiar setting. \nWith an audience of 20 this is a fantastic opportunity to test the waters with live performance\, prep for an upcoming show/gig or exam. \nGVMA want to provide a space for their students to showcase their skills\, songs and talents. \nYou can learn more at the link below.
URL:https://visitnewbury.org.uk/event/your-space-open-mic-night/2025-05-11/
LOCATION:Good Vibes Music Academy\, Good Vibes Music Academy\, RG14 5BN
CATEGORIES:Open Mic
ATTACH;FMTTYPE=image/jpeg:https://visitnewbury.org.uk/wp-content/uploads/2025/02/YourSpace.jpg
END:VEVENT
BEGIN:VEVENT
DTSTART;TZID=Europe/London:20250515T200000
DTEND;TZID=Europe/London:20250515T200000
DTSTAMP:20260425T215523
CREATED:20250220T094348Z
LAST-MODIFIED:20250814T133653Z
UID:11000373-1747339200-1747339200@visitnewbury.org.uk
SUMMARY:Open Mic Night with Sion Whiley
DESCRIPTION:Up for a sing along? The Newbury host their fantastic open mic night every Thursday from 8pm! \n  \n 
URL:https://visitnewbury.org.uk/event/open-mic-night-with-sion-whiley-2/2025-05-15/
LOCATION:The Newbury Pub & Terrace\, The Newbury Pub & Terrace\, RG145HB
CATEGORIES:Open Mic,Pub & Restaurant Events
ATTACH;FMTTYPE=image/jpeg:https://visitnewbury.org.uk/wp-content/uploads/2025/02/The-Newbury-Sion-Whiley.jpg
END:VEVENT
BEGIN:VEVENT
DTSTART;TZID=Europe/London:20250516T210000
DTEND;TZID=Europe/London:20250516T210000
DTSTAMP:20260425T215523
CREATED:20250515T131431Z
LAST-MODIFIED:20250515T131431Z
UID:12002000-1747429200-1747429200@visitnewbury.org.uk
SUMMARY:Live Music at The Globe: Scampy
DESCRIPTION:Live music at The Globe from 9pm!
URL:https://visitnewbury.org.uk/event/live-music-at-the-globe-scampy/
LOCATION:The Globe\, The Globe\, RG14 5HB
CATEGORIES:Live Music,Pub & Restaurant Events
ATTACH;FMTTYPE=image/jpeg:https://visitnewbury.org.uk/wp-content/uploads/2025/05/The-Globe-live-music-16-May.jpg
END:VEVENT
BEGIN:VEVENT
DTSTART;TZID=Europe/London:20250517T203000
DTEND;TZID=Europe/London:20250517T203000
DTSTAMP:20260425T215523
CREATED:20250221T154029Z
LAST-MODIFIED:20250221T154029Z
UID:11000634-1747513800-1747513800@visitnewbury.org.uk
SUMMARY:May Music at LSB: Sub-Zero
DESCRIPTION:There’s live music all month at The Lock Stock & Barrel! Pop along\, grab a drink\, and enjoy fantastic music on the banks of the River Kennet.
URL:https://visitnewbury.org.uk/event/may-music-at-lsb-sub-zero/
LOCATION:The Lock Stock & Barrel\, The Lock Stock & Barrel\, RG14 1AA
CATEGORIES:Live Music,Pub & Restaurant Events
ATTACH;FMTTYPE=image/jpeg:https://visitnewbury.org.uk/wp-content/uploads/2025/02/LSB-May-Music-scaled-e1740152153532.jpg
END:VEVENT
BEGIN:VEVENT
DTSTART;TZID=Europe/London:20250520T103000
DTEND;TZID=Europe/London:20250520T120000
DTSTAMP:20260425T215523
CREATED:20250509T101314Z
LAST-MODIFIED:20250509T101314Z
UID:12001969-1747737000-1747742400@visitnewbury.org.uk
SUMMARY:Singing For The Brain
DESCRIPTION:As part of Dementia Action Week\, join Singing for the Brain to meet new people in a friendly\, fun and social environment. \nSinging improves your brain activity\, wellbeing and mood\, and you don’t need to be a good singer to benefit. \nJoin for fun vocal warm-ups and sing a wide variety of familiar and new songs. The event is a regular fixture in Calcot\, hosted by friendly and experienced group leaders.
URL:https://visitnewbury.org.uk/event/singing-for-the-brain/
LOCATION:Kennet Valley Free Church\, Kennet Valley Free Church\, RG31 7YT
CATEGORIES:Community Events,Health & Wellbeing,Music
ATTACH;FMTTYPE=image/jpeg:https://visitnewbury.org.uk/wp-content/uploads/2025/05/DAW2025_5.jpg
END:VEVENT
BEGIN:VEVENT
DTSTART;TZID=Europe/London:20250522T200000
DTEND;TZID=Europe/London:20250522T200000
DTSTAMP:20260425T215523
CREATED:20250220T094348Z
LAST-MODIFIED:20250814T133653Z
UID:11000374-1747944000-1747944000@visitnewbury.org.uk
SUMMARY:Open Mic Night with Sion Whiley
DESCRIPTION:Up for a sing along? The Newbury host their fantastic open mic night every Thursday from 8pm! \n  \n 
URL:https://visitnewbury.org.uk/event/open-mic-night-with-sion-whiley-2/2025-05-22/
LOCATION:The Newbury Pub & Terrace\, The Newbury Pub & Terrace\, RG145HB
CATEGORIES:Open Mic,Pub & Restaurant Events
ATTACH;FMTTYPE=image/jpeg:https://visitnewbury.org.uk/wp-content/uploads/2025/02/The-Newbury-Sion-Whiley.jpg
END:VEVENT
BEGIN:VEVENT
DTSTART;TZID=Europe/London:20250523T203000
DTEND;TZID=Europe/London:20250523T203000
DTSTAMP:20260425T215523
CREATED:20250221T154152Z
LAST-MODIFIED:20250221T154152Z
UID:11000635-1748032200-1748032200@visitnewbury.org.uk
SUMMARY:May Music at LSB: Sion Whiley
DESCRIPTION:There’s live music all month at The Lock Stock & Barrel! Pop along\, grab a drink\, and enjoy fantastic music on the banks of the River Kennet.
URL:https://visitnewbury.org.uk/event/may-music-at-lsb-sion-whiley/
LOCATION:The Lock Stock & Barrel\, The Lock Stock & Barrel\, RG14 1AA
CATEGORIES:Live Music,Pub & Restaurant Events
ATTACH;FMTTYPE=image/jpeg:https://visitnewbury.org.uk/wp-content/uploads/2025/02/LSB-May-Music-scaled-e1740152153532.jpg
END:VEVENT
BEGIN:VEVENT
DTSTART;TZID=Europe/London:20250524T193000
DTEND;TZID=Europe/London:20250524T233000
DTSTAMP:20260425T215523
CREATED:20250515T123748Z
LAST-MODIFIED:20250515T123748Z
UID:12001998-1748115000-1748129400@visitnewbury.org.uk
SUMMARY:80s 90s 2000s Disco
DESCRIPTION:DJ Paul is bringing the party to The Plough on the Green with all the top classics from the 80s\, 90s and 2000s!
URL:https://visitnewbury.org.uk/event/80s-90s-2000s-disco/
LOCATION:Plough on the Green\, Plough on the Green\, RG14 7HY
CATEGORIES:Music,Pub & Restaurant Events
ATTACH;FMTTYPE=image/jpeg:https://visitnewbury.org.uk/wp-content/uploads/2025/05/Plough-on-the-Green-disco.jpg
END:VEVENT
BEGIN:VEVENT
DTSTART;TZID=Europe/London:20250524T203000
DTEND;TZID=Europe/London:20250524T203000
DTSTAMP:20260425T215523
CREATED:20250221T154254Z
LAST-MODIFIED:20250221T154254Z
UID:11000636-1748118600-1748118600@visitnewbury.org.uk
SUMMARY:May Music at LSB: Josh Smith Trio
DESCRIPTION:There’s live music all month at The Lock Stock & Barrel! Pop along\, grab a drink\, and enjoy fantastic music on the banks of the River Kennet.
URL:https://visitnewbury.org.uk/event/may-music-at-lsb-josh-smith-trio/
LOCATION:The Lock Stock & Barrel\, The Lock Stock & Barrel\, RG14 1AA
CATEGORIES:Live Music,Pub & Restaurant Events
ATTACH;FMTTYPE=image/jpeg:https://visitnewbury.org.uk/wp-content/uploads/2025/02/LSB-May-Music-scaled-e1740152153532.jpg
END:VEVENT
BEGIN:VEVENT
DTSTART;TZID=Europe/London:20250525T133000
DTEND;TZID=Europe/London:20250525T133000
DTSTAMP:20260425T215523
CREATED:20250221T154418Z
LAST-MODIFIED:20250221T154418Z
UID:11000637-1748179800-1748179800@visitnewbury.org.uk
SUMMARY:May Music at LSB: Josh Fidler
DESCRIPTION:There’s live music all month at The Lock Stock & Barrel! Pop along\, grab a drink\, and enjoy fantastic music on the banks of the River Kennet.
URL:https://visitnewbury.org.uk/event/may-music-at-lsb-josh-fidler/
LOCATION:The Lock Stock & Barrel\, The Lock Stock & Barrel\, RG14 1AA
CATEGORIES:Live Music,Pub & Restaurant Events
ATTACH;FMTTYPE=image/jpeg:https://visitnewbury.org.uk/wp-content/uploads/2025/02/LSB-May-Music-scaled-e1740152153532.jpg
END:VEVENT
BEGIN:VEVENT
DTSTART;TZID=Europe/London:20250529T200000
DTEND;TZID=Europe/London:20250529T200000
DTSTAMP:20260425T215523
CREATED:20250220T094348Z
LAST-MODIFIED:20250814T133653Z
UID:11000375-1748548800-1748548800@visitnewbury.org.uk
SUMMARY:Open Mic Night with Sion Whiley
DESCRIPTION:Up for a sing along? The Newbury host their fantastic open mic night every Thursday from 8pm! \n  \n 
URL:https://visitnewbury.org.uk/event/open-mic-night-with-sion-whiley-2/2025-05-29/
LOCATION:The Newbury Pub & Terrace\, The Newbury Pub & Terrace\, RG145HB
CATEGORIES:Open Mic,Pub & Restaurant Events
ATTACH;FMTTYPE=image/jpeg:https://visitnewbury.org.uk/wp-content/uploads/2025/02/The-Newbury-Sion-Whiley.jpg
END:VEVENT
BEGIN:VEVENT
DTSTART;TZID=Europe/London:20250531T203000
DTEND;TZID=Europe/London:20250531T203000
DTSTAMP:20260425T215523
CREATED:20250515T130700Z
LAST-MODIFIED:20250515T130700Z
UID:12001999-1748723400-1748723400@visitnewbury.org.uk
SUMMARY:Live Music at The Bacon Arms: The Errant Hearts
DESCRIPTION:Live music at The Bacon Arms
URL:https://visitnewbury.org.uk/event/live-music-at-the-bacon-arms-the-errant-hearts/
LOCATION:The Bacon Arms\, The Bacon Arms\, RG14 1JB
CATEGORIES:Live Music,Pub & Restaurant Events
ATTACH;FMTTYPE=image/jpeg:https://visitnewbury.org.uk/wp-content/uploads/2025/05/The-Bacon-Arms-live-music-31-May.jpg
END:VEVENT
END:VCALENDAR