BEGIN:VCALENDAR
VERSION:2.0
PRODID:-//Visit Newbury - ECPv6.13.2.1//NONSGML v1.0//EN
CALSCALE:GREGORIAN
METHOD:PUBLISH
X-WR-CALNAME:Visit Newbury
X-ORIGINAL-URL:https://visitnewbury.org.uk
X-WR-CALDESC:Events for Visit Newbury
REFRESH-INTERVAL;VALUE=DURATION:PT1H
X-Robots-Tag:noindex
X-PUBLISHED-TTL:PT1H
BEGIN:VTIMEZONE
TZID:Europe/London
BEGIN:DAYLIGHT
TZOFFSETFROM:+0000
TZOFFSETTO:+0100
TZNAME:BST
DTSTART:20260329T010000
END:DAYLIGHT
BEGIN:STANDARD
TZOFFSETFROM:+0100
TZOFFSETTO:+0000
TZNAME:GMT
DTSTART:20261025T010000
END:STANDARD
END:VTIMEZONE
BEGIN:VEVENT
DTSTART;TZID=Europe/London:20260201T160000
DTEND;TZID=Europe/London:20260201T173000
DTSTAMP:20260424T114442
CREATED:20260115T122705Z
LAST-MODIFIED:20260115T122932Z
UID:11000661-1769961600-1769967000@visitnewbury.org.uk
SUMMARY:Not Alone
DESCRIPTION:A local support group for anyone affected by pregnancy loss or baby loss\, which encourages a safe and supportive environment for anyone and everyone. \nGroups are every 1st Sunday of the month between 4pm and 5.30pm. \nNo booking required\, simply turn up. \nSet up by parents who have experienced a loss\, or multiple losses of their own\, there will be a friendly face to welcome you if and when you choose to turn up. \nLearn more via the link below.
URL:https://visitnewbury.org.uk/event/not-alone/2026-02-01/
LOCATION:Buick Mackane\, Buick Mackane\, RG14 5HG
CATEGORIES:Health & Wellbeing
ATTACH;FMTTYPE=image/jpeg:https://visitnewbury.org.uk/wp-content/uploads/2025/02/Not-alone-Newbury-cover-image.jpg
END:VEVENT
BEGIN:VEVENT
DTSTART;TZID=Europe/London:20260202T100000
DTEND;TZID=Europe/London:20260202T114500
DTSTAMP:20260424T114442
CREATED:20260106T141337Z
LAST-MODIFIED:20260106T141337Z
UID:12003113-1770026400-1770032700@visitnewbury.org.uk
SUMMARY:Music For All
DESCRIPTION:Discover the joy of music with Berkshire Music Trust\, who are hosting free music sessions at Newbury Library. \n\nChildren’s sessions run from 10am – 10:45am\nAdult sessions run from 11am – 11:45am\n\nWhether you want to sing along or simply enjoy the atmosphere\, there’s something for everyone – no experience needed. \nEnjoy a mix of old favourites and sing-along songs. These sessions provide a fantastic opportunity to engage with live music and connect with others. \nLearn more via the West Berkshire Libraries website using the link below
URL:https://visitnewbury.org.uk/event/music-for-all/2026-02-02/
LOCATION:Newbury Library\, Newbury Library\, The Wharf\, RG14 5AU
CATEGORIES:Children's Sessions,Health & Wellbeing,Library Events,Music
ATTACH;FMTTYPE=image/jpeg:https://visitnewbury.org.uk/wp-content/uploads/2026/01/Music-For-All-Newbury-Library.jpg
END:VEVENT
BEGIN:VEVENT
DTSTART;TZID=Europe/London:20260204T190000
DTEND;TZID=Europe/London:20260204T200000
DTSTAMP:20260424T114442
CREATED:20260203T160720Z
LAST-MODIFIED:20260203T161210Z
UID:12003349-1770231600-1770235200@visitnewbury.org.uk
SUMMARY:Empty Chairs: Parched
DESCRIPTION:Empty Chairs is a lovely initiative about creating spaces where people can connect\, without pressure or expectation. \nEach evening\, the host books small table in a pub and leaves a few chairs empty – inviting anyone who wants company to join. There’s no pressure\, no agenda\, and no expectation to stay longer than you want. \nLoneliness affects people of all ages\, and Empty Chairs exists to create low-pressure spaces where real human connection can happen – even if it’s just sitting together for a drink. \nHosts will be easy to spot as they will always be wearing something orange\, and they will be at the table for at least an hour from 7pm. \nIt is completely free to join for a chat – you only pay for your own drinks if you choose to have any. \nYou can learn more via the link below.
URL:https://visitnewbury.org.uk/event/empty-chairs-feb4th/
LOCATION:Parched\, Parched\, RG14 5LL
CATEGORIES:Health & Wellbeing
ATTACH;FMTTYPE=image/jpeg:https://visitnewbury.org.uk/wp-content/uploads/2026/02/Empty-Chairs-Newbury-Feb-2026.jpg
END:VEVENT
BEGIN:VEVENT
DTSTART;TZID=Europe/London:20260209T100000
DTEND;TZID=Europe/London:20260209T114500
DTSTAMP:20260424T114442
CREATED:20260106T141337Z
LAST-MODIFIED:20260106T141337Z
UID:12003114-1770631200-1770637500@visitnewbury.org.uk
SUMMARY:Music For All
DESCRIPTION:Discover the joy of music with Berkshire Music Trust\, who are hosting free music sessions at Newbury Library. \n\nChildren’s sessions run from 10am – 10:45am\nAdult sessions run from 11am – 11:45am\n\nWhether you want to sing along or simply enjoy the atmosphere\, there’s something for everyone – no experience needed. \nEnjoy a mix of old favourites and sing-along songs. These sessions provide a fantastic opportunity to engage with live music and connect with others. \nLearn more via the West Berkshire Libraries website using the link below
URL:https://visitnewbury.org.uk/event/music-for-all/2026-02-09/
LOCATION:Newbury Library\, Newbury Library\, The Wharf\, RG14 5AU
CATEGORIES:Children's Sessions,Health & Wellbeing,Library Events,Music
ATTACH;FMTTYPE=image/jpeg:https://visitnewbury.org.uk/wp-content/uploads/2026/01/Music-For-All-Newbury-Library.jpg
END:VEVENT
BEGIN:VEVENT
DTSTART;TZID=Europe/London:20260209T190000
DTEND;TZID=Europe/London:20260209T200000
DTSTAMP:20260424T114442
CREATED:20260203T160853Z
LAST-MODIFIED:20260203T161215Z
UID:12003350-1770663600-1770667200@visitnewbury.org.uk
SUMMARY:Empty Chairs: The Dolphin
DESCRIPTION:Empty Chairs is a lovely initiative about creating spaces where people can connect\, without pressure or expectation. \nEach evening\, the host books small table in a pub and leaves a few chairs empty – inviting anyone who wants company to join. There’s no pressure\, no agenda\, and no expectation to stay longer than you want. \nLoneliness affects people of all ages\, and Empty Chairs exists to create low-pressure spaces where real human connection can happen – even if it’s just sitting together for a drink. \nHosts will be easy to spot as they will always be wearing something orange\, and they will be at the table for at least an hour from 7pm. \nIt is completely free to join for a chat – you only pay for your own drinks if you choose to have any. \nYou can learn more via the link below.
URL:https://visitnewbury.org.uk/event/empty-chairs-feb9th/
LOCATION:The Dolphin\, The Dolphin Newbury\, RG14 5DT
CATEGORIES:Health & Wellbeing
ATTACH;FMTTYPE=image/jpeg:https://visitnewbury.org.uk/wp-content/uploads/2026/02/Empty-Chairs-Newbury-Feb-2026.jpg
END:VEVENT
BEGIN:VEVENT
DTSTART;TZID=Europe/London:20260215T081500
DTEND;TZID=Europe/London:20260215T081500
DTSTAMP:20260424T114442
CREATED:20260112T122226Z
LAST-MODIFIED:20260112T122717Z
UID:12003162-1771143300-1771143300@visitnewbury.org.uk
SUMMARY:JWS x MiLK & BEAN 5k Run Club
DESCRIPTION:Join for a morning run with JWS Fitness & Wellbeing in collaboration with MiLK & BEAN. \nThis 5K run is perfect for all fitness levels\, whether you’re an experienced runner or just looking to start your day right. \nMeet at 8:15am outside MiLK & BEAN\, with the run setting off promptly at 8:30am. The route will take you on a scenic route around the centre before finishing back at MiLK & BEAN\, where you can enjoy a well-deserved 20% discount on all drinks. \nMake sure you register for free via the link below.
URL:https://visitnewbury.org.uk/event/jws-x-milk-bean-5k-run-club-feb2026/
LOCATION:MiLK & BEAN\, Milk & Bean\, RG14 1DJ
CATEGORIES:Fun Runs,Health & Wellbeing,Sport
ATTACH;FMTTYPE=image/jpeg:https://visitnewbury.org.uk/wp-content/uploads/2025/06/Milk-Bean-x-JWS-run-club.jpg
END:VEVENT
BEGIN:VEVENT
DTSTART;TZID=Europe/London:20260216T190000
DTEND;TZID=Europe/London:20260216T200000
DTSTAMP:20260424T114442
CREATED:20260203T160937Z
LAST-MODIFIED:20260203T161218Z
UID:12003351-1771268400-1771272000@visitnewbury.org.uk
SUMMARY:Empty Chairs: The Globe
DESCRIPTION:Empty Chairs is a lovely initiative about creating spaces where people can connect\, without pressure or expectation. \nEach evening\, the host books small table in a pub and leaves a few chairs empty – inviting anyone who wants company to join. There’s no pressure\, no agenda\, and no expectation to stay longer than you want. \nLoneliness affects people of all ages\, and Empty Chairs exists to create low-pressure spaces where real human connection can happen – even if it’s just sitting together for a drink. \nHosts will be easy to spot as they will always be wearing something orange\, and they will be at the table for at least an hour from 7pm. \nIt is completely free to join for a chat – you only pay for your own drinks if you choose to have any. \nYou can learn more via the link below.
URL:https://visitnewbury.org.uk/event/empty-chairs-feb16th/
LOCATION:The Globe\, The Globe\, RG14 5HB
CATEGORIES:Health & Wellbeing
ATTACH;FMTTYPE=image/jpeg:https://visitnewbury.org.uk/wp-content/uploads/2026/02/Empty-Chairs-Newbury-Feb-2026.jpg
END:VEVENT
BEGIN:VEVENT
DTSTART;TZID=Europe/London:20260223T100000
DTEND;TZID=Europe/London:20260223T114500
DTSTAMP:20260424T114442
CREATED:20260106T141337Z
LAST-MODIFIED:20260106T141337Z
UID:12003115-1771840800-1771847100@visitnewbury.org.uk
SUMMARY:Music For All
DESCRIPTION:Discover the joy of music with Berkshire Music Trust\, who are hosting free music sessions at Newbury Library. \n\nChildren’s sessions run from 10am – 10:45am\nAdult sessions run from 11am – 11:45am\n\nWhether you want to sing along or simply enjoy the atmosphere\, there’s something for everyone – no experience needed. \nEnjoy a mix of old favourites and sing-along songs. These sessions provide a fantastic opportunity to engage with live music and connect with others. \nLearn more via the West Berkshire Libraries website using the link below
URL:https://visitnewbury.org.uk/event/music-for-all/2026-02-23/
LOCATION:Newbury Library\, Newbury Library\, The Wharf\, RG14 5AU
CATEGORIES:Children's Sessions,Health & Wellbeing,Library Events,Music
ATTACH;FMTTYPE=image/jpeg:https://visitnewbury.org.uk/wp-content/uploads/2026/01/Music-For-All-Newbury-Library.jpg
END:VEVENT
BEGIN:VEVENT
DTSTART;TZID=Europe/London:20260225T190000
DTEND;TZID=Europe/London:20260225T200000
DTSTAMP:20260424T114442
CREATED:20260203T161104Z
LAST-MODIFIED:20260203T161239Z
UID:12003352-1772046000-1772049600@visitnewbury.org.uk
SUMMARY:Empty Chairs: Rufus Coffee House
DESCRIPTION:Empty Chairs is a lovely initiative about creating spaces where people can connect\, without pressure or expectation. \nEach evening\, the host books small table in a pub and leaves a few chairs empty – inviting anyone who wants company to join. There’s no pressure\, no agenda\, and no expectation to stay longer than you want. \nLoneliness affects people of all ages\, and Empty Chairs exists to create low-pressure spaces where real human connection can happen – even if it’s just sitting together for a drink. \nHosts will be easy to spot as they will always be wearing something orange\, and they will be at the table for at least an hour from 7pm. \nIt is completely free to join for a chat – you only pay for your own drinks if you choose to have any. \nYou can learn more via the link below.
URL:https://visitnewbury.org.uk/event/empty-chairs-feb25th/
LOCATION:Rufus Coffee House\, Rufus Coffee House\, RG14 5LL
CATEGORIES:Health & Wellbeing
ATTACH;FMTTYPE=image/jpeg:https://visitnewbury.org.uk/wp-content/uploads/2026/02/Empty-Chairs-Newbury-Feb-2026.jpg
END:VEVENT
BEGIN:VEVENT
DTSTART;TZID=Europe/London:20260228T100000
DTEND;TZID=Europe/London:20260228T150000
DTSTAMP:20260424T114442
CREATED:20250530T162854Z
LAST-MODIFIED:20260219T161441Z
UID:12002007-1772272800-1772290800@visitnewbury.org.uk
SUMMARY:Sustainability Fair
DESCRIPTION:Corn Exchange Newbury and The Base\, Greenham are teaming up once again for their annual Sustainability Fair\, taking place in the Corn Exchange Balcony and Café Bar to coincide with the Wildlife Photographer of the Year 61 exhibition. \nThe fair brings together eco-friendly individuals\, makers\, businesses and charities that are leading the way in our communities\, to minimise the impact we all have on our environment. It’s free to head along to connect with others\, share ideas or join in with a plant swap\, junk modelling drop in or craft stash swap. \nLearn more at the link below.
URL:https://visitnewbury.org.uk/event/sustainability-fair/
LOCATION:Corn Exchange Newbury\, Corn Exchange\, Market Place\, RG14 5BD
CATEGORIES:Community Events,Craft Fair,Health & Wellbeing
ATTACH;FMTTYPE=image/jpeg:https://visitnewbury.org.uk/wp-content/uploads/2025/05/Corn-Exchange-Sustainability-Fair-2026.jpg
END:VEVENT
END:VCALENDAR