BEGIN:VCALENDAR
VERSION:2.0
PRODID:-//Visit Newbury - ECPv6.13.2.1//NONSGML v1.0//EN
CALSCALE:GREGORIAN
METHOD:PUBLISH
X-WR-CALNAME:Visit Newbury
X-ORIGINAL-URL:https://visitnewbury.org.uk
X-WR-CALDESC:Events for Visit Newbury
REFRESH-INTERVAL;VALUE=DURATION:PT1H
X-Robots-Tag:noindex
X-PUBLISHED-TTL:PT1H
BEGIN:VTIMEZONE
TZID:Europe/London
BEGIN:DAYLIGHT
TZOFFSETFROM:+0000
TZOFFSETTO:+0100
TZNAME:BST
DTSTART:20260329T010000
END:DAYLIGHT
BEGIN:STANDARD
TZOFFSETFROM:+0100
TZOFFSETTO:+0000
TZNAME:GMT
DTSTART:20261025T010000
END:STANDARD
END:VTIMEZONE
BEGIN:VEVENT
DTSTART;TZID=Europe/London:20260503T180000
DTEND;TZID=Europe/London:20260503T180000
DTSTAMP:20260425T145020
CREATED:20250930T095325Z
LAST-MODIFIED:20260209T141619Z
UID:12002372-1777831200-1777831200@visitnewbury.org.uk
SUMMARY:Quiz Night at Cobrizo Lounge
DESCRIPTION:Quiz nights at Cobrizo Lounge\, every Sunday at 6pm. \n£2 per person to enter\, maximum 6 people per team\, and the best part… half the proceeds go to charity! \n\nFirst prize is the prize pot and a £20 gift voucher.\nSecond prize is £10 Gift voucher\nThird prize is a bottle of wine (needs to be drunk on the night in The Lounge)\n\nTo book\, head to their website (below)\, email cobrizo@thelounges.co.uk\, or call 01635 523 372.
URL:https://visitnewbury.org.uk/event/quiz-night-at-cobrizo-lounge-2/2026-05-03/
LOCATION:Cobrizo Lounge\, Cobrizo Lounge\, RG14 1DJ
CATEGORIES:Pub & Restaurant Events,Quiz
ATTACH;FMTTYPE=image/jpeg:https://visitnewbury.org.uk/wp-content/uploads/2025/02/Cobrizo-Lounge.jpg
END:VEVENT
BEGIN:VEVENT
DTSTART;TZID=Europe/London:20260506T193000
DTEND;TZID=Europe/London:20260506T220000
DTSTAMP:20260425T145020
CREATED:20260216T165447Z
LAST-MODIFIED:20260216T165447Z
UID:12003547-1778095800-1778104800@visitnewbury.org.uk
SUMMARY:Quiz Night at The Dolphin
DESCRIPTION:Don’t miss Quiz Night at The Dolphin\, taking place every Wednesday from 7:30pm to 10pm – book your table by visiting the pub’s website in the link below!
URL:https://visitnewbury.org.uk/event/quiz-night-at-the-dolphin/2026-05-06/
LOCATION:The Dolphin\, The Dolphin Newbury\, RG14 5DT
CATEGORIES:Pub & Restaurant Events,Quiz
ATTACH;FMTTYPE=image/jpeg:https://visitnewbury.org.uk/wp-content/uploads/2026/02/The-Dolphin-Pub-Quiz-e1771260577394.jpg
END:VEVENT
BEGIN:VEVENT
DTSTART;TZID=Europe/London:20260507T200000
DTEND;TZID=Europe/London:20260507T200000
DTSTAMP:20260425T145020
CREATED:20260116T142509Z
LAST-MODIFIED:20260116T142509Z
UID:11000424-1778184000-1778184000@visitnewbury.org.uk
SUMMARY:Open Mic Night
DESCRIPTION:Up for a sing along? The Newbury host their fantastic open mic night every Thursday from 8pm! \n  \n 
URL:https://visitnewbury.org.uk/event/the-newbury-pub-open-mic-night/2026-05-07/
LOCATION:The Newbury Pub & Terrace\, The Newbury Pub & Terrace\, RG145HB
CATEGORIES:Open Mic,Pub & Restaurant Events
ATTACH;FMTTYPE=image/jpeg:https://visitnewbury.org.uk/wp-content/uploads/2025/10/The-Newbury-open-mic-2026.jpg
END:VEVENT
BEGIN:VEVENT
DTSTART;TZID=Europe/London:20260510T180000
DTEND;TZID=Europe/London:20260510T180000
DTSTAMP:20260425T145020
CREATED:20250930T095325Z
LAST-MODIFIED:20260209T141619Z
UID:12002373-1778436000-1778436000@visitnewbury.org.uk
SUMMARY:Quiz Night at Cobrizo Lounge
DESCRIPTION:Quiz nights at Cobrizo Lounge\, every Sunday at 6pm. \n£2 per person to enter\, maximum 6 people per team\, and the best part… half the proceeds go to charity! \n\nFirst prize is the prize pot and a £20 gift voucher.\nSecond prize is £10 Gift voucher\nThird prize is a bottle of wine (needs to be drunk on the night in The Lounge)\n\nTo book\, head to their website (below)\, email cobrizo@thelounges.co.uk\, or call 01635 523 372.
URL:https://visitnewbury.org.uk/event/quiz-night-at-cobrizo-lounge-2/2026-05-10/
LOCATION:Cobrizo Lounge\, Cobrizo Lounge\, RG14 1DJ
CATEGORIES:Pub & Restaurant Events,Quiz
ATTACH;FMTTYPE=image/jpeg:https://visitnewbury.org.uk/wp-content/uploads/2025/02/Cobrizo-Lounge.jpg
END:VEVENT
BEGIN:VEVENT
DTSTART;TZID=Europe/London:20260513T193000
DTEND;TZID=Europe/London:20260513T220000
DTSTAMP:20260425T145020
CREATED:20260216T165447Z
LAST-MODIFIED:20260216T165447Z
UID:12003548-1778700600-1778709600@visitnewbury.org.uk
SUMMARY:Quiz Night at The Dolphin
DESCRIPTION:Don’t miss Quiz Night at The Dolphin\, taking place every Wednesday from 7:30pm to 10pm – book your table by visiting the pub’s website in the link below!
URL:https://visitnewbury.org.uk/event/quiz-night-at-the-dolphin/2026-05-13/
LOCATION:The Dolphin\, The Dolphin Newbury\, RG14 5DT
CATEGORIES:Pub & Restaurant Events,Quiz
ATTACH;FMTTYPE=image/jpeg:https://visitnewbury.org.uk/wp-content/uploads/2026/02/The-Dolphin-Pub-Quiz-e1771260577394.jpg
END:VEVENT
BEGIN:VEVENT
DTSTART;TZID=Europe/London:20260514T200000
DTEND;TZID=Europe/London:20260514T200000
DTSTAMP:20260425T145020
CREATED:20260116T142509Z
LAST-MODIFIED:20260116T142509Z
UID:11000425-1778788800-1778788800@visitnewbury.org.uk
SUMMARY:Open Mic Night
DESCRIPTION:Up for a sing along? The Newbury host their fantastic open mic night every Thursday from 8pm! \n  \n 
URL:https://visitnewbury.org.uk/event/the-newbury-pub-open-mic-night/2026-05-14/
LOCATION:The Newbury Pub & Terrace\, The Newbury Pub & Terrace\, RG145HB
CATEGORIES:Open Mic,Pub & Restaurant Events
ATTACH;FMTTYPE=image/jpeg:https://visitnewbury.org.uk/wp-content/uploads/2025/10/The-Newbury-open-mic-2026.jpg
END:VEVENT
BEGIN:VEVENT
DTSTART;TZID=Europe/London:20260517T180000
DTEND;TZID=Europe/London:20260517T180000
DTSTAMP:20260425T145020
CREATED:20250930T095325Z
LAST-MODIFIED:20260209T141619Z
UID:12002374-1779040800-1779040800@visitnewbury.org.uk
SUMMARY:Quiz Night at Cobrizo Lounge
DESCRIPTION:Quiz nights at Cobrizo Lounge\, every Sunday at 6pm. \n£2 per person to enter\, maximum 6 people per team\, and the best part… half the proceeds go to charity! \n\nFirst prize is the prize pot and a £20 gift voucher.\nSecond prize is £10 Gift voucher\nThird prize is a bottle of wine (needs to be drunk on the night in The Lounge)\n\nTo book\, head to their website (below)\, email cobrizo@thelounges.co.uk\, or call 01635 523 372.
URL:https://visitnewbury.org.uk/event/quiz-night-at-cobrizo-lounge-2/2026-05-17/
LOCATION:Cobrizo Lounge\, Cobrizo Lounge\, RG14 1DJ
CATEGORIES:Pub & Restaurant Events,Quiz
ATTACH;FMTTYPE=image/jpeg:https://visitnewbury.org.uk/wp-content/uploads/2025/02/Cobrizo-Lounge.jpg
END:VEVENT
BEGIN:VEVENT
DTSTART;TZID=Europe/London:20260520T193000
DTEND;TZID=Europe/London:20260520T220000
DTSTAMP:20260425T145020
CREATED:20260216T165447Z
LAST-MODIFIED:20260216T165447Z
UID:12003549-1779305400-1779314400@visitnewbury.org.uk
SUMMARY:Quiz Night at The Dolphin
DESCRIPTION:Don’t miss Quiz Night at The Dolphin\, taking place every Wednesday from 7:30pm to 10pm – book your table by visiting the pub’s website in the link below!
URL:https://visitnewbury.org.uk/event/quiz-night-at-the-dolphin/2026-05-20/
LOCATION:The Dolphin\, The Dolphin Newbury\, RG14 5DT
CATEGORIES:Pub & Restaurant Events,Quiz
ATTACH;FMTTYPE=image/jpeg:https://visitnewbury.org.uk/wp-content/uploads/2026/02/The-Dolphin-Pub-Quiz-e1771260577394.jpg
END:VEVENT
BEGIN:VEVENT
DTSTART;TZID=Europe/London:20260521T200000
DTEND;TZID=Europe/London:20260521T200000
DTSTAMP:20260425T145020
CREATED:20260116T142509Z
LAST-MODIFIED:20260116T142509Z
UID:11000426-1779393600-1779393600@visitnewbury.org.uk
SUMMARY:Open Mic Night
DESCRIPTION:Up for a sing along? The Newbury host their fantastic open mic night every Thursday from 8pm! \n  \n 
URL:https://visitnewbury.org.uk/event/the-newbury-pub-open-mic-night/2026-05-21/
LOCATION:The Newbury Pub & Terrace\, The Newbury Pub & Terrace\, RG145HB
CATEGORIES:Open Mic,Pub & Restaurant Events
ATTACH;FMTTYPE=image/jpeg:https://visitnewbury.org.uk/wp-content/uploads/2025/10/The-Newbury-open-mic-2026.jpg
END:VEVENT
BEGIN:VEVENT
DTSTART;TZID=Europe/London:20260524T180000
DTEND;TZID=Europe/London:20260524T180000
DTSTAMP:20260425T145020
CREATED:20250930T095325Z
LAST-MODIFIED:20260209T141619Z
UID:12002375-1779645600-1779645600@visitnewbury.org.uk
SUMMARY:Quiz Night at Cobrizo Lounge
DESCRIPTION:Quiz nights at Cobrizo Lounge\, every Sunday at 6pm. \n£2 per person to enter\, maximum 6 people per team\, and the best part… half the proceeds go to charity! \n\nFirst prize is the prize pot and a £20 gift voucher.\nSecond prize is £10 Gift voucher\nThird prize is a bottle of wine (needs to be drunk on the night in The Lounge)\n\nTo book\, head to their website (below)\, email cobrizo@thelounges.co.uk\, or call 01635 523 372.
URL:https://visitnewbury.org.uk/event/quiz-night-at-cobrizo-lounge-2/2026-05-24/
LOCATION:Cobrizo Lounge\, Cobrizo Lounge\, RG14 1DJ
CATEGORIES:Pub & Restaurant Events,Quiz
ATTACH;FMTTYPE=image/jpeg:https://visitnewbury.org.uk/wp-content/uploads/2025/02/Cobrizo-Lounge.jpg
END:VEVENT
BEGIN:VEVENT
DTSTART;TZID=Europe/London:20260527T193000
DTEND;TZID=Europe/London:20260527T220000
DTSTAMP:20260425T145020
CREATED:20260216T165447Z
LAST-MODIFIED:20260216T165447Z
UID:12003550-1779910200-1779919200@visitnewbury.org.uk
SUMMARY:Quiz Night at The Dolphin
DESCRIPTION:Don’t miss Quiz Night at The Dolphin\, taking place every Wednesday from 7:30pm to 10pm – book your table by visiting the pub’s website in the link below!
URL:https://visitnewbury.org.uk/event/quiz-night-at-the-dolphin/2026-05-27/
LOCATION:The Dolphin\, The Dolphin Newbury\, RG14 5DT
CATEGORIES:Pub & Restaurant Events,Quiz
ATTACH;FMTTYPE=image/jpeg:https://visitnewbury.org.uk/wp-content/uploads/2026/02/The-Dolphin-Pub-Quiz-e1771260577394.jpg
END:VEVENT
BEGIN:VEVENT
DTSTART;TZID=Europe/London:20260528T200000
DTEND;TZID=Europe/London:20260528T200000
DTSTAMP:20260425T145020
CREATED:20260116T142509Z
LAST-MODIFIED:20260116T142509Z
UID:11000427-1779998400-1779998400@visitnewbury.org.uk
SUMMARY:Open Mic Night
DESCRIPTION:Up for a sing along? The Newbury host their fantastic open mic night every Thursday from 8pm! \n  \n 
URL:https://visitnewbury.org.uk/event/the-newbury-pub-open-mic-night/2026-05-28/
LOCATION:The Newbury Pub & Terrace\, The Newbury Pub & Terrace\, RG145HB
CATEGORIES:Open Mic,Pub & Restaurant Events
ATTACH;FMTTYPE=image/jpeg:https://visitnewbury.org.uk/wp-content/uploads/2025/10/The-Newbury-open-mic-2026.jpg
END:VEVENT
BEGIN:VEVENT
DTSTART;TZID=Europe/London:20260531T180000
DTEND;TZID=Europe/London:20260531T180000
DTSTAMP:20260425T145020
CREATED:20250930T095325Z
LAST-MODIFIED:20260209T141619Z
UID:12002376-1780250400-1780250400@visitnewbury.org.uk
SUMMARY:Quiz Night at Cobrizo Lounge
DESCRIPTION:Quiz nights at Cobrizo Lounge\, every Sunday at 6pm. \n£2 per person to enter\, maximum 6 people per team\, and the best part… half the proceeds go to charity! \n\nFirst prize is the prize pot and a £20 gift voucher.\nSecond prize is £10 Gift voucher\nThird prize is a bottle of wine (needs to be drunk on the night in The Lounge)\n\nTo book\, head to their website (below)\, email cobrizo@thelounges.co.uk\, or call 01635 523 372.
URL:https://visitnewbury.org.uk/event/quiz-night-at-cobrizo-lounge-2/2026-05-31/
LOCATION:Cobrizo Lounge\, Cobrizo Lounge\, RG14 1DJ
CATEGORIES:Pub & Restaurant Events,Quiz
ATTACH;FMTTYPE=image/jpeg:https://visitnewbury.org.uk/wp-content/uploads/2025/02/Cobrizo-Lounge.jpg
END:VEVENT
BEGIN:VEVENT
DTSTART;TZID=Europe/London:20260531T193000
DTEND;TZID=Europe/London:20260531T220000
DTSTAMP:20260425T145020
CREATED:20250909T102332Z
LAST-MODIFIED:20251003T103919Z
UID:12002284-1780255800-1780264800@visitnewbury.org.uk
SUMMARY:Open Mic Night at The Wheel
DESCRIPTION:Looking for a relaxed Sunday night out? Open Mic Night at The Catherine Wheel is the perfect spot to enjoy live local music in a friendly\, welcoming setting. \nHosted by Sion Whiley\, the monthly event invites singers\, musicians\, and performers of all styles to take to the stage\, regardless of whether you’re a seasoned gigging pro or trying it for the first time! Not performing? Head along\, grab a drink\, and enjoy the atmosphere. \nThe open mic nights will take place on the last Sunday each month.
URL:https://visitnewbury.org.uk/event/open-mic-night-at-the-wheel/2026-05-31/
LOCATION:The Catherine Wheel\, The Catherine Wheel\, RG14 5DB
CATEGORIES:Open Mic,Pub & Restaurant Events
ATTACH;FMTTYPE=image/png:https://visitnewbury.org.uk/wp-content/uploads/2025/09/CW-OPEN-MIC-NIGHT.png
END:VEVENT
BEGIN:VEVENT
DTSTART;TZID=Europe/London:20260603T193000
DTEND;TZID=Europe/London:20260603T220000
DTSTAMP:20260425T145020
CREATED:20260216T165447Z
LAST-MODIFIED:20260216T165447Z
UID:12003551-1780515000-1780524000@visitnewbury.org.uk
SUMMARY:Quiz Night at The Dolphin
DESCRIPTION:Don’t miss Quiz Night at The Dolphin\, taking place every Wednesday from 7:30pm to 10pm – book your table by visiting the pub’s website in the link below!
URL:https://visitnewbury.org.uk/event/quiz-night-at-the-dolphin/2026-06-03/
LOCATION:The Dolphin\, The Dolphin Newbury\, RG14 5DT
CATEGORIES:Pub & Restaurant Events,Quiz
ATTACH;FMTTYPE=image/jpeg:https://visitnewbury.org.uk/wp-content/uploads/2026/02/The-Dolphin-Pub-Quiz-e1771260577394.jpg
END:VEVENT
BEGIN:VEVENT
DTSTART;TZID=Europe/London:20260604T200000
DTEND;TZID=Europe/London:20260604T200000
DTSTAMP:20260425T145020
CREATED:20260116T142509Z
LAST-MODIFIED:20260116T142509Z
UID:11000428-1780603200-1780603200@visitnewbury.org.uk
SUMMARY:Open Mic Night
DESCRIPTION:Up for a sing along? The Newbury host their fantastic open mic night every Thursday from 8pm! \n  \n 
URL:https://visitnewbury.org.uk/event/the-newbury-pub-open-mic-night/2026-06-04/
LOCATION:The Newbury Pub & Terrace\, The Newbury Pub & Terrace\, RG145HB
CATEGORIES:Open Mic,Pub & Restaurant Events
ATTACH;FMTTYPE=image/jpeg:https://visitnewbury.org.uk/wp-content/uploads/2025/10/The-Newbury-open-mic-2026.jpg
END:VEVENT
BEGIN:VEVENT
DTSTART;TZID=Europe/London:20260607T180000
DTEND;TZID=Europe/London:20260607T180000
DTSTAMP:20260425T145020
CREATED:20250930T095325Z
LAST-MODIFIED:20260209T141619Z
UID:12002377-1780855200-1780855200@visitnewbury.org.uk
SUMMARY:Quiz Night at Cobrizo Lounge
DESCRIPTION:Quiz nights at Cobrizo Lounge\, every Sunday at 6pm. \n£2 per person to enter\, maximum 6 people per team\, and the best part… half the proceeds go to charity! \n\nFirst prize is the prize pot and a £20 gift voucher.\nSecond prize is £10 Gift voucher\nThird prize is a bottle of wine (needs to be drunk on the night in The Lounge)\n\nTo book\, head to their website (below)\, email cobrizo@thelounges.co.uk\, or call 01635 523 372.
URL:https://visitnewbury.org.uk/event/quiz-night-at-cobrizo-lounge-2/2026-06-07/
LOCATION:Cobrizo Lounge\, Cobrizo Lounge\, RG14 1DJ
CATEGORIES:Pub & Restaurant Events,Quiz
ATTACH;FMTTYPE=image/jpeg:https://visitnewbury.org.uk/wp-content/uploads/2025/02/Cobrizo-Lounge.jpg
END:VEVENT
BEGIN:VEVENT
DTSTART;TZID=Europe/London:20260610T193000
DTEND;TZID=Europe/London:20260610T220000
DTSTAMP:20260425T145020
CREATED:20260216T165447Z
LAST-MODIFIED:20260216T165447Z
UID:12003552-1781119800-1781128800@visitnewbury.org.uk
SUMMARY:Quiz Night at The Dolphin
DESCRIPTION:Don’t miss Quiz Night at The Dolphin\, taking place every Wednesday from 7:30pm to 10pm – book your table by visiting the pub’s website in the link below!
URL:https://visitnewbury.org.uk/event/quiz-night-at-the-dolphin/2026-06-10/
LOCATION:The Dolphin\, The Dolphin Newbury\, RG14 5DT
CATEGORIES:Pub & Restaurant Events,Quiz
ATTACH;FMTTYPE=image/jpeg:https://visitnewbury.org.uk/wp-content/uploads/2026/02/The-Dolphin-Pub-Quiz-e1771260577394.jpg
END:VEVENT
BEGIN:VEVENT
DTSTART;TZID=Europe/London:20260611T200000
DTEND;TZID=Europe/London:20260611T200000
DTSTAMP:20260425T145020
CREATED:20260116T142509Z
LAST-MODIFIED:20260116T142509Z
UID:11000429-1781208000-1781208000@visitnewbury.org.uk
SUMMARY:Open Mic Night
DESCRIPTION:Up for a sing along? The Newbury host their fantastic open mic night every Thursday from 8pm! \n  \n 
URL:https://visitnewbury.org.uk/event/the-newbury-pub-open-mic-night/2026-06-11/
LOCATION:The Newbury Pub & Terrace\, The Newbury Pub & Terrace\, RG145HB
CATEGORIES:Open Mic,Pub & Restaurant Events
ATTACH;FMTTYPE=image/jpeg:https://visitnewbury.org.uk/wp-content/uploads/2025/10/The-Newbury-open-mic-2026.jpg
END:VEVENT
BEGIN:VEVENT
DTSTART;TZID=Europe/London:20260614T180000
DTEND;TZID=Europe/London:20260614T180000
DTSTAMP:20260425T145020
CREATED:20250930T095325Z
LAST-MODIFIED:20260209T141619Z
UID:12002378-1781460000-1781460000@visitnewbury.org.uk
SUMMARY:Quiz Night at Cobrizo Lounge
DESCRIPTION:Quiz nights at Cobrizo Lounge\, every Sunday at 6pm. \n£2 per person to enter\, maximum 6 people per team\, and the best part… half the proceeds go to charity! \n\nFirst prize is the prize pot and a £20 gift voucher.\nSecond prize is £10 Gift voucher\nThird prize is a bottle of wine (needs to be drunk on the night in The Lounge)\n\nTo book\, head to their website (below)\, email cobrizo@thelounges.co.uk\, or call 01635 523 372.
URL:https://visitnewbury.org.uk/event/quiz-night-at-cobrizo-lounge-2/2026-06-14/
LOCATION:Cobrizo Lounge\, Cobrizo Lounge\, RG14 1DJ
CATEGORIES:Pub & Restaurant Events,Quiz
ATTACH;FMTTYPE=image/jpeg:https://visitnewbury.org.uk/wp-content/uploads/2025/02/Cobrizo-Lounge.jpg
END:VEVENT
BEGIN:VEVENT
DTSTART;TZID=Europe/London:20260617T193000
DTEND;TZID=Europe/London:20260617T220000
DTSTAMP:20260425T145020
CREATED:20260216T165447Z
LAST-MODIFIED:20260216T165447Z
UID:12003553-1781724600-1781733600@visitnewbury.org.uk
SUMMARY:Quiz Night at The Dolphin
DESCRIPTION:Don’t miss Quiz Night at The Dolphin\, taking place every Wednesday from 7:30pm to 10pm – book your table by visiting the pub’s website in the link below!
URL:https://visitnewbury.org.uk/event/quiz-night-at-the-dolphin/2026-06-17/
LOCATION:The Dolphin\, The Dolphin Newbury\, RG14 5DT
CATEGORIES:Pub & Restaurant Events,Quiz
ATTACH;FMTTYPE=image/jpeg:https://visitnewbury.org.uk/wp-content/uploads/2026/02/The-Dolphin-Pub-Quiz-e1771260577394.jpg
END:VEVENT
BEGIN:VEVENT
DTSTART;TZID=Europe/London:20260618T200000
DTEND;TZID=Europe/London:20260618T200000
DTSTAMP:20260425T145020
CREATED:20260116T142509Z
LAST-MODIFIED:20260116T142509Z
UID:11000430-1781812800-1781812800@visitnewbury.org.uk
SUMMARY:Open Mic Night
DESCRIPTION:Up for a sing along? The Newbury host their fantastic open mic night every Thursday from 8pm! \n  \n 
URL:https://visitnewbury.org.uk/event/the-newbury-pub-open-mic-night/2026-06-18/
LOCATION:The Newbury Pub & Terrace\, The Newbury Pub & Terrace\, RG145HB
CATEGORIES:Open Mic,Pub & Restaurant Events
ATTACH;FMTTYPE=image/jpeg:https://visitnewbury.org.uk/wp-content/uploads/2025/10/The-Newbury-open-mic-2026.jpg
END:VEVENT
BEGIN:VEVENT
DTSTART;TZID=Europe/London:20260621T180000
DTEND;TZID=Europe/London:20260621T180000
DTSTAMP:20260425T145020
CREATED:20250930T095325Z
LAST-MODIFIED:20260209T141619Z
UID:12002379-1782064800-1782064800@visitnewbury.org.uk
SUMMARY:Quiz Night at Cobrizo Lounge
DESCRIPTION:Quiz nights at Cobrizo Lounge\, every Sunday at 6pm. \n£2 per person to enter\, maximum 6 people per team\, and the best part… half the proceeds go to charity! \n\nFirst prize is the prize pot and a £20 gift voucher.\nSecond prize is £10 Gift voucher\nThird prize is a bottle of wine (needs to be drunk on the night in The Lounge)\n\nTo book\, head to their website (below)\, email cobrizo@thelounges.co.uk\, or call 01635 523 372.
URL:https://visitnewbury.org.uk/event/quiz-night-at-cobrizo-lounge-2/2026-06-21/
LOCATION:Cobrizo Lounge\, Cobrizo Lounge\, RG14 1DJ
CATEGORIES:Pub & Restaurant Events,Quiz
ATTACH;FMTTYPE=image/jpeg:https://visitnewbury.org.uk/wp-content/uploads/2025/02/Cobrizo-Lounge.jpg
END:VEVENT
BEGIN:VEVENT
DTSTART;TZID=Europe/London:20260624T193000
DTEND;TZID=Europe/London:20260624T220000
DTSTAMP:20260425T145020
CREATED:20260216T165447Z
LAST-MODIFIED:20260216T165447Z
UID:12003554-1782329400-1782338400@visitnewbury.org.uk
SUMMARY:Quiz Night at The Dolphin
DESCRIPTION:Don’t miss Quiz Night at The Dolphin\, taking place every Wednesday from 7:30pm to 10pm – book your table by visiting the pub’s website in the link below!
URL:https://visitnewbury.org.uk/event/quiz-night-at-the-dolphin/2026-06-24/
LOCATION:The Dolphin\, The Dolphin Newbury\, RG14 5DT
CATEGORIES:Pub & Restaurant Events,Quiz
ATTACH;FMTTYPE=image/jpeg:https://visitnewbury.org.uk/wp-content/uploads/2026/02/The-Dolphin-Pub-Quiz-e1771260577394.jpg
END:VEVENT
BEGIN:VEVENT
DTSTART;TZID=Europe/London:20260625T200000
DTEND;TZID=Europe/London:20260625T200000
DTSTAMP:20260425T145020
CREATED:20260116T142509Z
LAST-MODIFIED:20260116T142509Z
UID:11000431-1782417600-1782417600@visitnewbury.org.uk
SUMMARY:Open Mic Night
DESCRIPTION:Up for a sing along? The Newbury host their fantastic open mic night every Thursday from 8pm! \n  \n 
URL:https://visitnewbury.org.uk/event/the-newbury-pub-open-mic-night/2026-06-25/
LOCATION:The Newbury Pub & Terrace\, The Newbury Pub & Terrace\, RG145HB
CATEGORIES:Open Mic,Pub & Restaurant Events
ATTACH;FMTTYPE=image/jpeg:https://visitnewbury.org.uk/wp-content/uploads/2025/10/The-Newbury-open-mic-2026.jpg
END:VEVENT
BEGIN:VEVENT
DTSTART;TZID=Europe/London:20260628T180000
DTEND;TZID=Europe/London:20260628T180000
DTSTAMP:20260425T145020
CREATED:20250930T095325Z
LAST-MODIFIED:20260209T141619Z
UID:12002380-1782669600-1782669600@visitnewbury.org.uk
SUMMARY:Quiz Night at Cobrizo Lounge
DESCRIPTION:Quiz nights at Cobrizo Lounge\, every Sunday at 6pm. \n£2 per person to enter\, maximum 6 people per team\, and the best part… half the proceeds go to charity! \n\nFirst prize is the prize pot and a £20 gift voucher.\nSecond prize is £10 Gift voucher\nThird prize is a bottle of wine (needs to be drunk on the night in The Lounge)\n\nTo book\, head to their website (below)\, email cobrizo@thelounges.co.uk\, or call 01635 523 372.
URL:https://visitnewbury.org.uk/event/quiz-night-at-cobrizo-lounge-2/2026-06-28/
LOCATION:Cobrizo Lounge\, Cobrizo Lounge\, RG14 1DJ
CATEGORIES:Pub & Restaurant Events,Quiz
ATTACH;FMTTYPE=image/jpeg:https://visitnewbury.org.uk/wp-content/uploads/2025/02/Cobrizo-Lounge.jpg
END:VEVENT
BEGIN:VEVENT
DTSTART;TZID=Europe/London:20260628T193000
DTEND;TZID=Europe/London:20260628T220000
DTSTAMP:20260425T145020
CREATED:20250909T102332Z
LAST-MODIFIED:20251003T103919Z
UID:12002285-1782675000-1782684000@visitnewbury.org.uk
SUMMARY:Open Mic Night at The Wheel
DESCRIPTION:Looking for a relaxed Sunday night out? Open Mic Night at The Catherine Wheel is the perfect spot to enjoy live local music in a friendly\, welcoming setting. \nHosted by Sion Whiley\, the monthly event invites singers\, musicians\, and performers of all styles to take to the stage\, regardless of whether you’re a seasoned gigging pro or trying it for the first time! Not performing? Head along\, grab a drink\, and enjoy the atmosphere. \nThe open mic nights will take place on the last Sunday each month.
URL:https://visitnewbury.org.uk/event/open-mic-night-at-the-wheel/2026-06-28/
LOCATION:The Catherine Wheel\, The Catherine Wheel\, RG14 5DB
CATEGORIES:Open Mic,Pub & Restaurant Events
ATTACH;FMTTYPE=image/png:https://visitnewbury.org.uk/wp-content/uploads/2025/09/CW-OPEN-MIC-NIGHT.png
END:VEVENT
BEGIN:VEVENT
DTSTART;TZID=Europe/London:20260701T193000
DTEND;TZID=Europe/London:20260701T220000
DTSTAMP:20260425T145020
CREATED:20260216T165447Z
LAST-MODIFIED:20260216T165447Z
UID:12003555-1782934200-1782943200@visitnewbury.org.uk
SUMMARY:Quiz Night at The Dolphin
DESCRIPTION:Don’t miss Quiz Night at The Dolphin\, taking place every Wednesday from 7:30pm to 10pm – book your table by visiting the pub’s website in the link below!
URL:https://visitnewbury.org.uk/event/quiz-night-at-the-dolphin/2026-07-01/
LOCATION:The Dolphin\, The Dolphin Newbury\, RG14 5DT
CATEGORIES:Pub & Restaurant Events,Quiz
ATTACH;FMTTYPE=image/jpeg:https://visitnewbury.org.uk/wp-content/uploads/2026/02/The-Dolphin-Pub-Quiz-e1771260577394.jpg
END:VEVENT
BEGIN:VEVENT
DTSTART;TZID=Europe/London:20260702T200000
DTEND;TZID=Europe/London:20260702T200000
DTSTAMP:20260425T145020
CREATED:20260116T142509Z
LAST-MODIFIED:20260116T142509Z
UID:11000432-1783022400-1783022400@visitnewbury.org.uk
SUMMARY:Open Mic Night
DESCRIPTION:Up for a sing along? The Newbury host their fantastic open mic night every Thursday from 8pm! \n  \n 
URL:https://visitnewbury.org.uk/event/the-newbury-pub-open-mic-night/2026-07-02/
LOCATION:The Newbury Pub & Terrace\, The Newbury Pub & Terrace\, RG145HB
CATEGORIES:Open Mic,Pub & Restaurant Events
ATTACH;FMTTYPE=image/jpeg:https://visitnewbury.org.uk/wp-content/uploads/2025/10/The-Newbury-open-mic-2026.jpg
END:VEVENT
BEGIN:VEVENT
DTSTART;TZID=Europe/London:20260708T193000
DTEND;TZID=Europe/London:20260708T220000
DTSTAMP:20260425T145020
CREATED:20260216T165447Z
LAST-MODIFIED:20260216T165447Z
UID:12003556-1783539000-1783548000@visitnewbury.org.uk
SUMMARY:Quiz Night at The Dolphin
DESCRIPTION:Don’t miss Quiz Night at The Dolphin\, taking place every Wednesday from 7:30pm to 10pm – book your table by visiting the pub’s website in the link below!
URL:https://visitnewbury.org.uk/event/quiz-night-at-the-dolphin/2026-07-08/
LOCATION:The Dolphin\, The Dolphin Newbury\, RG14 5DT
CATEGORIES:Pub & Restaurant Events,Quiz
ATTACH;FMTTYPE=image/jpeg:https://visitnewbury.org.uk/wp-content/uploads/2026/02/The-Dolphin-Pub-Quiz-e1771260577394.jpg
END:VEVENT
END:VCALENDAR