BEGIN:VCALENDAR
VERSION:2.0
PRODID:-//Visit Newbury - ECPv6.13.2.1//NONSGML v1.0//EN
CALSCALE:GREGORIAN
METHOD:PUBLISH
X-ORIGINAL-URL:https://visitnewbury.org.uk
X-WR-CALDESC:Events for Visit Newbury
REFRESH-INTERVAL;VALUE=DURATION:PT1H
X-Robots-Tag:noindex
X-PUBLISHED-TTL:PT1H
BEGIN:VTIMEZONE
TZID:Europe/London
BEGIN:DAYLIGHT
TZOFFSETFROM:+0000
TZOFFSETTO:+0100
TZNAME:BST
DTSTART:20250330T010000
END:DAYLIGHT
BEGIN:STANDARD
TZOFFSETFROM:+0100
TZOFFSETTO:+0000
TZNAME:GMT
DTSTART:20251026T010000
END:STANDARD
END:VTIMEZONE
BEGIN:VEVENT
DTSTART;TZID=Europe/London:20250915T100000
DTEND;TZID=Europe/London:20251010T130000
DTSTAMP:20260422T165123
CREATED:20250916T084216Z
LAST-MODIFIED:20250916T084216Z
UID:12002305-1757930400-1760101200@visitnewbury.org.uk
SUMMARY:Sue Lee Art Exhibition
DESCRIPTION:Thatcham-based artist\, Sue Lee\, who rediscovered her passion for painting during her battle with breast cancer\, is launching a one-month residency at Howarth’s Gallery in Newbury on Monday 15th September. \nEvery single penny from sales will go directly to Newbury Cancer Care\, a charity providing practical support to local people living with cancer and life-threatening illnesses. \nIt was during Sue’s treatment that she began painting again\, creating vibrant hand-drawn\, handpainted\, mandala-style pieces inspired by nature and different cultures. \nPieces will be available from £45\, with all proceeds donated to Newbury Cancer Care. \nThe gallery will be open from 10am–2pm Monday to Thursday\, and 10am–1pm Friday. \nVisits outside of these hours can be arranged by contacting Claire Howarth at: claire@howarthsgallery.co.uk \nYou can see more by visiting Sue Lee’s Instagram page via the link below.
URL:https://visitnewbury.org.uk/event/sue-lee-art-exhibition/
LOCATION:Howarth’s Gallery\, Howarth's Gallery\, RG14 2AJ
CATEGORIES:Art Exhibition,Fundraising
ATTACH;FMTTYPE=image/png:https://visitnewbury.org.uk/wp-content/uploads/2025/09/Sue-Lee-Exhibition-scaled.png
END:VEVENT
BEGIN:VEVENT
DTSTART;TZID=Europe/London:20250929T100000
DTEND;TZID=Europe/London:20250929T160000
DTSTAMP:20260422T165123
CREATED:20250919T111939Z
LAST-MODIFIED:20250919T111939Z
UID:12002330-1759140000-1759161600@visitnewbury.org.uk
SUMMARY:Meet the Funder Day 2025
DESCRIPTION:Join Volunteer Centre West Berkshire at Broadway House on Monday 29 September 2025\, for this great opportunity to meet a mix of local and national funders face to face in Newbury. \nThis event is perfect for those responsible for fundraising on behalf of their charity or voluntary organisation. \nBook 15 minute 1-2-1 appointments with one or all the funders at the event to: \n\ndiscuss current and upcoming funding opportunities\nget a better understanding of the eligibility criteria\, application process\, deadline and amounts you can apply for\ndiscuss and ask questions about your project’s eligibility for funding\n\nJoining on the day are: \n\nBerkshire Community Foundation\nEnglefield Charitable Trust\nGreenham Trust\nSovereign Network Group\nTesco Community Grants (managed by Groundworks)\nThe Clothworkers Foundation\nThe National Lottery Community Fund\n\nHead to the link below to learn more\, with full details on how to register.
URL:https://visitnewbury.org.uk/event/meet-the-funder-day-2025/
LOCATION:Broadway House\, Broadway House\, RG14 1BA
CATEGORIES:Fundraising
ATTACH;FMTTYPE=image/png:https://visitnewbury.org.uk/wp-content/uploads/2025/09/Meet-the-Funder-VCWB.png
END:VEVENT
END:VCALENDAR