BEGIN:VCALENDAR
VERSION:2.0
PRODID:-//Visit Newbury - ECPv6.13.2.1//NONSGML v1.0//EN
CALSCALE:GREGORIAN
METHOD:PUBLISH
X-ORIGINAL-URL:https://visitnewbury.org.uk
X-WR-CALDESC:Events for Visit Newbury
REFRESH-INTERVAL;VALUE=DURATION:PT1H
X-Robots-Tag:noindex
X-PUBLISHED-TTL:PT1H
BEGIN:VTIMEZONE
TZID:Europe/London
BEGIN:DAYLIGHT
TZOFFSETFROM:+0000
TZOFFSETTO:+0100
TZNAME:BST
DTSTART:20260329T010000
END:DAYLIGHT
BEGIN:STANDARD
TZOFFSETFROM:+0100
TZOFFSETTO:+0000
TZNAME:GMT
DTSTART:20261025T010000
END:STANDARD
END:VTIMEZONE
BEGIN:VEVENT
DTSTART;TZID=Europe/London:20260314T100000
DTEND;TZID=Europe/London:20260314T180000
DTSTAMP:20260422T123017
CREATED:20260225T155546Z
LAST-MODIFIED:20260225T161216Z
UID:12003587-1773482400-1773511200@visitnewbury.org.uk
SUMMARY:Card-É-Diem
DESCRIPTION:The UK’s Premier TCG Experience comes to Newbury Racecourse! \nBook your tickets for an unparalleled celebration of the trading card community\, featuring everything from Pokémon and Yu-Gi-Oh! to One Piece\, Dragon Ball Z\, Magic: The Gathering\, and beyond. \nExpect over 250+ vendor tables and explore a massive marketplace featuring the UK’s top TCG sellers. Whether you’re hunting for rare high-end “grails” or looking to complete your master set\, this is the place to find them. Buy\, sell\, & trade in a dedicated environment to connect with fellow collectors\, strike deals\, and upgrade your collection. Beyond the cards\, enjoy a day filled with community spirit and a lineup of activities to be announced. \nThere will also be an on-site Kids Club to keep younger fans and collectors entertained! \nMake sure you book your tickets in advance via the link below – and use code NEWBURY at checkout to save 25% on your tickets! \n 
URL:https://visitnewbury.org.uk/event/card-e-diem/
LOCATION:Newbury Racecourse\, Newbury Racecourse\, RG14 7NZ
CATEGORIES:Conventions,Gaming
ATTACH;FMTTYPE=image/jpeg:https://visitnewbury.org.uk/wp-content/uploads/2026/02/Card-E-Diem-Newbury-Racecourse-offer-code.jpg
END:VEVENT
BEGIN:VEVENT
DTSTART;TZID=Europe/London:20260315T081500
DTEND;TZID=Europe/London:20260315T081500
DTSTAMP:20260422T123017
CREATED:20260112T122315Z
LAST-MODIFIED:20260112T122720Z
UID:12003163-1773562500-1773562500@visitnewbury.org.uk
SUMMARY:JWS x MiLK & BEAN 5k Run Club
DESCRIPTION:Join for a morning run with JWS Fitness & Wellbeing in collaboration with MiLK & BEAN. \nThis 5K run is perfect for all fitness levels\, whether you’re an experienced runner or just looking to start your day right. \nMeet at 8:15am outside MiLK & BEAN\, with the run setting off promptly at 8:30am. The route will take you on a scenic route around the centre before finishing back at MiLK & BEAN\, where you can enjoy a well-deserved 20% discount on all drinks. \nMake sure you register for free via the link below.
URL:https://visitnewbury.org.uk/event/jws-x-milk-bean-5k-run-club-march2026/
LOCATION:MiLK & BEAN\, Milk & Bean\, RG14 1DJ
CATEGORIES:Fun Runs,Health & Wellbeing,Sport
ATTACH;FMTTYPE=image/jpeg:https://visitnewbury.org.uk/wp-content/uploads/2025/06/Milk-Bean-x-JWS-run-club.jpg
END:VEVENT
BEGIN:VEVENT
DTSTART;TZID=Europe/London:20260319T100000
DTEND;TZID=Europe/London:20260319T120000
DTSTAMP:20260422T123017
CREATED:20260109T131929Z
LAST-MODIFIED:20260205T113717Z
UID:12003138-1773914400-1773921600@visitnewbury.org.uk
SUMMARY:Community Clean-Up
DESCRIPTION:It’s the first Community Clean-Up of 2026\, a chance for us all to give back to our charming market town! \nJoin the Newbury BID team and other volunteers as we look to tidy up some areas around Newbury town centre – all kit will be provided (our thanks to West Berkshire Council for lending us some additional equipment). \nLet us know if you would like to join by emailing info@newburybid.com\, and we’ll email with further details.
URL:https://visitnewbury.org.uk/event/community-clean-up-march2026/
LOCATION:Newbury Town Centre\, Newbury Town Centre\, RG15 5AA
CATEGORIES:Community Events
ATTACH;FMTTYPE=image/jpeg:https://visitnewbury.org.uk/wp-content/uploads/2026/01/Community-Clean-Up-March-2026.jpg
END:VEVENT
BEGIN:VEVENT
DTSTART;TZID=Europe/London:20260319T193000
DTEND;TZID=Europe/London:20260319T220000
DTSTAMP:20260422T123017
CREATED:20260223T092436Z
LAST-MODIFIED:20260223T092436Z
UID:12003584-1773948600-1773957600@visitnewbury.org.uk
SUMMARY:Laugh out loud for mental health
DESCRIPTION:The Charlie Waller Trust presents a feel-good evening of hilarious comedy from some of the most side-splitting acts on the circuit including Alex Farrow\, Rachel Fairburn\, Joe Wells\, Robert White and David Alfie Ward\, as well as a welcome from their patron Alexander Armstrong! \nAll funds raised will help support the mental health of children and young people at The Charlie Waller Trust. \nHead to link below to learn more or book your tickets. Age Guide: 14+
URL:https://visitnewbury.org.uk/event/laugh-out-loud-for-mental-health/
LOCATION:Corn Exchange Newbury\, Corn Exchange\, Market Place\, RG14 5BD
CATEGORIES:Comedy,Fundraising,Health & Wellbeing
ATTACH;FMTTYPE=image/jpeg:https://visitnewbury.org.uk/wp-content/uploads/2026/02/Laugh-out-Loud-for-mental-health.jpg
END:VEVENT
BEGIN:VEVENT
DTSTART;TZID=Europe/London:20260327T110000
DTEND;TZID=Europe/London:20260327T150000
DTSTAMP:20260422T123017
CREATED:20260309T135426Z
LAST-MODIFIED:20260309T135426Z
UID:12003597-1774609200-1774623600@visitnewbury.org.uk
SUMMARY:Hays Travel First Birthday
DESCRIPTION:You are invited to join the party as Hays Travel Newbury celebrates its first birthday! \nThe local team will be joined by trade experts on the day where you can find exclusive deals from Fred Olsen\, Wendy Wu and Railbookers. \nWinners will also be picked for the branch’s charity raffle\, which has been raising money for Waterside Youth Centre. \nIt’s free to pop in to join the celebrations\, and you might just find yourself a brilliant holiday offer while you’re there!
URL:https://visitnewbury.org.uk/event/hays-travel-first-birthday/
LOCATION:Hays Travel Newbury\, Hays Travel Newbury\, RG14 1DJ
CATEGORIES:Fundraising,Open Days
ATTACH;FMTTYPE=image/jpeg:https://visitnewbury.org.uk/wp-content/uploads/2026/03/Hays-Travel-First-Birthday-event-2026.jpg
END:VEVENT
BEGIN:VEVENT
DTSTART;TZID=Europe/London:20260328T100000
DTEND;TZID=Europe/London:20260410T160000
DTSTAMP:20260422T123017
CREATED:20250401T134835Z
LAST-MODIFIED:20260324T152623Z
UID:11001624-1774692000-1775836800@visitnewbury.org.uk
SUMMARY:City Arts Easter Egg Trail
DESCRIPTION:Join in the Easter fun with City Arts! \nThey are running their Easter Egg trail all around Newbury town centre this year\, raising money for their children’s program. \nMaps are £2 and you can get yours at City Arts from 10am\, Saturday 28th March. If you get in early you may also receive a small Easter treat! \nFollow the trail and collect clues from the Giant Easter Eggs dotted around Newbury town centre. \nOnce completed return your map to City Arts by 4pm on Friday 10th April\, to be entered into a prize draw to win a fantastic grand prize! \nYou can find full details on the link below. \nSome brilliant town centre business are taking part\, including UHY Ross Brooke\, Rufus Coffee House\, Newbury Models\, Willow and Blooms\, Ugly Duckling\, Rocket Propelled Games\, Between the Lines\, Milk & Bean\, West Berkshire Museum\, Teashop by the Canal\, Newbury Library\, Pageant Party and Mio Fiore Coffee!
URL:https://visitnewbury.org.uk/event/city-arts-easter-egg-trail/
LOCATION:Newbury Town Centre\, Newbury Town Centre\, RG15 5AA
CATEGORIES:Easter,School Holidays & Half Term,Trails
ATTACH;FMTTYPE=image/webp:https://visitnewbury.org.uk/wp-content/uploads/2025/04/City-Arts-Easter-Trail-2026.webp
END:VEVENT
BEGIN:VEVENT
DTSTART;TZID=Europe/London:20260329T100000
DTEND;TZID=Europe/London:20260329T160000
DTSTAMP:20260422T123017
CREATED:20260106T105527Z
LAST-MODIFIED:20260324T093708Z
UID:12002201-1774778400-1774800000@visitnewbury.org.uk
SUMMARY:Newbury Artisan Market
DESCRIPTION:A modern makers market supporting emerging and established independent artisans\, producers\, crafters\, and makers! \n​Held across Newbury town centre on the last Sunday of the month\, come and enjoy the friendly atmosphere of the Artisan Market\, offering unique\, handmade goods from local artisans\, producers\, crafters\, and makers.​
URL:https://visitnewbury.org.uk/event/newbury-artisan-market-march2026/
LOCATION:Newbury Town Centre\, Newbury Town Centre\, RG15 5AA
CATEGORIES:Community Events,Markets
ATTACH;FMTTYPE=image/jpeg:https://visitnewbury.org.uk/wp-content/uploads/2026/01/Artisan-Market-March-2026.jpg
END:VEVENT
END:VCALENDAR