BEGIN:VCALENDAR
VERSION:2.0
PRODID:-//Visit Newbury - ECPv6.13.2.1//NONSGML v1.0//EN
CALSCALE:GREGORIAN
METHOD:PUBLISH
X-WR-CALNAME:Visit Newbury
X-ORIGINAL-URL:https://visitnewbury.org.uk
X-WR-CALDESC:Events for Visit Newbury
REFRESH-INTERVAL;VALUE=DURATION:PT1H
X-Robots-Tag:noindex
X-PUBLISHED-TTL:PT1H
BEGIN:VTIMEZONE
TZID:Europe/London
BEGIN:DAYLIGHT
TZOFFSETFROM:+0000
TZOFFSETTO:+0100
TZNAME:BST
DTSTART:20260329T010000
END:DAYLIGHT
BEGIN:STANDARD
TZOFFSETFROM:+0100
TZOFFSETTO:+0000
TZNAME:GMT
DTSTART:20261025T010000
END:STANDARD
END:VTIMEZONE
BEGIN:VEVENT
DTSTART;TZID=Europe/London:20260526T100000
DTEND;TZID=Europe/London:20260526T160000
DTSTAMP:20260420T123548
CREATED:20260415T141854Z
LAST-MODIFIED:20260415T141953Z
UID:12003833-1779789600-1779811200@visitnewbury.org.uk
SUMMARY:Create and Make May Half Term
DESCRIPTION:This May half term\, join the Corn Exchange in the Old Library for some arts and crafts\, drama – and much more! \nYour child will get to work with professional practitioners to explore the creative arts with fun activities\, develop new skills and make new friends. All materials are provided. \nSuitable for primary school children aged 9 – 12\, regular days run from 10am-4pm\, or you can book in for the extended hours from 8.30am-5.30pm. \nBook in via the link below.
URL:https://visitnewbury.org.uk/event/create-and-make-may-half-term/2026-05-26/
LOCATION:The Old Library\, RG14 5DH
CATEGORIES:Arts & Crafts,Children's Sessions,School Holidays & Half Term
ATTACH;FMTTYPE=image/webp:https://visitnewbury.org.uk/wp-content/uploads/2025/10/Create-and-Make-Oct-Corn-Exchange.webp
END:VEVENT
BEGIN:VEVENT
DTSTART;TZID=Europe/London:20260527T100000
DTEND;TZID=Europe/London:20260527T160000
DTSTAMP:20260420T123548
CREATED:20260415T141854Z
LAST-MODIFIED:20260415T141953Z
UID:12003834-1779876000-1779897600@visitnewbury.org.uk
SUMMARY:Create and Make May Half Term
DESCRIPTION:This May half term\, join the Corn Exchange in the Old Library for some arts and crafts\, drama – and much more! \nYour child will get to work with professional practitioners to explore the creative arts with fun activities\, develop new skills and make new friends. All materials are provided. \nSuitable for primary school children aged 9 – 12\, regular days run from 10am-4pm\, or you can book in for the extended hours from 8.30am-5.30pm. \nBook in via the link below.
URL:https://visitnewbury.org.uk/event/create-and-make-may-half-term/2026-05-27/
LOCATION:The Old Library\, RG14 5DH
CATEGORIES:Arts & Crafts,Children's Sessions,School Holidays & Half Term
ATTACH;FMTTYPE=image/webp:https://visitnewbury.org.uk/wp-content/uploads/2025/10/Create-and-Make-Oct-Corn-Exchange.webp
END:VEVENT
BEGIN:VEVENT
DTSTART;TZID=Europe/London:20260527T110000
DTEND;TZID=Europe/London:20260527T150000
DTSTAMP:20260420T123548
CREATED:20260415T090934Z
LAST-MODIFIED:20260415T090934Z
UID:12003791-1779879600-1779894000@visitnewbury.org.uk
SUMMARY:Take Flight
DESCRIPTION:Take Flight is a stunning aerial theatre show for children up to 2 year old and their grown ups. \nThe story follows a musical mother bird as their baby hatches\, grows and explores\, navigating the challenges of hunger\, sleep and play. Culminating in a beautiful aerial moment\, the mother bird supports her baby to leave the nest and take flight. \nThis multi-sensory\, interactive show ignites the imagination and curiosity of babies who are then invited into the space with the performers to explore the baby safe set and props\, including having a swing in the silks. \nThey worked with development psychologist Dr Valentina Sclafani from Lincoln University to ensure the content is positive for babies in terms of neurological & motor skills development and encourages a strong bond between babies and their grown ups. \nPerformances take place at 11am\, 1pm and 3pm and last around 30 minutes (no interval)\, followed by a 15 minute play session. \nLearn more or book your tickets via the link below.
URL:https://visitnewbury.org.uk/event/take-flight/
LOCATION:Corn Exchange Newbury\, Corn Exchange\, Market Place\, RG14 5BD
CATEGORIES:Children's Sessions,Theatre
ATTACH;FMTTYPE=image/webp:https://visitnewbury.org.uk/wp-content/uploads/2026/04/Take-Flight-Corn-Exchange.webp
END:VEVENT
BEGIN:VEVENT
DTSTART;TZID=Europe/London:20260528T093000
DTEND;TZID=Europe/London:20260528T093000
DTSTAMP:20260420T123548
CREATED:20260319T180511Z
LAST-MODIFIED:20260319T181016Z
UID:12003617-1779960600-1779960600@visitnewbury.org.uk
SUMMARY:Youth Theatre Taster Sessions
DESCRIPTION:Join Watermill Theatre for a free taster of what their weekly youth theatre sessions are like! \nInvolving games\, script work and devising exercises\, these will be a great example of the fun to be had and skills to be learned in their regular groups. \nSession schedule:\n9.30 – 10.30am: Reception to Year 2 (Ages 4-7)\n10.45am – 12pm: Year 3 – 6 (Ages 7-11)\n1.30 – 3pm: Year 7 – 9 (Ages 11-14) \nHead to the link below to learn more or book your space.
URL:https://visitnewbury.org.uk/event/youth-theatre-taster-sessions/
LOCATION:Watermill Theatre\, RG20 8AE
CATEGORIES:Children's Sessions,Theatre
ATTACH;FMTTYPE=image/png:https://visitnewbury.org.uk/wp-content/uploads/2026/03/Youth-Theatre-Taster-Sessions-Watermill-Theatre.png
END:VEVENT
BEGIN:VEVENT
DTSTART;TZID=Europe/London:20260528T100000
DTEND;TZID=Europe/London:20260528T160000
DTSTAMP:20260420T123548
CREATED:20260415T141854Z
LAST-MODIFIED:20260415T141953Z
UID:12003835-1779962400-1779984000@visitnewbury.org.uk
SUMMARY:Create and Make May Half Term
DESCRIPTION:This May half term\, join the Corn Exchange in the Old Library for some arts and crafts\, drama – and much more! \nYour child will get to work with professional practitioners to explore the creative arts with fun activities\, develop new skills and make new friends. All materials are provided. \nSuitable for primary school children aged 9 – 12\, regular days run from 10am-4pm\, or you can book in for the extended hours from 8.30am-5.30pm. \nBook in via the link below.
URL:https://visitnewbury.org.uk/event/create-and-make-may-half-term/2026-05-28/
LOCATION:The Old Library\, RG14 5DH
CATEGORIES:Arts & Crafts,Children's Sessions,School Holidays & Half Term
ATTACH;FMTTYPE=image/webp:https://visitnewbury.org.uk/wp-content/uploads/2025/10/Create-and-Make-Oct-Corn-Exchange.webp
END:VEVENT
BEGIN:VEVENT
DTSTART;TZID=Europe/London:20260529T100000
DTEND;TZID=Europe/London:20260529T160000
DTSTAMP:20260420T123548
CREATED:20260415T141854Z
LAST-MODIFIED:20260415T141953Z
UID:12003836-1780048800-1780070400@visitnewbury.org.uk
SUMMARY:Create and Make May Half Term
DESCRIPTION:This May half term\, join the Corn Exchange in the Old Library for some arts and crafts\, drama – and much more! \nYour child will get to work with professional practitioners to explore the creative arts with fun activities\, develop new skills and make new friends. All materials are provided. \nSuitable for primary school children aged 9 – 12\, regular days run from 10am-4pm\, or you can book in for the extended hours from 8.30am-5.30pm. \nBook in via the link below.
URL:https://visitnewbury.org.uk/event/create-and-make-may-half-term/2026-05-29/
LOCATION:The Old Library\, RG14 5DH
CATEGORIES:Arts & Crafts,Children's Sessions,School Holidays & Half Term
ATTACH;FMTTYPE=image/webp:https://visitnewbury.org.uk/wp-content/uploads/2025/10/Create-and-Make-Oct-Corn-Exchange.webp
END:VEVENT
BEGIN:VEVENT
DTSTART;TZID=Europe/London:20260529T140000
DTEND;TZID=Europe/London:20260529T140000
DTSTAMP:20260420T123548
CREATED:20260415T093311Z
LAST-MODIFIED:20260415T093311Z
UID:12003792-1780063200-1780063200@visitnewbury.org.uk
SUMMARY:Sir Charlie Stinky Socks and the Really Big Adventure
DESCRIPTION:Step into the world of Sir Charlie Stinky Socks\, where nothing is quite what it seems and a really big adventure is about to begin. \nSir Charlie is bold\, brave and brilliantly clever. He loves daring quests filled with wily witches\, terrible beasties and fire-breathing dragons. And yes\, he has a cat called Envelope! But who is this pint-sized hero and where did his story come from? \nFind out in this fully interactive\, inventive\, and fast-paced family show that brings Sir Charlie’s tale to life while revealing the story behind it. Celebrating the power of children’s imagination and the importance of play\, young audiences are invited to become storytellers themselves\, helping a troupe of travelling players build a wild adventure. Together\, they turn the ordinary into the extraordinary\, transform the stage\, and journey into mystical realms. \nBased on the best-selling picture book by Kristina Stephenson\, and created to mark the 20th anniversary of this much-loved\, modern-day classic\, the show features live music\, glorious puppets\, interactive storytelling\, magical props and more laughs than you can waft away with a stinky sock. \nThere is also a pre-show workshop. Learn more or book your tickets via the link below.
URL:https://visitnewbury.org.uk/event/sir-charlie-stinky-socks-and-the-really-big-adventure/
LOCATION:Corn Exchange Newbury\, Corn Exchange\, Market Place\, RG14 5BD
CATEGORIES:Children's Sessions,Theatre
ATTACH;FMTTYPE=image/webp:https://visitnewbury.org.uk/wp-content/uploads/2026/04/Sir-Charlie-Stinky-Socks-Corn-Exchange.webp
END:VEVENT
BEGIN:VEVENT
DTSTART;TZID=Europe/London:20260531T133000
DTEND;TZID=Europe/London:20260531T133000
DTSTAMP:20260420T123548
CREATED:20260415T095524Z
LAST-MODIFIED:20260415T095840Z
UID:12003793-1780234200-1780234200@visitnewbury.org.uk
SUMMARY:Dino Tales: Jurassic Rescue
DESCRIPTION:Calling all dinosaur rangers – Jurassic Rescue needs your help! \nThere’s a baby Ankylosaurus that needs rescuing before The Doc gets his evil hands on it… Along the adventure you’ll meet Freya the dancing Raptor\, Dylan the cheeky Dilophosaurus\, Angie the Ankylosaurus\, Scar the fearsome and Roxy the mighty T-Rex. \nWith a captivating story and an entire herd of pre-historic beasts\, Dino Tales is an unforgettable family adventure starring Europe’s largest walking dinosaurs to ever roam the stage. You and the kids will be jumping for Jurassic joy\, so get ready for the ultimate Jurassic rescue adventure. \nThere is also a Pre-Show Workshop. Learn more or book your tickets via the link below.
URL:https://visitnewbury.org.uk/event/dino-tales-jurassic-rescue/
LOCATION:Corn Exchange Newbury\, Corn Exchange\, Market Place\, RG14 5BD
CATEGORIES:Children's Sessions,Theatre
ATTACH;FMTTYPE=image/webp:https://visitnewbury.org.uk/wp-content/uploads/2026/04/Dino-Tales-Corn-Exchange.webp
END:VEVENT
END:VCALENDAR