BEGIN:VCALENDAR
VERSION:2.0
PRODID:-//Visit Newbury - ECPv6.13.2.1//NONSGML v1.0//EN
CALSCALE:GREGORIAN
METHOD:PUBLISH
X-ORIGINAL-URL:https://visitnewbury.org.uk
X-WR-CALDESC:Events for Visit Newbury
REFRESH-INTERVAL;VALUE=DURATION:PT1H
X-Robots-Tag:noindex
X-PUBLISHED-TTL:PT1H
BEGIN:VTIMEZONE
TZID:Europe/London
BEGIN:DAYLIGHT
TZOFFSETFROM:+0000
TZOFFSETTO:+0100
TZNAME:BST
DTSTART:20250330T010000
END:DAYLIGHT
BEGIN:STANDARD
TZOFFSETFROM:+0100
TZOFFSETTO:+0000
TZNAME:GMT
DTSTART:20251026T010000
END:STANDARD
END:VTIMEZONE
BEGIN:VEVENT
DTSTART;TZID=Europe/London:20250227T103000
DTEND;TZID=Europe/London:20250227T153000
DTSTAMP:20260420T142145
CREATED:20250213T150432Z
LAST-MODIFIED:20250213T150432Z
UID:11000299-1740652200-1740670200@visitnewbury.org.uk
SUMMARY:SGB Valuation Day
DESCRIPTION:Stanley Gibbons Baldwin’s are hosting a free valuation day in Newbury on the 27th of February. \nUnlock the value of your Coins\, Stamps\, Medals and Militaria\, Trading Cards\, Gold and Silver\, including Jewellery. \nTheir knowledgeable experts offer honest\, reliable guidance on the value of your collectibles for free. If you choose to sell\, they can also guide you through the process! \nTo book a FREE appointment please email valuationday@sgbaldwins.com or call 01425 472 363.
URL:https://visitnewbury.org.uk/event/sgb-valuation-day/
LOCATION:The Chequers Hotel\, The Chequers Hotel\, RG14 1JB
CATEGORIES:Valuation Events
ATTACH;FMTTYPE=image/jpeg:https://visitnewbury.org.uk/wp-content/uploads/2025/02/Stanley-Gibbons-Baldwins-at-Chequers-Hotel.jpg
END:VEVENT
END:VCALENDAR