BEGIN:VCALENDAR
VERSION:2.0
PRODID:-//Visit Newbury - ECPv6.13.2.1//NONSGML v1.0//EN
CALSCALE:GREGORIAN
METHOD:PUBLISH
X-ORIGINAL-URL:https://visitnewbury.org.uk
X-WR-CALDESC:Events for Visit Newbury
REFRESH-INTERVAL;VALUE=DURATION:PT1H
X-Robots-Tag:noindex
X-PUBLISHED-TTL:PT1H
BEGIN:VTIMEZONE
TZID:Europe/London
BEGIN:DAYLIGHT
TZOFFSETFROM:+0000
TZOFFSETTO:+0100
TZNAME:BST
DTSTART:20260329T010000
END:DAYLIGHT
BEGIN:STANDARD
TZOFFSETFROM:+0100
TZOFFSETTO:+0000
TZNAME:GMT
DTSTART:20261025T010000
END:STANDARD
END:VTIMEZONE
BEGIN:VEVENT
DTSTART;TZID=Europe/London:20260304T193000
DTEND;TZID=Europe/London:20260304T193000
DTSTAMP:20260422T182250
CREATED:20260123T122654Z
LAST-MODIFIED:20260123T155454Z
UID:12003200-1772652600-1772652600@visitnewbury.org.uk
SUMMARY:1984
DESCRIPTION:Award-winning Box Tale Soup present a stunning new adaptation of Orwell’s dystopian classic. \nKnown for their ingenious sets and slick storytelling\, Box Tale Soup’s unique puppetry becomes a striking metaphor for Orwell’s chilling vision of power and control. \nThe year is 1984\, perhaps – it is impossible to tell for certain. We are being watched\, Big Brother is everywhere\, truth changes daily\, and everyone conforms. But for Winston Smith\, an insignificant cog in the Party’s vast machine\, this half-life is not enough. He dreams of freedom\, but is he the only one? Dreams can be deadly when rebellion begins with a thought. \nFeaturing the voices of Sophie Aldred and Joanna Lumley\, with Simon Russell Beale as the voice of Big Brother.
URL:https://visitnewbury.org.uk/event/1984/
LOCATION:Corn Exchange Newbury\, Corn Exchange\, Market Place\, RG14 5BD
CATEGORIES:Theatre
ATTACH;FMTTYPE=image/webp:https://visitnewbury.org.uk/wp-content/uploads/2026/01/1984-Corn-Exchange.webp
END:VEVENT
BEGIN:VEVENT
DTSTART;TZID=Europe/London:20260305T193000
DTEND;TZID=Europe/London:20260305T193000
DTSTAMP:20260422T182250
CREATED:20260123T122708Z
LAST-MODIFIED:20260123T155641Z
UID:12003201-1772739000-1772739000@visitnewbury.org.uk
SUMMARY:An Evening of Burlesque
DESCRIPTION:Roll up\, roll up… the UK’s longest running burlesque show returns! \nThis ultimate variety show blends stylish cabaret\, comedy\, music\, and burlesque into a spectacular extravaganza of glitz and glamour. Featuring dazzling showgirls\, speciality cabaret artists\, and stars of the stage and screen\, this is a night of sophistication and stunning performances. \nGet ready for fun\, feathers\, and fabulous costumes as we showcase the finest selection of speciality artistes\, comedians\, and champagne showgirls. With its blend of cabaret charm and burlesque allure\, this sensational show promises a uniquely seductive experience that redefines variety for the 21st century. \nExpect the unexpected with plenty of glitter\, glamour\, and unforgettable moments. It’s cocktails and cabaret o’clock – a night to remember awaits!
URL:https://visitnewbury.org.uk/event/an-evening-of-burlesque/
LOCATION:Corn Exchange Newbury\, Corn Exchange\, Market Place\, RG14 5BD
CATEGORIES:Theatre
ATTACH;FMTTYPE=image/webp:https://visitnewbury.org.uk/wp-content/uploads/2026/01/An-Evening-of-Burlesque.webp
END:VEVENT
BEGIN:VEVENT
DTSTART;TZID=Europe/London:20260307T193000
DTEND;TZID=Europe/London:20260307T193000
DTSTAMP:20260422T182250
CREATED:20260123T122708Z
LAST-MODIFIED:20260123T155900Z
UID:12003202-1772911800-1772911800@visitnewbury.org.uk
SUMMARY:Pete Firman: Tricks & Giggles
DESCRIPTION:With over 4.5 million social media followers and countless TV appearances under his belt\, Pete Firman is the UK’s top comic magician. \nJoin him for an evening of Tricks & Giggles\, as Pete brings his trademark blend of magic and comedy from the small screen to stages around the UK with this brand-new show. Expect impossible feats\, sleight of hand and big laughs from one of magic’s most exciting performers! \nAs seen on Amazon’s Good Omens\, ITV1’s Tonight at the London Palladium and The Next Great Magician\, BBC1’s The John Bishop Show and The Sarah Millican Television Programme. He’s probably also popped up on your social media feeds with his mind-boggling and regularly viral magic videos.
URL:https://visitnewbury.org.uk/event/pete-firman-tricks-and-giggles/
LOCATION:Corn Exchange Newbury\, Corn Exchange\, Market Place\, RG14 5BD
CATEGORIES:Comedy,Theatre
ATTACH;FMTTYPE=image/webp:https://visitnewbury.org.uk/wp-content/uploads/2026/01/Pete-Firman-Corn-Exchange.webp
END:VEVENT
BEGIN:VEVENT
DTSTART;TZID=Europe/London:20260311T193000
DTEND;TZID=Europe/London:20260311T193000
DTSTAMP:20260422T182250
CREATED:20260123T122708Z
LAST-MODIFIED:20260123T160201Z
UID:12003203-1773257400-1773257400@visitnewbury.org.uk
SUMMARY:Collaborator
DESCRIPTION:Ockham’s Razor return with an intimate duet crafted and performed by the two Artistic Directors. \nFor 20 years\, Alex and Charlotte have been making circus together. Lifting\, catching and carrying; stepping on and around each other. They have been dropped. They have picked each other up. \nFeaturing two performers\, a suspended frame and a stage: this is a show about creation and compromise. An irreverent\, highly physical and heartfelt dive into navigating a relationship and the negotiation involved in making stuff. \nFor anyone who has ever tried to make something with someone else: a decision\, a work of art\, a life.
URL:https://visitnewbury.org.uk/event/collaborator/
LOCATION:Corn Exchange Newbury\, Corn Exchange\, Market Place\, RG14 5BD
CATEGORIES:Theatre
ATTACH;FMTTYPE=image/webp:https://visitnewbury.org.uk/wp-content/uploads/2026/01/Collaborator-Corn-Exchange.webp
END:VEVENT
BEGIN:VEVENT
DTSTART;TZID=Europe/London:20260313T133000
DTEND;TZID=Europe/London:20260313T133000
DTSTAMP:20260422T182250
CREATED:20260123T122709Z
LAST-MODIFIED:20260123T134139Z
UID:12003232-1773408600-1773408600@visitnewbury.org.uk
SUMMARY:The Gruffalo's Child
DESCRIPTION:The Gruffalo said that no Gruffalo should ever set foot in the deep dark wood…\nFollow the Gruffalo’s Child on her adventurous mission in Tall Stories’ enchanting adaptation of the much-loved picture book by Julia Donaldson and Axel Scheffler. \nOne wild and windy night\, the Gruffalo’s Child ignores her father’s warnings about the Big Bad Mouse and tiptoes out into the deep dark wood. She follows snowy tracks and encounters mysterious creatures – but the Big Bad Mouse doesn’t really exist… does he? \nLet your imagination run wild with songs\, laughs and scary fun for everyone aged 3 to 103. \nHead along before the show and take part in the theatre’s fun pre-show workshop where you can make your own Gruffalo puppet to take home with you\, find out more here. \n  \nSpecial performances: \n\nFriday 13 March\, 1.30pm: British Sign Language interpreted performance\nThis show ensures that anyone who uses British Sign Language can fully immerse themselves in the story\, following a skilled BSL interpreter.\n\n\nSunday 15 March\, 11am: Relaxed performance\nDesigned for anyone who may benefit from a relaxed theatre setting with adjusted sound and lighting levels\, a reduced capacity allowing the freedom to move\, make noise\, or come and go as needed.
URL:https://visitnewbury.org.uk/event/the-gruffalos-child/2026-03-13/
LOCATION:Corn Exchange Newbury\, Corn Exchange\, Market Place\, RG14 5BD
CATEGORIES:Theatre
ATTACH;FMTTYPE=image/webp:https://visitnewbury.org.uk/wp-content/uploads/2026/01/The-Gruffalos-Child-Corn-Exchange.webp
END:VEVENT
BEGIN:VEVENT
DTSTART;TZID=Europe/London:20260314T110000
DTEND;TZID=Europe/London:20260314T120000
DTSTAMP:20260422T182250
CREATED:20260123T122709Z
LAST-MODIFIED:20260123T134139Z
UID:12003233-1773486000-1773489600@visitnewbury.org.uk
SUMMARY:The Gruffalo's Child
DESCRIPTION:The Gruffalo said that no Gruffalo should ever set foot in the deep dark wood…\nFollow the Gruffalo’s Child on her adventurous mission in Tall Stories’ enchanting adaptation of the much-loved picture book by Julia Donaldson and Axel Scheffler. \nOne wild and windy night\, the Gruffalo’s Child ignores her father’s warnings about the Big Bad Mouse and tiptoes out into the deep dark wood. She follows snowy tracks and encounters mysterious creatures – but the Big Bad Mouse doesn’t really exist… does he? \nLet your imagination run wild with songs\, laughs and scary fun for everyone aged 3 to 103. \nHead along before the show and take part in the theatre’s fun pre-show workshop where you can make your own Gruffalo puppet to take home with you\, find out more here. \n  \nSpecial performances: \n\nFriday 13 March\, 1.30pm: British Sign Language interpreted performance\nThis show ensures that anyone who uses British Sign Language can fully immerse themselves in the story\, following a skilled BSL interpreter.\n\n\nSunday 15 March\, 11am: Relaxed performance\nDesigned for anyone who may benefit from a relaxed theatre setting with adjusted sound and lighting levels\, a reduced capacity allowing the freedom to move\, make noise\, or come and go as needed.
URL:https://visitnewbury.org.uk/event/the-gruffalos-child/2026-03-14/1/
LOCATION:Corn Exchange Newbury\, Corn Exchange\, Market Place\, RG14 5BD
CATEGORIES:Theatre
ATTACH;FMTTYPE=image/webp:https://visitnewbury.org.uk/wp-content/uploads/2026/01/The-Gruffalos-Child-Corn-Exchange.webp
END:VEVENT
BEGIN:VEVENT
DTSTART;TZID=Europe/London:20260314T140000
DTEND;TZID=Europe/London:20260314T150000
DTSTAMP:20260422T182250
CREATED:20260123T122709Z
LAST-MODIFIED:20260123T134139Z
UID:12003234-1773496800-1773500400@visitnewbury.org.uk
SUMMARY:The Gruffalo's Child
DESCRIPTION:The Gruffalo said that no Gruffalo should ever set foot in the deep dark wood…\nFollow the Gruffalo’s Child on her adventurous mission in Tall Stories’ enchanting adaptation of the much-loved picture book by Julia Donaldson and Axel Scheffler. \nOne wild and windy night\, the Gruffalo’s Child ignores her father’s warnings about the Big Bad Mouse and tiptoes out into the deep dark wood. She follows snowy tracks and encounters mysterious creatures – but the Big Bad Mouse doesn’t really exist… does he? \nLet your imagination run wild with songs\, laughs and scary fun for everyone aged 3 to 103. \nHead along before the show and take part in the theatre’s fun pre-show workshop where you can make your own Gruffalo puppet to take home with you\, find out more here. \n  \nSpecial performances: \n\nFriday 13 March\, 1.30pm: British Sign Language interpreted performance\nThis show ensures that anyone who uses British Sign Language can fully immerse themselves in the story\, following a skilled BSL interpreter.\n\n\nSunday 15 March\, 11am: Relaxed performance\nDesigned for anyone who may benefit from a relaxed theatre setting with adjusted sound and lighting levels\, a reduced capacity allowing the freedom to move\, make noise\, or come and go as needed.
URL:https://visitnewbury.org.uk/event/the-gruffalos-child/2026-03-14/2/
LOCATION:Corn Exchange Newbury\, Corn Exchange\, Market Place\, RG14 5BD
CATEGORIES:Theatre
ATTACH;FMTTYPE=image/webp:https://visitnewbury.org.uk/wp-content/uploads/2026/01/The-Gruffalos-Child-Corn-Exchange.webp
END:VEVENT
BEGIN:VEVENT
DTSTART;TZID=Europe/London:20260315T110000
DTEND;TZID=Europe/London:20260315T120000
DTSTAMP:20260422T182250
CREATED:20260123T122709Z
LAST-MODIFIED:20260123T134139Z
UID:12003235-1773572400-1773576000@visitnewbury.org.uk
SUMMARY:The Gruffalo's Child
DESCRIPTION:The Gruffalo said that no Gruffalo should ever set foot in the deep dark wood…\nFollow the Gruffalo’s Child on her adventurous mission in Tall Stories’ enchanting adaptation of the much-loved picture book by Julia Donaldson and Axel Scheffler. \nOne wild and windy night\, the Gruffalo’s Child ignores her father’s warnings about the Big Bad Mouse and tiptoes out into the deep dark wood. She follows snowy tracks and encounters mysterious creatures – but the Big Bad Mouse doesn’t really exist… does he? \nLet your imagination run wild with songs\, laughs and scary fun for everyone aged 3 to 103. \nHead along before the show and take part in the theatre’s fun pre-show workshop where you can make your own Gruffalo puppet to take home with you\, find out more here. \n  \nSpecial performances: \n\nFriday 13 March\, 1.30pm: British Sign Language interpreted performance\nThis show ensures that anyone who uses British Sign Language can fully immerse themselves in the story\, following a skilled BSL interpreter.\n\n\nSunday 15 March\, 11am: Relaxed performance\nDesigned for anyone who may benefit from a relaxed theatre setting with adjusted sound and lighting levels\, a reduced capacity allowing the freedom to move\, make noise\, or come and go as needed.
URL:https://visitnewbury.org.uk/event/the-gruffalos-child/2026-03-15/1/
LOCATION:Corn Exchange Newbury\, Corn Exchange\, Market Place\, RG14 5BD
CATEGORIES:Theatre
ATTACH;FMTTYPE=image/webp:https://visitnewbury.org.uk/wp-content/uploads/2026/01/The-Gruffalos-Child-Corn-Exchange.webp
END:VEVENT
BEGIN:VEVENT
DTSTART;TZID=Europe/London:20260315T140000
DTEND;TZID=Europe/London:20260315T150000
DTSTAMP:20260422T182250
CREATED:20260123T122709Z
LAST-MODIFIED:20260123T134139Z
UID:12003236-1773583200-1773586800@visitnewbury.org.uk
SUMMARY:The Gruffalo's Child
DESCRIPTION:The Gruffalo said that no Gruffalo should ever set foot in the deep dark wood…\nFollow the Gruffalo’s Child on her adventurous mission in Tall Stories’ enchanting adaptation of the much-loved picture book by Julia Donaldson and Axel Scheffler. \nOne wild and windy night\, the Gruffalo’s Child ignores her father’s warnings about the Big Bad Mouse and tiptoes out into the deep dark wood. She follows snowy tracks and encounters mysterious creatures – but the Big Bad Mouse doesn’t really exist… does he? \nLet your imagination run wild with songs\, laughs and scary fun for everyone aged 3 to 103. \nHead along before the show and take part in the theatre’s fun pre-show workshop where you can make your own Gruffalo puppet to take home with you\, find out more here. \n  \nSpecial performances: \n\nFriday 13 March\, 1.30pm: British Sign Language interpreted performance\nThis show ensures that anyone who uses British Sign Language can fully immerse themselves in the story\, following a skilled BSL interpreter.\n\n\nSunday 15 March\, 11am: Relaxed performance\nDesigned for anyone who may benefit from a relaxed theatre setting with adjusted sound and lighting levels\, a reduced capacity allowing the freedom to move\, make noise\, or come and go as needed.
URL:https://visitnewbury.org.uk/event/the-gruffalos-child/2026-03-15/2/
LOCATION:Corn Exchange Newbury\, Corn Exchange\, Market Place\, RG14 5BD
CATEGORIES:Theatre
ATTACH;FMTTYPE=image/webp:https://visitnewbury.org.uk/wp-content/uploads/2026/01/The-Gruffalos-Child-Corn-Exchange.webp
END:VEVENT
BEGIN:VEVENT
DTSTART;TZID=Europe/London:20260326T193000
DTEND;TZID=Europe/London:20260326T193000
DTSTAMP:20260422T182250
CREATED:20260123T122739Z
LAST-MODIFIED:20260123T160806Z
UID:12003213-1774553400-1774553400@visitnewbury.org.uk
SUMMARY:Parody of the Rings: A Hilarious and Epic Adventure!
DESCRIPTION:What happens when a cinema’s Lord of the Rings marathon goes terribly wrong? \nAt the local cinema\, all hell breaks loose when the ushers misplace the DVDs of The Lord of the Rings trilogy – every single copy! With only the soundtracks left in hand\, the team of hapless ushers must somehow improvise an entire three-film saga in front of a live audience. Get ready for an uproarious evening of comedy\, chaos\, and utter nonsense\, as they attempt to recreate the epic tale of hobbits\, elves\, and orcs – without any visuals\, any planning\, or any clue what they’re doing. \nWill Frodo ever make it to Mordor? Will Aragorn get crowned king? Will Gollum stop stealing the show? Will anyone even remember who’s supposed to be who?! \nIt’s a show that’s more fun than a barrel of hobbits\, and definitely more chaotic than a Gandalf speech. If you’ve ever wanted to see Gollum fight a battle with sound effects\, or Gandalf desperately trying to remember what happens next\, then you’re in for a hilarious treat!
URL:https://visitnewbury.org.uk/event/parody-of-the-rings-a-hilarious-and-epic-adventure/
LOCATION:Corn Exchange Newbury\, Corn Exchange\, Market Place\, RG14 5BD
CATEGORIES:Theatre
ATTACH;FMTTYPE=image/webp:https://visitnewbury.org.uk/wp-content/uploads/2026/01/Parody-of-the-Rings-Corn-Exchange.webp
END:VEVENT
BEGIN:VEVENT
DTSTART;TZID=Europe/London:20260327T193000
DTEND;TZID=Europe/London:20260327T193000
DTSTAMP:20260422T182250
CREATED:20260123T122739Z
LAST-MODIFIED:20260123T161000Z
UID:12003212-1774639800-1774639800@visitnewbury.org.uk
SUMMARY:Susie Dent: Word Perfect
DESCRIPTION:A brand-new tour of the joys of the English language with Britain’s best-loved wordsmith. \nFollowing on from her hit show The Secret Life of Words\, Susie Dent is back with a brand-new collection of facts and stories from the wonderful world of words. \nHave you ever wondered whether there’s a word for going to the fridge for the umpteenth time in search of something new? Or puzzled over the reason why a group of crows is called a ‘murder’\, while owls form a ‘parliament’? Is teen slang actually designed to make us tear our hair out? And just how many words do we need for being drunk? \nWith the help of funny\, insightful\, and head-scratching examples\, Susie will entertain and educate us with her pick of language’s greatest hits. Word Perfect will remind us just how unpredictable\, wayward\, and utterly magical the English language can be.
URL:https://visitnewbury.org.uk/event/susie-dent-word-perfect/
LOCATION:Corn Exchange Newbury\, Corn Exchange\, Market Place\, RG14 5BD
CATEGORIES:Author Events,Theatre
ATTACH;FMTTYPE=image/webp:https://visitnewbury.org.uk/wp-content/uploads/2026/01/Susie-Dent-Corn-Exchange.webp
END:VEVENT
BEGIN:VEVENT
DTSTART;TZID=Europe/London:20260327T193000
DTEND;TZID=Europe/London:20260509T193000
DTSTAMP:20260422T182250
CREATED:20260319T180359Z
LAST-MODIFIED:20260319T181001Z
UID:12003614-1774639800-1778355000@visitnewbury.org.uk
SUMMARY:Victoria: A Queen Unbound
DESCRIPTION:“Diaries survive while feelings slip away. They are the skeleton on which posterity puts flesh.” \nOsborne House 1901. As Victoria faces the final days of her reign\, she clings to her diaries\, the carefully kept record of a life defined by love\, duty and profound loss. Into this certainty comes her younger self\, forcing the older Victoria to confront memories she’s chosen to bury and truths she’s decided to forget. \nVictoria and Albert are celebrated as one of history’s great love stories. Victoria had nine children with Albert\, and after his premature death at 42\, she spent the rest of her life mourning her ‘dearest angel’. At least that is the story told in her diaries. But does writing something make it true? Looking back at a young queen\, this new play tells the story of a woman pregnant for most of her 20s and 30s\, gradually surrendering her strength and authority to her controlling husband\, and growing increasingly lonely in her crumbling marriage. \nA world premiere\, from Daisy Goodwin\, the creator of the novel and ITV drama\, Victoria\, this new play offers a fresh perspective on one of history’s greatest monarchs. \nYou can find all performance times and book your tickets via the link below.
URL:https://visitnewbury.org.uk/event/victoria-a-queen-unbound/
LOCATION:Watermill Theatre\, RG20 8AE
CATEGORIES:Theatre
ATTACH;FMTTYPE=image/jpeg:https://visitnewbury.org.uk/wp-content/uploads/2026/03/Victoria-A-Queen-Unbound-Watermill-Theatre.jpg
END:VEVENT
BEGIN:VEVENT
DTSTART;TZID=Europe/London:20260328T133000
DTEND;TZID=Europe/London:20260328T160000
DTSTAMP:20260422T182250
CREATED:20260123T122739Z
LAST-MODIFIED:20260123T161847Z
UID:12003214-1774704600-1774713600@visitnewbury.org.uk
SUMMARY:The Dinosaur that Pooped: A Rock Show
DESCRIPTION:Adapted from the number 1 best-selling book by Tom Fletcher and Dougie Poynter from McFly\, the whole family will have a poopy good time enjoying a brand-new story for the stage. \nThis Easter holidays\, when Danny and Dino’s favourite rock band are playing their last ever concert\, they go on a quest to get the last two tickets. But with a villainous band manager lurking\, nothing goes to plan. Will the band perform? Will Danny rock out? Or will Dino’s rumbling tummy save the day? \nFeaturing new songs by Tom and Dougie\, a lot of laughs and a whole lot of poo! \nThere are performances at 1.30pm and 4pm. Head to the link below to learn more or book your tickets.
URL:https://visitnewbury.org.uk/event/the-dinosaur-that-pooped-a-rock-show/
LOCATION:Corn Exchange Newbury\, Corn Exchange\, Market Place\, RG14 5BD
CATEGORIES:Theatre
ATTACH;FMTTYPE=image/webp:https://visitnewbury.org.uk/wp-content/uploads/2026/01/The-Dinosaur-That-Pooped-Corn-Exchange-1.webp
END:VEVENT
BEGIN:VEVENT
DTSTART;TZID=Europe/London:20260331T113000
DTEND;TZID=Europe/London:20260331T160000
DTSTAMP:20260422T182250
CREATED:20260123T122814Z
LAST-MODIFIED:20260330T100149Z
UID:12003217-1774956600-1774972800@visitnewbury.org.uk
SUMMARY:The Utterly Revolting Science Show
DESCRIPTION:The spectacular\, hilarious and highly explosive science stunt show. \nBrace yourselves for the Rude Science team’s hilarious and high-tech\, journey through the human body\, packed with burp biology\, fart physics and revolting edible chemistry. Expect enormous bottoms\, burp machines\, edible fireworks\, ridiculous games and the world’s loudest fart in this riotous science spectacular. \nOn the surface\, it’s a rollercoaster of disgusting experiments built to delight young audiences\, but under the bonnet it’s a brilliantly constructed curriculum-driven adventure designed to inspire Britain’s kids with a lasting fascination for science. \nJoin the theatre for a pre-show workshop and create your own slime dough\, adding colour to make it look really disgusting! \nThere are shows at 11.30am and 4pm\, each lasting one hour (with no interval). Click the link below to learn more.
URL:https://visitnewbury.org.uk/event/the-utterly-revolting-science-show/
LOCATION:Corn Exchange Newbury\, Corn Exchange\, Market Place\, RG14 5BD
CATEGORIES:Children's Sessions,School Holidays & Half Term,Theatre
ATTACH;FMTTYPE=image/webp:https://visitnewbury.org.uk/wp-content/uploads/2026/01/The-Utterly-Revolting-Science-Show-Corn-Exchange.webp
END:VEVENT
END:VCALENDAR