BEGIN:VCALENDAR
VERSION:2.0
PRODID:-//Visit Newbury - ECPv6.13.2.1//NONSGML v1.0//EN
CALSCALE:GREGORIAN
METHOD:PUBLISH
X-ORIGINAL-URL:https://visitnewbury.org.uk
X-WR-CALDESC:Events for Visit Newbury
REFRESH-INTERVAL;VALUE=DURATION:PT1H
X-Robots-Tag:noindex
X-PUBLISHED-TTL:PT1H
BEGIN:VTIMEZONE
TZID:Europe/London
BEGIN:DAYLIGHT
TZOFFSETFROM:+0000
TZOFFSETTO:+0100
TZNAME:BST
DTSTART:20250330T010000
END:DAYLIGHT
BEGIN:STANDARD
TZOFFSETFROM:+0100
TZOFFSETTO:+0000
TZNAME:GMT
DTSTART:20251026T010000
END:STANDARD
BEGIN:DAYLIGHT
TZOFFSETFROM:+0000
TZOFFSETTO:+0100
TZNAME:BST
DTSTART:20260329T010000
END:DAYLIGHT
BEGIN:STANDARD
TZOFFSETFROM:+0100
TZOFFSETTO:+0000
TZNAME:GMT
DTSTART:20261025T010000
END:STANDARD
END:VTIMEZONE
BEGIN:VEVENT
DTSTART;TZID=Europe/London:20251213T100000
DTEND;TZID=Europe/London:20251213T130000
DTSTAMP:20260421T175817
CREATED:20250613T132353Z
LAST-MODIFIED:20250613T132353Z
UID:12002095-1765620000-1765630800@visitnewbury.org.uk
SUMMARY:Board Games Meetup
DESCRIPTION:Newbury Library hosts a Board Games Meetup on the second and fourth Saturday each month\, 10am-1pm. \nEveryone is welcome to come along to these free drop in sessions\, with plenty of games to choose from – suitable for all ages.
URL:https://visitnewbury.org.uk/event/board-games-meetup/2025-12-13/
LOCATION:Newbury Library\, Newbury Library\, The Wharf\, RG14 5AU
CATEGORIES:Gaming,Library Events
ATTACH;FMTTYPE=image/jpeg:https://visitnewbury.org.uk/wp-content/uploads/2025/06/Board-Games-Meetup-Newbury-Library.jpg
END:VEVENT
BEGIN:VEVENT
DTSTART;TZID=Europe/London:20260112T100000
DTEND;TZID=Europe/London:20260112T114500
DTSTAMP:20260421T175817
CREATED:20260106T141337Z
LAST-MODIFIED:20260106T141337Z
UID:12003110-1768212000-1768218300@visitnewbury.org.uk
SUMMARY:Music For All
DESCRIPTION:Discover the joy of music with Berkshire Music Trust\, who are hosting free music sessions at Newbury Library. \n\nChildren’s sessions run from 10am – 10:45am\nAdult sessions run from 11am – 11:45am\n\nWhether you want to sing along or simply enjoy the atmosphere\, there’s something for everyone – no experience needed. \nEnjoy a mix of old favourites and sing-along songs. These sessions provide a fantastic opportunity to engage with live music and connect with others. \nLearn more via the West Berkshire Libraries website using the link below
URL:https://visitnewbury.org.uk/event/music-for-all/2026-01-12/
LOCATION:Newbury Library\, Newbury Library\, The Wharf\, RG14 5AU
CATEGORIES:Children's Sessions,Health & Wellbeing,Library Events,Music
ATTACH;FMTTYPE=image/jpeg:https://visitnewbury.org.uk/wp-content/uploads/2026/01/Music-For-All-Newbury-Library.jpg
END:VEVENT
BEGIN:VEVENT
DTSTART;TZID=Europe/London:20260119T100000
DTEND;TZID=Europe/London:20260119T114500
DTSTAMP:20260421T175817
CREATED:20260106T141337Z
LAST-MODIFIED:20260106T141337Z
UID:12003111-1768816800-1768823100@visitnewbury.org.uk
SUMMARY:Music For All
DESCRIPTION:Discover the joy of music with Berkshire Music Trust\, who are hosting free music sessions at Newbury Library. \n\nChildren’s sessions run from 10am – 10:45am\nAdult sessions run from 11am – 11:45am\n\nWhether you want to sing along or simply enjoy the atmosphere\, there’s something for everyone – no experience needed. \nEnjoy a mix of old favourites and sing-along songs. These sessions provide a fantastic opportunity to engage with live music and connect with others. \nLearn more via the West Berkshire Libraries website using the link below
URL:https://visitnewbury.org.uk/event/music-for-all/2026-01-19/
LOCATION:Newbury Library\, Newbury Library\, The Wharf\, RG14 5AU
CATEGORIES:Children's Sessions,Health & Wellbeing,Library Events,Music
ATTACH;FMTTYPE=image/jpeg:https://visitnewbury.org.uk/wp-content/uploads/2026/01/Music-For-All-Newbury-Library.jpg
END:VEVENT
BEGIN:VEVENT
DTSTART;TZID=Europe/London:20260123T130000
DTEND;TZID=Europe/London:20260123T140000
DTSTAMP:20260421T175817
CREATED:20260106T144703Z
LAST-MODIFIED:20260106T144703Z
UID:12003123-1769173200-1769176800@visitnewbury.org.uk
SUMMARY:Author Chat with Judith Heneghan
DESCRIPTION:Join West Berkshire Libraries for an inspiring talk with novelist Judith Heneghan. She’ll share how real-life experiences shape her fiction\, discuss setting and suspense\, and talk about the novel-writing process. \nThe event includes an audience Q&A and a chance to buy signed copies of her books\, Birdeye and Snegurochka. \nTickets cost £5.
URL:https://visitnewbury.org.uk/event/author-chat-with-judith-heneghan/
LOCATION:Newbury Library\, Newbury Library\, The Wharf\, RG14 5AU
CATEGORIES:Author Events,Library Events
ATTACH;FMTTYPE=image/jpeg:https://visitnewbury.org.uk/wp-content/uploads/2026/01/Author-Chat-with-Judith-Heneghan.jpg
END:VEVENT
BEGIN:VEVENT
DTSTART;TZID=Europe/London:20260126T100000
DTEND;TZID=Europe/London:20260126T114500
DTSTAMP:20260421T175817
CREATED:20260106T141337Z
LAST-MODIFIED:20260106T141337Z
UID:12003112-1769421600-1769427900@visitnewbury.org.uk
SUMMARY:Music For All
DESCRIPTION:Discover the joy of music with Berkshire Music Trust\, who are hosting free music sessions at Newbury Library. \n\nChildren’s sessions run from 10am – 10:45am\nAdult sessions run from 11am – 11:45am\n\nWhether you want to sing along or simply enjoy the atmosphere\, there’s something for everyone – no experience needed. \nEnjoy a mix of old favourites and sing-along songs. These sessions provide a fantastic opportunity to engage with live music and connect with others. \nLearn more via the West Berkshire Libraries website using the link below
URL:https://visitnewbury.org.uk/event/music-for-all/2026-01-26/
LOCATION:Newbury Library\, Newbury Library\, The Wharf\, RG14 5AU
CATEGORIES:Children's Sessions,Health & Wellbeing,Library Events,Music
ATTACH;FMTTYPE=image/jpeg:https://visitnewbury.org.uk/wp-content/uploads/2026/01/Music-For-All-Newbury-Library.jpg
END:VEVENT
BEGIN:VEVENT
DTSTART;TZID=Europe/London:20260202T100000
DTEND;TZID=Europe/London:20260202T114500
DTSTAMP:20260421T175817
CREATED:20260106T141337Z
LAST-MODIFIED:20260106T141337Z
UID:12003113-1770026400-1770032700@visitnewbury.org.uk
SUMMARY:Music For All
DESCRIPTION:Discover the joy of music with Berkshire Music Trust\, who are hosting free music sessions at Newbury Library. \n\nChildren’s sessions run from 10am – 10:45am\nAdult sessions run from 11am – 11:45am\n\nWhether you want to sing along or simply enjoy the atmosphere\, there’s something for everyone – no experience needed. \nEnjoy a mix of old favourites and sing-along songs. These sessions provide a fantastic opportunity to engage with live music and connect with others. \nLearn more via the West Berkshire Libraries website using the link below
URL:https://visitnewbury.org.uk/event/music-for-all/2026-02-02/
LOCATION:Newbury Library\, Newbury Library\, The Wharf\, RG14 5AU
CATEGORIES:Children's Sessions,Health & Wellbeing,Library Events,Music
ATTACH;FMTTYPE=image/jpeg:https://visitnewbury.org.uk/wp-content/uploads/2026/01/Music-For-All-Newbury-Library.jpg
END:VEVENT
BEGIN:VEVENT
DTSTART;TZID=Europe/London:20260209T100000
DTEND;TZID=Europe/London:20260209T114500
DTSTAMP:20260421T175817
CREATED:20260106T141337Z
LAST-MODIFIED:20260106T141337Z
UID:12003114-1770631200-1770637500@visitnewbury.org.uk
SUMMARY:Music For All
DESCRIPTION:Discover the joy of music with Berkshire Music Trust\, who are hosting free music sessions at Newbury Library. \n\nChildren’s sessions run from 10am – 10:45am\nAdult sessions run from 11am – 11:45am\n\nWhether you want to sing along or simply enjoy the atmosphere\, there’s something for everyone – no experience needed. \nEnjoy a mix of old favourites and sing-along songs. These sessions provide a fantastic opportunity to engage with live music and connect with others. \nLearn more via the West Berkshire Libraries website using the link below
URL:https://visitnewbury.org.uk/event/music-for-all/2026-02-09/
LOCATION:Newbury Library\, Newbury Library\, The Wharf\, RG14 5AU
CATEGORIES:Children's Sessions,Health & Wellbeing,Library Events,Music
ATTACH;FMTTYPE=image/jpeg:https://visitnewbury.org.uk/wp-content/uploads/2026/01/Music-For-All-Newbury-Library.jpg
END:VEVENT
BEGIN:VEVENT
DTSTART;TZID=Europe/London:20260223T100000
DTEND;TZID=Europe/London:20260223T114500
DTSTAMP:20260421T175817
CREATED:20260106T141337Z
LAST-MODIFIED:20260106T141337Z
UID:12003115-1771840800-1771847100@visitnewbury.org.uk
SUMMARY:Music For All
DESCRIPTION:Discover the joy of music with Berkshire Music Trust\, who are hosting free music sessions at Newbury Library. \n\nChildren’s sessions run from 10am – 10:45am\nAdult sessions run from 11am – 11:45am\n\nWhether you want to sing along or simply enjoy the atmosphere\, there’s something for everyone – no experience needed. \nEnjoy a mix of old favourites and sing-along songs. These sessions provide a fantastic opportunity to engage with live music and connect with others. \nLearn more via the West Berkshire Libraries website using the link below
URL:https://visitnewbury.org.uk/event/music-for-all/2026-02-23/
LOCATION:Newbury Library\, Newbury Library\, The Wharf\, RG14 5AU
CATEGORIES:Children's Sessions,Health & Wellbeing,Library Events,Music
ATTACH;FMTTYPE=image/jpeg:https://visitnewbury.org.uk/wp-content/uploads/2026/01/Music-For-All-Newbury-Library.jpg
END:VEVENT
BEGIN:VEVENT
DTSTART;TZID=Europe/London:20260302T100000
DTEND;TZID=Europe/London:20260302T114500
DTSTAMP:20260421T175817
CREATED:20260106T141337Z
LAST-MODIFIED:20260106T141337Z
UID:12003116-1772445600-1772451900@visitnewbury.org.uk
SUMMARY:Music For All
DESCRIPTION:Discover the joy of music with Berkshire Music Trust\, who are hosting free music sessions at Newbury Library. \n\nChildren’s sessions run from 10am – 10:45am\nAdult sessions run from 11am – 11:45am\n\nWhether you want to sing along or simply enjoy the atmosphere\, there’s something for everyone – no experience needed. \nEnjoy a mix of old favourites and sing-along songs. These sessions provide a fantastic opportunity to engage with live music and connect with others. \nLearn more via the West Berkshire Libraries website using the link below
URL:https://visitnewbury.org.uk/event/music-for-all/2026-03-02/
LOCATION:Newbury Library\, Newbury Library\, The Wharf\, RG14 5AU
CATEGORIES:Children's Sessions,Health & Wellbeing,Library Events,Music
ATTACH;FMTTYPE=image/jpeg:https://visitnewbury.org.uk/wp-content/uploads/2026/01/Music-For-All-Newbury-Library.jpg
END:VEVENT
BEGIN:VEVENT
DTSTART;TZID=Europe/London:20260309T100000
DTEND;TZID=Europe/London:20260309T114500
DTSTAMP:20260421T175817
CREATED:20260106T141337Z
LAST-MODIFIED:20260106T141337Z
UID:12003117-1773050400-1773056700@visitnewbury.org.uk
SUMMARY:Music For All
DESCRIPTION:Discover the joy of music with Berkshire Music Trust\, who are hosting free music sessions at Newbury Library. \n\nChildren’s sessions run from 10am – 10:45am\nAdult sessions run from 11am – 11:45am\n\nWhether you want to sing along or simply enjoy the atmosphere\, there’s something for everyone – no experience needed. \nEnjoy a mix of old favourites and sing-along songs. These sessions provide a fantastic opportunity to engage with live music and connect with others. \nLearn more via the West Berkshire Libraries website using the link below
URL:https://visitnewbury.org.uk/event/music-for-all/2026-03-09/
LOCATION:Newbury Library\, Newbury Library\, The Wharf\, RG14 5AU
CATEGORIES:Children's Sessions,Health & Wellbeing,Library Events,Music
ATTACH;FMTTYPE=image/jpeg:https://visitnewbury.org.uk/wp-content/uploads/2026/01/Music-For-All-Newbury-Library.jpg
END:VEVENT
BEGIN:VEVENT
DTSTART;TZID=Europe/London:20260316T100000
DTEND;TZID=Europe/London:20260316T114500
DTSTAMP:20260421T175817
CREATED:20260106T141337Z
LAST-MODIFIED:20260106T141337Z
UID:12003118-1773655200-1773661500@visitnewbury.org.uk
SUMMARY:Music For All
DESCRIPTION:Discover the joy of music with Berkshire Music Trust\, who are hosting free music sessions at Newbury Library. \n\nChildren’s sessions run from 10am – 10:45am\nAdult sessions run from 11am – 11:45am\n\nWhether you want to sing along or simply enjoy the atmosphere\, there’s something for everyone – no experience needed. \nEnjoy a mix of old favourites and sing-along songs. These sessions provide a fantastic opportunity to engage with live music and connect with others. \nLearn more via the West Berkshire Libraries website using the link below
URL:https://visitnewbury.org.uk/event/music-for-all/2026-03-16/
LOCATION:Newbury Library\, Newbury Library\, The Wharf\, RG14 5AU
CATEGORIES:Children's Sessions,Health & Wellbeing,Library Events,Music
ATTACH;FMTTYPE=image/jpeg:https://visitnewbury.org.uk/wp-content/uploads/2026/01/Music-For-All-Newbury-Library.jpg
END:VEVENT
BEGIN:VEVENT
DTSTART;TZID=Europe/London:20260331T100000
DTEND;TZID=Europe/London:20260331T120000
DTSTAMP:20260421T175817
CREATED:20251006T121105Z
LAST-MODIFIED:20260331T145100Z
UID:12002483-1774951200-1774958400@visitnewbury.org.uk
SUMMARY:Children’s Crafts
DESCRIPTION:Join Newbury Library for free Children’s Craft sessions over the Easter Break! \nDrop-in event suitable for over 5s.
URL:https://visitnewbury.org.uk/event/childrens-crafts-newbury-library/2026-03-31/
LOCATION:Newbury Library\, Newbury Library\, The Wharf\, RG14 5AU
CATEGORIES:Arts & Crafts,Children's Sessions,Easter,Library Events,School Holidays & Half Term
ATTACH;FMTTYPE=image/jpeg:https://visitnewbury.org.uk/wp-content/uploads/2025/10/Newbury-Library-Easter-Events.jpg
END:VEVENT
BEGIN:VEVENT
DTSTART;TZID=Europe/London:20260401T100000
DTEND;TZID=Europe/London:20260401T120000
DTSTAMP:20260421T175817
CREATED:20251006T121105Z
LAST-MODIFIED:20260331T145100Z
UID:12003739-1775037600-1775044800@visitnewbury.org.uk
SUMMARY:Children’s Crafts
DESCRIPTION:Join Newbury Library for free Children’s Craft sessions over the Easter Break! \nDrop-in event suitable for over 5s.
URL:https://visitnewbury.org.uk/event/childrens-crafts-newbury-library/2026-04-01/
LOCATION:Newbury Library\, Newbury Library\, The Wharf\, RG14 5AU
CATEGORIES:Arts & Crafts,Children's Sessions,Easter,Library Events,School Holidays & Half Term
ATTACH;FMTTYPE=image/jpeg:https://visitnewbury.org.uk/wp-content/uploads/2025/10/Newbury-Library-Easter-Events.jpg
END:VEVENT
BEGIN:VEVENT
DTSTART;TZID=Europe/London:20260402T100000
DTEND;TZID=Europe/London:20260402T120000
DTSTAMP:20260421T175817
CREATED:20251006T121105Z
LAST-MODIFIED:20260331T145100Z
UID:12003740-1775124000-1775131200@visitnewbury.org.uk
SUMMARY:Children’s Crafts
DESCRIPTION:Join Newbury Library for free Children’s Craft sessions over the Easter Break! \nDrop-in event suitable for over 5s.
URL:https://visitnewbury.org.uk/event/childrens-crafts-newbury-library/2026-04-02/
LOCATION:Newbury Library\, Newbury Library\, The Wharf\, RG14 5AU
CATEGORIES:Arts & Crafts,Children's Sessions,Easter,Library Events,School Holidays & Half Term
ATTACH;FMTTYPE=image/jpeg:https://visitnewbury.org.uk/wp-content/uploads/2025/10/Newbury-Library-Easter-Events.jpg
END:VEVENT
BEGIN:VEVENT
DTSTART;TZID=Europe/London:20260404T100000
DTEND;TZID=Europe/London:20260404T120000
DTSTAMP:20260421T175817
CREATED:20260331T151549Z
LAST-MODIFIED:20260331T151549Z
UID:12003749-1775296800-1775304000@visitnewbury.org.uk
SUMMARY:Guide Dogs for the Blind Meet & Greet
DESCRIPTION:Join Newbury Library for a special Guide Dogs Meet & Greet! \nThis is a wonderful opportunity to chat with owners\, learn about the vital training these service dogs undergo\, and see how they support the blind and partially sighted community.
URL:https://visitnewbury.org.uk/event/guide-dogs-for-the-blind-meet-greet/
LOCATION:Newbury Library\, Newbury Library\, The Wharf\, RG14 5AU
CATEGORIES:Children's Sessions,Easter,Health & Wellbeing,Library Events,School Holidays & Half Term
ATTACH;FMTTYPE=image/jpeg:https://visitnewbury.org.uk/wp-content/uploads/2026/03/Newbury-Library-Guide-Dogs-Meet-Greet.jpg
END:VEVENT
BEGIN:VEVENT
DTSTART;TZID=Europe/London:20260404T123000
DTEND;TZID=Europe/London:20260404T133000
DTSTAMP:20260421T175817
CREATED:20260331T150948Z
LAST-MODIFIED:20260331T151147Z
UID:12003743-1775305800-1775309400@visitnewbury.org.uk
SUMMARY:Lego Club
DESCRIPTION:Join Newbury Library for free Lego Club over the Easter Break! \nDrop-in event suitable for over 5s.
URL:https://visitnewbury.org.uk/event/lego-club-newbury-library/2026-04-04/
LOCATION:Newbury Library\, Newbury Library\, The Wharf\, RG14 5AU
CATEGORIES:Arts & Crafts,Children's Sessions,Easter,Library Events,School Holidays & Half Term
ATTACH;FMTTYPE=image/jpeg:https://visitnewbury.org.uk/wp-content/uploads/2025/10/Newbury-Library-Easter-Events.jpg
END:VEVENT
BEGIN:VEVENT
DTSTART;TZID=Europe/London:20260408T100000
DTEND;TZID=Europe/London:20260408T120000
DTSTAMP:20260421T175817
CREATED:20251006T121105Z
LAST-MODIFIED:20260331T145100Z
UID:12003741-1775642400-1775649600@visitnewbury.org.uk
SUMMARY:Children’s Crafts
DESCRIPTION:Join Newbury Library for free Children’s Craft sessions over the Easter Break! \nDrop-in event suitable for over 5s.
URL:https://visitnewbury.org.uk/event/childrens-crafts-newbury-library/2026-04-08/
LOCATION:Newbury Library\, Newbury Library\, The Wharf\, RG14 5AU
CATEGORIES:Arts & Crafts,Children's Sessions,Easter,Library Events,School Holidays & Half Term
ATTACH;FMTTYPE=image/jpeg:https://visitnewbury.org.uk/wp-content/uploads/2025/10/Newbury-Library-Easter-Events.jpg
END:VEVENT
BEGIN:VEVENT
DTSTART;TZID=Europe/London:20260409T100000
DTEND;TZID=Europe/London:20260409T120000
DTSTAMP:20260421T175817
CREATED:20251006T121105Z
LAST-MODIFIED:20260331T145100Z
UID:12003742-1775728800-1775736000@visitnewbury.org.uk
SUMMARY:Children’s Crafts
DESCRIPTION:Join Newbury Library for free Children’s Craft sessions over the Easter Break! \nDrop-in event suitable for over 5s.
URL:https://visitnewbury.org.uk/event/childrens-crafts-newbury-library/2026-04-09/
LOCATION:Newbury Library\, Newbury Library\, The Wharf\, RG14 5AU
CATEGORIES:Arts & Crafts,Children's Sessions,Easter,Library Events,School Holidays & Half Term
ATTACH;FMTTYPE=image/jpeg:https://visitnewbury.org.uk/wp-content/uploads/2025/10/Newbury-Library-Easter-Events.jpg
END:VEVENT
BEGIN:VEVENT
DTSTART;TZID=Europe/London:20260410T100000
DTEND;TZID=Europe/London:20260410T120000
DTSTAMP:20260421T175817
CREATED:20260331T150948Z
LAST-MODIFIED:20260331T151147Z
UID:12003748-1775815200-1775822400@visitnewbury.org.uk
SUMMARY:Lego Club
DESCRIPTION:Join Newbury Library for free Lego Club over the Easter Break! \nDrop-in event suitable for over 5s.
URL:https://visitnewbury.org.uk/event/lego-club-newbury-library/2026-04-10/
LOCATION:Newbury Library\, Newbury Library\, The Wharf\, RG14 5AU
CATEGORIES:Arts & Crafts,Children's Sessions,Easter,Library Events,School Holidays & Half Term
ATTACH;FMTTYPE=image/jpeg:https://visitnewbury.org.uk/wp-content/uploads/2025/10/Newbury-Library-Easter-Events.jpg
END:VEVENT
BEGIN:VEVENT
DTSTART;TZID=Europe/London:20260417T130000
DTEND;TZID=Europe/London:20260417T140000
DTSTAMP:20260421T175817
CREATED:20260331T152033Z
LAST-MODIFIED:20260331T152123Z
UID:12003737-1776430800-1776434400@visitnewbury.org.uk
SUMMARY:Author Chat with Gill Hornby
DESCRIPTION:Calling all Jane Austen fans! \nJoin Newbury Library for an exclusive Author Chat with Sunday Times bestseller Gill Hornby on Friday\, 17 April\, 1pm to 2pm. \nGill will be diving into the local inspirations behind her hit novel Miss Austen and discussing her series of books focused on the lives of the extended Austen family. \nThe event includes an audience Q&A and a chance to purchase signed copies of her work. \nTickets are just £5 and can be booked via the link below or by visiting the library.
URL:https://visitnewbury.org.uk/event/author-chat-with-gill-hornby/
LOCATION:Newbury Library\, Newbury Library\, The Wharf\, RG14 5AU
CATEGORIES:Author Events,Library Events
ATTACH;FMTTYPE=image/jpeg:https://visitnewbury.org.uk/wp-content/uploads/2026/03/Newbury-Library-Gill-Hornby.jpg
END:VEVENT
END:VCALENDAR