BEGIN:VCALENDAR
VERSION:2.0
PRODID:-//Visit Newbury - ECPv6.13.2.1//NONSGML v1.0//EN
CALSCALE:GREGORIAN
METHOD:PUBLISH
X-WR-CALNAME:Visit Newbury
X-ORIGINAL-URL:https://visitnewbury.org.uk
X-WR-CALDESC:Events for Visit Newbury
REFRESH-INTERVAL;VALUE=DURATION:PT1H
X-Robots-Tag:noindex
X-PUBLISHED-TTL:PT1H
BEGIN:VTIMEZONE
TZID:Europe/London
BEGIN:DAYLIGHT
TZOFFSETFROM:+0000
TZOFFSETTO:+0100
TZNAME:BST
DTSTART:20260329T010000
END:DAYLIGHT
BEGIN:STANDARD
TZOFFSETFROM:+0100
TZOFFSETTO:+0000
TZNAME:GMT
DTSTART:20261025T010000
END:STANDARD
END:VTIMEZONE
BEGIN:VEVENT
DTSTART;TZID=Europe/London:20260112T100000
DTEND;TZID=Europe/London:20260112T114500
DTSTAMP:20260421T115734
CREATED:20260106T141337Z
LAST-MODIFIED:20260106T141337Z
UID:12003110-1768212000-1768218300@visitnewbury.org.uk
SUMMARY:Music For All
DESCRIPTION:Discover the joy of music with Berkshire Music Trust\, who are hosting free music sessions at Newbury Library. \n\nChildren’s sessions run from 10am – 10:45am\nAdult sessions run from 11am – 11:45am\n\nWhether you want to sing along or simply enjoy the atmosphere\, there’s something for everyone – no experience needed. \nEnjoy a mix of old favourites and sing-along songs. These sessions provide a fantastic opportunity to engage with live music and connect with others. \nLearn more via the West Berkshire Libraries website using the link below
URL:https://visitnewbury.org.uk/event/music-for-all/2026-01-12/
LOCATION:Newbury Library\, Newbury Library\, The Wharf\, RG14 5AU
CATEGORIES:Children's Sessions,Health & Wellbeing,Library Events,Music
ATTACH;FMTTYPE=image/jpeg:https://visitnewbury.org.uk/wp-content/uploads/2026/01/Music-For-All-Newbury-Library.jpg
END:VEVENT
BEGIN:VEVENT
DTSTART;TZID=Europe/London:20260119T100000
DTEND;TZID=Europe/London:20260119T114500
DTSTAMP:20260421T115734
CREATED:20260106T141337Z
LAST-MODIFIED:20260106T141337Z
UID:12003111-1768816800-1768823100@visitnewbury.org.uk
SUMMARY:Music For All
DESCRIPTION:Discover the joy of music with Berkshire Music Trust\, who are hosting free music sessions at Newbury Library. \n\nChildren’s sessions run from 10am – 10:45am\nAdult sessions run from 11am – 11:45am\n\nWhether you want to sing along or simply enjoy the atmosphere\, there’s something for everyone – no experience needed. \nEnjoy a mix of old favourites and sing-along songs. These sessions provide a fantastic opportunity to engage with live music and connect with others. \nLearn more via the West Berkshire Libraries website using the link below
URL:https://visitnewbury.org.uk/event/music-for-all/2026-01-19/
LOCATION:Newbury Library\, Newbury Library\, The Wharf\, RG14 5AU
CATEGORIES:Children's Sessions,Health & Wellbeing,Library Events,Music
ATTACH;FMTTYPE=image/jpeg:https://visitnewbury.org.uk/wp-content/uploads/2026/01/Music-For-All-Newbury-Library.jpg
END:VEVENT
BEGIN:VEVENT
DTSTART;TZID=Europe/London:20260123T130000
DTEND;TZID=Europe/London:20260123T140000
DTSTAMP:20260421T115734
CREATED:20260106T144703Z
LAST-MODIFIED:20260106T144703Z
UID:12003123-1769173200-1769176800@visitnewbury.org.uk
SUMMARY:Author Chat with Judith Heneghan
DESCRIPTION:Join West Berkshire Libraries for an inspiring talk with novelist Judith Heneghan. She’ll share how real-life experiences shape her fiction\, discuss setting and suspense\, and talk about the novel-writing process. \nThe event includes an audience Q&A and a chance to buy signed copies of her books\, Birdeye and Snegurochka. \nTickets cost £5.
URL:https://visitnewbury.org.uk/event/author-chat-with-judith-heneghan/
LOCATION:Newbury Library\, Newbury Library\, The Wharf\, RG14 5AU
CATEGORIES:Author Events,Library Events
ATTACH;FMTTYPE=image/jpeg:https://visitnewbury.org.uk/wp-content/uploads/2026/01/Author-Chat-with-Judith-Heneghan.jpg
END:VEVENT
BEGIN:VEVENT
DTSTART;TZID=Europe/London:20260126T100000
DTEND;TZID=Europe/London:20260126T114500
DTSTAMP:20260421T115734
CREATED:20260106T141337Z
LAST-MODIFIED:20260106T141337Z
UID:12003112-1769421600-1769427900@visitnewbury.org.uk
SUMMARY:Music For All
DESCRIPTION:Discover the joy of music with Berkshire Music Trust\, who are hosting free music sessions at Newbury Library. \n\nChildren’s sessions run from 10am – 10:45am\nAdult sessions run from 11am – 11:45am\n\nWhether you want to sing along or simply enjoy the atmosphere\, there’s something for everyone – no experience needed. \nEnjoy a mix of old favourites and sing-along songs. These sessions provide a fantastic opportunity to engage with live music and connect with others. \nLearn more via the West Berkshire Libraries website using the link below
URL:https://visitnewbury.org.uk/event/music-for-all/2026-01-26/
LOCATION:Newbury Library\, Newbury Library\, The Wharf\, RG14 5AU
CATEGORIES:Children's Sessions,Health & Wellbeing,Library Events,Music
ATTACH;FMTTYPE=image/jpeg:https://visitnewbury.org.uk/wp-content/uploads/2026/01/Music-For-All-Newbury-Library.jpg
END:VEVENT
END:VCALENDAR