BEGIN:VCALENDAR
VERSION:2.0
PRODID:-//Visit Newbury - ECPv6.13.2.1//NONSGML v1.0//EN
CALSCALE:GREGORIAN
METHOD:PUBLISH
X-ORIGINAL-URL:https://visitnewbury.org.uk
X-WR-CALDESC:Events for Visit Newbury
REFRESH-INTERVAL;VALUE=DURATION:PT1H
X-Robots-Tag:noindex
X-PUBLISHED-TTL:PT1H
BEGIN:VTIMEZONE
TZID:Europe/London
BEGIN:DAYLIGHT
TZOFFSETFROM:+0000
TZOFFSETTO:+0100
TZNAME:BST
DTSTART:20250330T010000
END:DAYLIGHT
BEGIN:STANDARD
TZOFFSETFROM:+0100
TZOFFSETTO:+0000
TZNAME:GMT
DTSTART:20251026T010000
END:STANDARD
END:VTIMEZONE
BEGIN:VEVENT
DTSTART;TZID=Europe/London:20251101T100000
DTEND;TZID=Europe/London:20251101T160000
DTSTAMP:20260421T175551
CREATED:20251006T123332Z
LAST-MODIFIED:20251006T123332Z
UID:12002493-1761991200-1762012800@visitnewbury.org.uk
SUMMARY:Newbury Library Book Sale
DESCRIPTION:Newbury Library will have a selection of books on sale that have been withdrawn from their catalogue. Pop in this half-term to grab yourself a bargain!
URL:https://visitnewbury.org.uk/event/newbury-library-book-sale/2025-11-01/
LOCATION:Newbury Library\, Newbury Library\, The Wharf\, RG14 5AU
CATEGORIES:Library Events,School Holidays & Half Term,Shopping
ATTACH;FMTTYPE=image/jpeg:https://visitnewbury.org.uk/wp-content/uploads/2025/10/Newbury-Library-Book-Sale-sq2.jpg
END:VEVENT
BEGIN:VEVENT
DTSTART;TZID=Europe/London:20251101T103000
DTEND;TZID=Europe/London:20251101T111500
DTSTAMP:20260421T175551
CREATED:20251006T114559Z
LAST-MODIFIED:20251006T114559Z
UID:12002480-1761993000-1761995700@visitnewbury.org.uk
SUMMARY:Children’s Author Chat with Lui Sit
DESCRIPTION:Join children’s author Lui Sit at Newbury Library to hear about her book ‘Land of the Last Wildcat’\, the first book in a thrilling new action-adventure series. \nLui will be talking about the book\, her author journey\, and the inspiration behind the story. This will be followed by an audience Q&A and the opportunity to buy signed copies of the book. \nThis event is aimed at children aged 7+. \nTickets cost £3 per child. Adults are not required to book a ticket. You can learn more and book tickets via the event details link below.
URL:https://visitnewbury.org.uk/event/childrens-author-chat-with-lui-sit/
LOCATION:Newbury Library\, Newbury Library\, The Wharf\, RG14 5AU
CATEGORIES:Author Events,Children's Sessions,Library Events,School Holidays & Half Term
ATTACH;FMTTYPE=image/jpeg:https://visitnewbury.org.uk/wp-content/uploads/2025/10/Lui-Sit-Newbury-Library.jpg
END:VEVENT
BEGIN:VEVENT
DTSTART;TZID=Europe/London:20251108T100000
DTEND;TZID=Europe/London:20251108T130000
DTSTAMP:20260421T175551
CREATED:20250613T132353Z
LAST-MODIFIED:20250613T132353Z
UID:12002094-1762596000-1762606800@visitnewbury.org.uk
SUMMARY:Board Games Meetup
DESCRIPTION:Newbury Library hosts a Board Games Meetup on the second and fourth Saturday each month\, 10am-1pm. \nEveryone is welcome to come along to these free drop in sessions\, with plenty of games to choose from – suitable for all ages.
URL:https://visitnewbury.org.uk/event/board-games-meetup/2025-11-08/
LOCATION:Newbury Library\, Newbury Library\, The Wharf\, RG14 5AU
CATEGORIES:Gaming,Library Events
ATTACH;FMTTYPE=image/jpeg:https://visitnewbury.org.uk/wp-content/uploads/2025/06/Board-Games-Meetup-Newbury-Library.jpg
END:VEVENT
BEGIN:VEVENT
DTSTART;TZID=Europe/London:20251115T110000
DTEND;TZID=Europe/London:20251115T140000
DTSTAMP:20260421T175551
CREATED:20251006T115627Z
LAST-MODIFIED:20251006T115627Z
UID:12002481-1763204400-1763215200@visitnewbury.org.uk
SUMMARY:Local Author Book Fair
DESCRIPTION:Newbury Library will be hosting a showcase of local authors on Saturday 15th November\, from 11am – 2pm. Head along to support local authors\, and it’s a great opportunity to pick up an early Christmas gift! \nIf you have had a book published that you would like to promote\, please contact the library for further details: library@westberks.gov.uk \nEarly expression of interest is advised as space is limited. Cost to hire a table is from £10.
URL:https://visitnewbury.org.uk/event/local-author-book-fair/
LOCATION:Newbury Library\, Newbury Library\, The Wharf\, RG14 5AU
CATEGORIES:Library Events
ATTACH;FMTTYPE=image/jpeg:https://visitnewbury.org.uk/wp-content/uploads/2025/10/Local-Author-Book-Fair-Newbury-Library.jpg
END:VEVENT
BEGIN:VEVENT
DTSTART;TZID=Europe/London:20251122T100000
DTEND;TZID=Europe/London:20251122T130000
DTSTAMP:20260421T175551
CREATED:20250613T132514Z
LAST-MODIFIED:20250613T132514Z
UID:12002108-1763805600-1763816400@visitnewbury.org.uk
SUMMARY:Board Games Meetup
DESCRIPTION:Newbury Library hosts a Board Games Meetup on the second and fourth Saturday each month\, 10am-1pm. \nEveryone is welcome to come along to these free drop in sessions\, with plenty of games to choose from – suitable for all ages.
URL:https://visitnewbury.org.uk/event/board-games-meetup-2/2025-11-22/
LOCATION:Newbury Library\, Newbury Library\, The Wharf\, RG14 5AU
CATEGORIES:Gaming,Library Events
ATTACH;FMTTYPE=image/jpeg:https://visitnewbury.org.uk/wp-content/uploads/2025/06/Board-Games-Meetup-Newbury-Library.jpg
END:VEVENT
END:VCALENDAR