BEGIN:VCALENDAR
VERSION:2.0
PRODID:-//Visit Newbury - ECPv6.13.2.1//NONSGML v1.0//EN
CALSCALE:GREGORIAN
METHOD:PUBLISH
X-WR-CALNAME:Visit Newbury
X-ORIGINAL-URL:https://visitnewbury.org.uk
X-WR-CALDESC:Events for Visit Newbury
REFRESH-INTERVAL;VALUE=DURATION:PT1H
X-Robots-Tag:noindex
X-PUBLISHED-TTL:PT1H
BEGIN:VTIMEZONE
TZID:Europe/London
BEGIN:DAYLIGHT
TZOFFSETFROM:+0000
TZOFFSETTO:+0100
TZNAME:BST
DTSTART:20250330T010000
END:DAYLIGHT
BEGIN:STANDARD
TZOFFSETFROM:+0100
TZOFFSETTO:+0000
TZNAME:GMT
DTSTART:20251026T010000
END:STANDARD
END:VTIMEZONE
BEGIN:VEVENT
DTSTART;TZID=Europe/London:20250219T113000
DTEND;TZID=Europe/London:20250219T113000
DTSTAMP:20260422T062844
CREATED:20250217T131240Z
LAST-MODIFIED:20250217T132615Z
UID:11000312-1739964600-1739964600@visitnewbury.org.uk
SUMMARY:Interactive Theatrical Class
DESCRIPTION:Lixi from The Watermill Theatre puts on an interactive theatrical class designed to introduce creative arts at an early age. \nThe sessions are for under 5s\, and start from 11:30am. \nNo booking required\, just drop-in. Free event but donations are welcome.
URL:https://visitnewbury.org.uk/event/interactive-theatrical-class/
LOCATION:Newbury Library\, Newbury Library\, The Wharf\, RG14 5AU
CATEGORIES:Library Events
ATTACH;FMTTYPE=image/jpeg:https://visitnewbury.org.uk/wp-content/uploads/2025/02/Interactive-Theatrical-Class-Educafe.jpg
END:VEVENT
BEGIN:VEVENT
DTSTART;TZID=Europe/London:20250220T110000
DTEND;TZID=Europe/London:20250220T114500
DTSTAMP:20260422T062844
CREATED:20250123T130931Z
LAST-MODIFIED:20250123T130931Z
UID:10000295-1740049200-1740051900@visitnewbury.org.uk
SUMMARY:Explore this year's best books for under 5s
DESCRIPTION:Head to Newbury Library to explore this year’s best books for under 5’s!
URL:https://visitnewbury.org.uk/event/explore-this-years-best-books-for-under-5s/
LOCATION:Newbury Library\, Newbury Library\, The Wharf\, RG14 5AU
CATEGORIES:Library Events
ATTACH;FMTTYPE=image/png:https://visitnewbury.org.uk/wp-content/uploads/2025/01/February_-_BookTrust_Storytime_NEW_20_Feb.png
END:VEVENT
BEGIN:VEVENT
DTSTART;TZID=Europe/London:20250221T103000
DTEND;TZID=Europe/London:20250221T120000
DTSTAMP:20260422T062844
CREATED:20250123T165245Z
LAST-MODIFIED:20250123T165410Z
UID:10000296-1740133800-1740139200@visitnewbury.org.uk
SUMMARY:Sign Makers Workshop
DESCRIPTION:For 7-11 year olds. \nJoin staff from Explore Learning to start your own sign-making business for all the shops in Newbury! \nYou’ll be getting creative and learning to make the signs in a cost-effective way whilst working as a team. \nThis fun maths workshop is FREE to attend but advance booking is essential. Please note that children under 8 must be accompanied by a parent or carer.
URL:https://visitnewbury.org.uk/event/sign-makers-workshop/
LOCATION:Newbury Library\, Newbury Library\, The Wharf\, RG14 5AU
CATEGORIES:Library Events
ATTACH;FMTTYPE=image/jpeg:https://visitnewbury.org.uk/wp-content/uploads/2025/01/February_-_Explore_Learning_NEW_21_Feb-scaled.jpg
END:VEVENT
BEGIN:VEVENT
DTSTART;TZID=Europe/London:20250221T130000
DTEND;TZID=Europe/London:20250221T140000
DTSTAMP:20260422T062844
CREATED:20250107T230733Z
LAST-MODIFIED:20250113T095116Z
UID:10000004-1740142800-1740146400@visitnewbury.org.uk
SUMMARY:Author Chat with Olivia Kiernan
DESCRIPTION:Join Newbury Library as they interview Olivia Kiernan\, author of The End of Us. \nOlivia will discuss the ideas behind her Frankie Sheehan series and her latest thriller The End of Us\, along with insight into how the book was created. This will be followed by an audience Q & A and the opportunity to buy signed copies of the books. \nFriday 21 February\, 1-2pm. \nTickets £5. \nFor further information and any booking queries please ask in the library. www.westberks.gov.uk/libraries
URL:https://visitnewbury.org.uk/event/author-chat-with-olivia-kiernan/
LOCATION:Newbury Library\, Newbury Library\, The Wharf\, RG14 5AU
CATEGORIES:Library Events
ATTACH;FMTTYPE=image/jpeg:https://visitnewbury.org.uk/wp-content/uploads/2025/01/February_-_Olivia_Kiernan_Talk_NEW_21_Feb-scaled.jpg
END:VEVENT
END:VCALENDAR