BEGIN:VCALENDAR
VERSION:2.0
PRODID:-//Visit Newbury - ECPv6.13.2.1//NONSGML v1.0//EN
CALSCALE:GREGORIAN
METHOD:PUBLISH
X-ORIGINAL-URL:https://visitnewbury.org.uk
X-WR-CALDESC:Events for Visit Newbury
REFRESH-INTERVAL;VALUE=DURATION:PT1H
X-Robots-Tag:noindex
X-PUBLISHED-TTL:PT1H
BEGIN:VTIMEZONE
TZID:Europe/London
BEGIN:DAYLIGHT
TZOFFSETFROM:+0000
TZOFFSETTO:+0100
TZNAME:BST
DTSTART:20260329T010000
END:DAYLIGHT
BEGIN:STANDARD
TZOFFSETFROM:+0100
TZOFFSETTO:+0000
TZNAME:GMT
DTSTART:20261025T010000
END:STANDARD
END:VTIMEZONE
BEGIN:VEVENT
DTSTART;TZID=Europe/London:20260417T190000
DTEND;TZID=Europe/London:20260417T203000
DTSTAMP:20260422T233615
CREATED:20260331T153324Z
LAST-MODIFIED:20260331T153324Z
UID:12003750-1776452400-1776457800@visitnewbury.org.uk
SUMMARY:Flamenco from Spain
DESCRIPTION:Head to St Nicolas Church for an unforgettable night of flamenco music\, singing and dance with prize-winning artists from Andalusia\, Spain. \nArtists include Rebeca Ortega\, an elegant\, accomplished and internationally acclaimed dancer based in Seville\, Maestro composer and guitarist Ramon Ruiz from Granada who trained in Seville\, and Carlos Lobo\, renowned puro flamenco singer from Jerez de la Frontera now based in Seville. \nDon’t miss out on this opportunity to immerse yourself in the rich cultural heritage of Andalusia\, with traditional and modern flamenco artistry. \nThis a seated event\, first come first served. Secure your tickets in advance via the link below. \nMeet the artists after the performance. Prints and CD’s will be available for sale.
URL:https://visitnewbury.org.uk/event/flamenco-from-spain/
LOCATION:St Nicolas Church\, St Nicolas Church\, RG14 5HG
CATEGORIES:Dance
ATTACH;FMTTYPE=image/webp:https://visitnewbury.org.uk/wp-content/uploads/2026/03/Flamenco-from-Spain-St-Nics-Church-e1774971187219.webp
END:VEVENT
BEGIN:VEVENT
DTSTART;TZID=Europe/London:20260227T193000
DTEND;TZID=Europe/London:20260227T193000
DTSTAMP:20260422T233615
CREATED:20260123T122654Z
LAST-MODIFIED:20260123T143936Z
UID:12003198-1772220600-1772220600@visitnewbury.org.uk
SUMMARY:Vincent Simone: Tango Passions
DESCRIPTION:Argentine tango king and Strictly Come Dancing legend\, Vincent Simone\, returns to the stage with Tango Passions. \nAccompanied by world-class Argentine tango and latin specialists\, let the original Italian stallion take you on a journey to Buenos Aires and tell the tale of love\, passion and lust set at the turn of the 20th century. \nFeaturing classic and modern Argentine tango music from the likes of Astor Piazzolla and Gotan Project. \nA sexy\, steamy\, passionate night not to be missed!
URL:https://visitnewbury.org.uk/event/vincent-simone-tango-passions/
LOCATION:Corn Exchange Newbury\, Corn Exchange\, Market Place\, RG14 5BD
CATEGORIES:Dance,Theatre
ATTACH;FMTTYPE=image/webp:https://visitnewbury.org.uk/wp-content/uploads/2026/01/Tango-Passions-Corn-Exchange.webp
END:VEVENT
END:VCALENDAR