BEGIN:VCALENDAR
VERSION:2.0
PRODID:-//Visit Newbury - ECPv6.13.2.1//NONSGML v1.0//EN
CALSCALE:GREGORIAN
METHOD:PUBLISH
X-WR-CALNAME:Visit Newbury
X-ORIGINAL-URL:https://visitnewbury.org.uk
X-WR-CALDESC:Events for Visit Newbury
REFRESH-INTERVAL;VALUE=DURATION:PT1H
X-Robots-Tag:noindex
X-PUBLISHED-TTL:PT1H
BEGIN:VTIMEZONE
TZID:Europe/London
BEGIN:DAYLIGHT
TZOFFSETFROM:+0000
TZOFFSETTO:+0100
TZNAME:BST
DTSTART:20260329T010000
END:DAYLIGHT
BEGIN:STANDARD
TZOFFSETFROM:+0100
TZOFFSETTO:+0000
TZNAME:GMT
DTSTART:20261025T010000
END:STANDARD
END:VTIMEZONE
BEGIN:VEVENT
DTSTART;TZID=Europe/London:20260306T200000
DTEND;TZID=Europe/London:20260306T200000
DTSTAMP:20260425T132437
CREATED:20260123T122636Z
LAST-MODIFIED:20260123T135104Z
UID:12003238-1772827200-1772827200@visitnewbury.org.uk
SUMMARY:Comedy Network
DESCRIPTION:Get ready to laugh out loud with an evening of great comedy\, as Avalon presents The Comedy Network.\nExisting to bring a roadshow of comedic brilliance to your doorstep\, The Comedy Network has been a proving ground for some of the biggest names in British comedy. Household names like Lee Mack\, Russell Howard\, Jenny Eclair\, Ed Gamble and Lou Sanders have all cut their teeth on the network circuit. Previous line-ups have included Simon Brodkin\, Steve Bugeja\, Sophie Duker and Flo & Joan. \nWhether you are looking for a great night out with friends or a fun way to celebrate a special occasion\, start your weekend in style at The Comedy Network. \nSee the full line-up and learn more about the month’s performers at the link below!
URL:https://visitnewbury.org.uk/event/comedy-network/2026-03-06/
LOCATION:Corn Exchange Newbury\, Corn Exchange\, Market Place\, RG14 5BD
CATEGORIES:Comedy
ATTACH;FMTTYPE=image/webp:https://visitnewbury.org.uk/wp-content/uploads/2026/01/Comedy-Network-Corn-Exchange-e1769176023493.webp
END:VEVENT
BEGIN:VEVENT
DTSTART;TZID=Europe/London:20260307T193000
DTEND;TZID=Europe/London:20260307T193000
DTSTAMP:20260425T132437
CREATED:20260123T122708Z
LAST-MODIFIED:20260123T155900Z
UID:12003202-1772911800-1772911800@visitnewbury.org.uk
SUMMARY:Pete Firman: Tricks & Giggles
DESCRIPTION:With over 4.5 million social media followers and countless TV appearances under his belt\, Pete Firman is the UK’s top comic magician. \nJoin him for an evening of Tricks & Giggles\, as Pete brings his trademark blend of magic and comedy from the small screen to stages around the UK with this brand-new show. Expect impossible feats\, sleight of hand and big laughs from one of magic’s most exciting performers! \nAs seen on Amazon’s Good Omens\, ITV1’s Tonight at the London Palladium and The Next Great Magician\, BBC1’s The John Bishop Show and The Sarah Millican Television Programme. He’s probably also popped up on your social media feeds with his mind-boggling and regularly viral magic videos.
URL:https://visitnewbury.org.uk/event/pete-firman-tricks-and-giggles/
LOCATION:Corn Exchange Newbury\, Corn Exchange\, Market Place\, RG14 5BD
CATEGORIES:Comedy,Theatre
ATTACH;FMTTYPE=image/webp:https://visitnewbury.org.uk/wp-content/uploads/2026/01/Pete-Firman-Corn-Exchange.webp
END:VEVENT
BEGIN:VEVENT
DTSTART;TZID=Europe/London:20260312T193000
DTEND;TZID=Europe/London:20260312T193000
DTSTAMP:20260425T132437
CREATED:20260123T132938Z
LAST-MODIFIED:20260123T132938Z
UID:12003231-1773343800-1773343800@visitnewbury.org.uk
SUMMARY:Early Doors Comedy Night
DESCRIPTION:Join Corn Exchange Newbury for an evening of the freshest comedy! \nEach night two comedians test out brand-new material in their quest to build an hour(ish) long show each. This is your chance to catch familiar favourites and rising stars at their most daring. \nHead along\, have a laugh\, and find the funny together! \nYour comedians for this event are Felicity Ward and Johnny White Really-Really.
URL:https://visitnewbury.org.uk/event/early-doors-comedy-night-12mar/
LOCATION:Corn Exchange Newbury\, Corn Exchange\, Market Place\, RG14 5BD
CATEGORIES:Comedy
ATTACH;FMTTYPE=image/webp:https://visitnewbury.org.uk/wp-content/uploads/2026/01/Corn-Exchange-Early-Doors-Comedy-Nights.webp
END:VEVENT
BEGIN:VEVENT
DTSTART;TZID=Europe/London:20260318T200000
DTEND;TZID=Europe/London:20260318T200000
DTSTAMP:20260425T132437
CREATED:20260123T122723Z
LAST-MODIFIED:20260123T160519Z
UID:12003209-1773864000-1773864000@visitnewbury.org.uk
SUMMARY:Ivo Graham: Orange Crush
DESCRIPTION:Where is Ivo Graham from? Where exactly is he going? And will he please just slow down? \nThe Taskmaster promise-squanderer\, published author and gig pig welcomes you to the latest chaotic chapter of his career. A show about hats\, haters and hometown heroes. You’ve seen him on panels and podcasts and pegging it through train stations: now come and see his new orange threads in the flesh.
URL:https://visitnewbury.org.uk/event/ivo-graham-orange-crush/
LOCATION:Corn Exchange Newbury\, Corn Exchange\, Market Place\, RG14 5BD
CATEGORIES:Comedy
ATTACH;FMTTYPE=image/webp:https://visitnewbury.org.uk/wp-content/uploads/2026/01/Ivo-Graham-Corn-Exchange.webp
END:VEVENT
BEGIN:VEVENT
DTSTART;TZID=Europe/London:20260319T193000
DTEND;TZID=Europe/London:20260319T220000
DTSTAMP:20260425T132437
CREATED:20260223T092436Z
LAST-MODIFIED:20260223T092436Z
UID:12003584-1773948600-1773957600@visitnewbury.org.uk
SUMMARY:Laugh out loud for mental health
DESCRIPTION:The Charlie Waller Trust presents a feel-good evening of hilarious comedy from some of the most side-splitting acts on the circuit including Alex Farrow\, Rachel Fairburn\, Joe Wells\, Robert White and David Alfie Ward\, as well as a welcome from their patron Alexander Armstrong! \nAll funds raised will help support the mental health of children and young people at The Charlie Waller Trust. \nHead to link below to learn more or book your tickets. Age Guide: 14+
URL:https://visitnewbury.org.uk/event/laugh-out-loud-for-mental-health/
LOCATION:Corn Exchange Newbury\, Corn Exchange\, Market Place\, RG14 5BD
CATEGORIES:Comedy,Fundraising,Health & Wellbeing
ATTACH;FMTTYPE=image/jpeg:https://visitnewbury.org.uk/wp-content/uploads/2026/02/Laugh-out-Loud-for-mental-health.jpg
END:VEVENT
END:VCALENDAR