BEGIN:VCALENDAR
VERSION:2.0
PRODID:-//Visit Newbury - ECPv6.13.2.1//NONSGML v1.0//EN
CALSCALE:GREGORIAN
METHOD:PUBLISH
X-WR-CALNAME:Visit Newbury
X-ORIGINAL-URL:https://visitnewbury.org.uk
X-WR-CALDESC:Events for Visit Newbury
REFRESH-INTERVAL;VALUE=DURATION:PT1H
X-Robots-Tag:noindex
X-PUBLISHED-TTL:PT1H
BEGIN:VTIMEZONE
TZID:Europe/London
BEGIN:DAYLIGHT
TZOFFSETFROM:+0000
TZOFFSETTO:+0100
TZNAME:BST
DTSTART:20260329T010000
END:DAYLIGHT
BEGIN:STANDARD
TZOFFSETFROM:+0100
TZOFFSETTO:+0000
TZNAME:GMT
DTSTART:20261025T010000
END:STANDARD
END:VTIMEZONE
BEGIN:VEVENT
DTSTART;TZID=Europe/London:20260211T191500
DTEND;TZID=Europe/London:20260211T191500
DTSTAMP:20260419T141553
CREATED:20260203T150034Z
LAST-MODIFIED:20260203T150034Z
UID:12003347-1770837300-1770837300@visitnewbury.org.uk
SUMMARY:Astronauts of Cape Horn - Talk with Nicholas Gray
DESCRIPTION:By the time twelve astronauts had landed on the moon\, only eleven extraordinary sailors had rounded Cape Horn alone. These are the Cape Horn Astronauts. \nAuthor Nicholas Gray comes to The Bowlers Arms to tell the story of the lives of these eleven men and their extraordinary sailing exploits\, and compares and contrasts their voyages with what the space astronauts achieved. \nLearn more on the Newbury Yacht Club website at the link below.
URL:https://visitnewbury.org.uk/event/astronauts-of-cape-horn-talk-with-nicholas-gray/
LOCATION:The Bowlers Arms\, The Bowlers Arms\, RG14 6TW
CATEGORIES:Author Events
ATTACH;FMTTYPE=image/jpeg:https://visitnewbury.org.uk/wp-content/uploads/2026/02/Astronauts-of-Cape-Horn.jpg
END:VEVENT
END:VCALENDAR