BEGIN:VCALENDAR
VERSION:2.0
PRODID:-//Visit Newbury - ECPv6.13.2.1//NONSGML v1.0//EN
CALSCALE:GREGORIAN
METHOD:PUBLISH
X-WR-CALNAME:Visit Newbury
X-ORIGINAL-URL:https://visitnewbury.org.uk
X-WR-CALDESC:Events for Visit Newbury
REFRESH-INTERVAL;VALUE=DURATION:PT1H
X-Robots-Tag:noindex
X-PUBLISHED-TTL:PT1H
BEGIN:VTIMEZONE
TZID:Europe/London
BEGIN:DAYLIGHT
TZOFFSETFROM:+0000
TZOFFSETTO:+0100
TZNAME:BST
DTSTART:20260329T010000
END:DAYLIGHT
BEGIN:STANDARD
TZOFFSETFROM:+0100
TZOFFSETTO:+0000
TZNAME:GMT
DTSTART:20261025T010000
END:STANDARD
END:VTIMEZONE
BEGIN:VEVENT
DTSTART;TZID=Europe/London:20260109T100000
DTEND;TZID=Europe/London:20260125T170000
DTSTAMP:20260419T174839
CREATED:20260112T125254Z
LAST-MODIFIED:20260112T125254Z
UID:12003165-1767952800-1769360400@visitnewbury.org.uk
SUMMARY:GENerate: Student Art Exhibition 2026
DESCRIPTION:Marvel at the next GENeration of artists’ creations. \nFeaturing artwork created by students from local schools\, sixth forms and colleges\, this curated exhibition showcases and celebrates the imagination and creativity of young artists. \nThe exhibition is free to enter (with the option to make a small donation to The Base Greenham charity)\, and is open Tuesday-Sunday from 10am-5pm. The exhibition is closed on Mondays. \nSome special dates to note are: \n\nSongs and Stories in The Gallery: Sat 17 & Thu 22 Jan\nRelaxed day: Thu 15 Jan\n\nYou can learn more about these dates and the whole exhibition by visiting The Base’s website\, just head to the link below.
URL:https://visitnewbury.org.uk/event/generate-student-art-exhibition-2026/
LOCATION:The Base\, Greenham\, The Base\, Greenham Business Park\, RG19 6HN
CATEGORIES:Art Exhibition
ATTACH;FMTTYPE=image/png:https://visitnewbury.org.uk/wp-content/uploads/2026/01/GENerate-2026.png
END:VEVENT
END:VCALENDAR