BEGIN:VCALENDAR
VERSION:2.0
PRODID:-//Visit Newbury - ECPv6.13.2.1//NONSGML v1.0//EN
CALSCALE:GREGORIAN
METHOD:PUBLISH
X-ORIGINAL-URL:https://visitnewbury.org.uk
X-WR-CALDESC:Events for Visit Newbury
REFRESH-INTERVAL;VALUE=DURATION:PT1H
X-Robots-Tag:noindex
X-PUBLISHED-TTL:PT1H
BEGIN:VTIMEZONE
TZID:Europe/London
BEGIN:DAYLIGHT
TZOFFSETFROM:+0000
TZOFFSETTO:+0100
TZNAME:BST
DTSTART:20250330T010000
END:DAYLIGHT
BEGIN:STANDARD
TZOFFSETFROM:+0100
TZOFFSETTO:+0000
TZNAME:GMT
DTSTART:20251026T010000
END:STANDARD
END:VTIMEZONE
BEGIN:VEVENT
DTSTART;TZID=Europe/London:20250606T100000
DTEND;TZID=Europe/London:20250720T170000
DTSTAMP:20260420T043425
CREATED:20250603T123444Z
LAST-MODIFIED:20250603T141322Z
UID:12002020-1749204000-1753030800@visitnewbury.org.uk
SUMMARY:Wildlife Photographer of the Year 60 exhibition
DESCRIPTION:The 60th instalment of the world-renowned exhibition\, on loan from the Natural History Museum in London\, comes to The Base this summer. \nFrom 10am-5pm Tuesday-Sunday\, stunning images will be on display as Wildlife Photographer of the Year returns to The Base Gallery with 100 stunning photographs showcasing Earth’s extraordinary diversity and highlighting the fragility of wildlife on our planet. \nThe world-renowned exhibition will open at The Base on Friday 6 June\, featuring exceptional images that capture fascinating animal behaviour\, spectacular species and the breathtaking diversity of the natural world. Using photography’s unique emotive power to engage and inspire audiences\, the images shine a light on stories and species around the world and encourage a future of advocating for the planet. \nEstablished in 1965\, it highlights exceptional talent worldwide. With 59\,228 entries from 117 countries and territories all over the world\, winning images are chosen for their creativity\, originality and technical excellence by international experts. \nBook your slot or learn more at the link below.
URL:https://visitnewbury.org.uk/event/wildlife-photographer-of-the-year-60-exhibition/
LOCATION:The Base\, Greenham\, The Base\, Greenham Business Park\, RG19 6HN
CATEGORIES:Art Exhibition,Arts & Culture
ATTACH;FMTTYPE=image/jpeg:https://visitnewbury.org.uk/wp-content/uploads/2025/06/Wildlife-Photographer-of-the-Year-The-Base.jpg
END:VEVENT
END:VCALENDAR