BEGIN:VCALENDAR
VERSION:2.0
PRODID:-//Visit Newbury - ECPv6.13.2.1//NONSGML v1.0//EN
CALSCALE:GREGORIAN
METHOD:PUBLISH
X-ORIGINAL-URL:https://visitnewbury.org.uk
X-WR-CALDESC:Events for Visit Newbury
REFRESH-INTERVAL;VALUE=DURATION:PT1H
X-Robots-Tag:noindex
X-PUBLISHED-TTL:PT1H
BEGIN:VTIMEZONE
TZID:Europe/London
BEGIN:DAYLIGHT
TZOFFSETFROM:+0000
TZOFFSETTO:+0100
TZNAME:BST
DTSTART:20250330T010000
END:DAYLIGHT
BEGIN:STANDARD
TZOFFSETFROM:+0100
TZOFFSETTO:+0000
TZNAME:GMT
DTSTART:20251026T010000
END:STANDARD
END:VTIMEZONE
BEGIN:VEVENT
DTSTART;TZID=Europe/London:20250201T080000
DTEND;TZID=Europe/London:20250201T170000
DTSTAMP:20260424T103339
CREATED:20250122T165513Z
LAST-MODIFIED:20250212T163051Z
UID:10000017-1738396800-1738429200@visitnewbury.org.uk
SUMMARY:Yinka Shonibare CBE: Ritual Ecstasy of the Modern exhibition
DESCRIPTION:This vibrant exhibition at The Base Greenham\, on loan from Cristea Roberts Gallery London\, showcases Shonibare’s evolving printmaking practice over the past several years. \n\n\n\n\nThe globally celebrated artist whose work examines race\, class\, and constructions of cultural identity\, explores the tangled relationships between Africa and Europe. Woodblock prints will be unveiled alongside earlier works featuring the motif of the all-American cowboy and symbols of the British empire. Turner Prize nominee Shonibare has exhibited in some of the most notable collections internationally – don’t miss your chance to see his work in West Berkshire this spring! \n\n Base Pass Holder £0* / Full price £8.25 / Concessions £7.25 / Group of 10+ £6.50 / Students £5 / Under-12s FREE \n*Click here to learn about the Base Pass \n\nImage Credit: Courtesy artist and Cristea Roberts Gallery\, London © Yinka Shonibare CBE
URL:https://visitnewbury.org.uk/event/yinka-shonibare-cbe-ritual-ecstasy-of-the-modern-exhibition/2025-02-01/
LOCATION:The Base\, Greenham\, The Base\, Greenham Business Park\, RG19 6HN
CATEGORIES:Art Exhibition
ATTACH;FMTTYPE=image/png:https://visitnewbury.org.uk/wp-content/uploads/2025/01/Yinka-Shonibare.png
END:VEVENT
BEGIN:VEVENT
DTSTART;TZID=Europe/London:20250204T080000
DTEND;TZID=Europe/London:20250204T170000
DTSTAMP:20260424T103339
CREATED:20250122T165513Z
LAST-MODIFIED:20250212T163051Z
UID:10000018-1738656000-1738688400@visitnewbury.org.uk
SUMMARY:Yinka Shonibare CBE: Ritual Ecstasy of the Modern exhibition
DESCRIPTION:This vibrant exhibition at The Base Greenham\, on loan from Cristea Roberts Gallery London\, showcases Shonibare’s evolving printmaking practice over the past several years. \n\n\n\n\nThe globally celebrated artist whose work examines race\, class\, and constructions of cultural identity\, explores the tangled relationships between Africa and Europe. Woodblock prints will be unveiled alongside earlier works featuring the motif of the all-American cowboy and symbols of the British empire. Turner Prize nominee Shonibare has exhibited in some of the most notable collections internationally – don’t miss your chance to see his work in West Berkshire this spring! \n\n Base Pass Holder £0* / Full price £8.25 / Concessions £7.25 / Group of 10+ £6.50 / Students £5 / Under-12s FREE \n*Click here to learn about the Base Pass \n\nImage Credit: Courtesy artist and Cristea Roberts Gallery\, London © Yinka Shonibare CBE
URL:https://visitnewbury.org.uk/event/yinka-shonibare-cbe-ritual-ecstasy-of-the-modern-exhibition/2025-02-04/
LOCATION:The Base\, Greenham\, The Base\, Greenham Business Park\, RG19 6HN
CATEGORIES:Art Exhibition
ATTACH;FMTTYPE=image/png:https://visitnewbury.org.uk/wp-content/uploads/2025/01/Yinka-Shonibare.png
END:VEVENT
BEGIN:VEVENT
DTSTART;TZID=Europe/London:20250205T080000
DTEND;TZID=Europe/London:20250205T170000
DTSTAMP:20260424T103339
CREATED:20250122T165513Z
LAST-MODIFIED:20250212T163051Z
UID:10000019-1738742400-1738774800@visitnewbury.org.uk
SUMMARY:Yinka Shonibare CBE: Ritual Ecstasy of the Modern exhibition
DESCRIPTION:This vibrant exhibition at The Base Greenham\, on loan from Cristea Roberts Gallery London\, showcases Shonibare’s evolving printmaking practice over the past several years. \n\n\n\n\nThe globally celebrated artist whose work examines race\, class\, and constructions of cultural identity\, explores the tangled relationships between Africa and Europe. Woodblock prints will be unveiled alongside earlier works featuring the motif of the all-American cowboy and symbols of the British empire. Turner Prize nominee Shonibare has exhibited in some of the most notable collections internationally – don’t miss your chance to see his work in West Berkshire this spring! \n\n Base Pass Holder £0* / Full price £8.25 / Concessions £7.25 / Group of 10+ £6.50 / Students £5 / Under-12s FREE \n*Click here to learn about the Base Pass \n\nImage Credit: Courtesy artist and Cristea Roberts Gallery\, London © Yinka Shonibare CBE
URL:https://visitnewbury.org.uk/event/yinka-shonibare-cbe-ritual-ecstasy-of-the-modern-exhibition/2025-02-05/
LOCATION:The Base\, Greenham\, The Base\, Greenham Business Park\, RG19 6HN
CATEGORIES:Art Exhibition
ATTACH;FMTTYPE=image/png:https://visitnewbury.org.uk/wp-content/uploads/2025/01/Yinka-Shonibare.png
END:VEVENT
BEGIN:VEVENT
DTSTART;TZID=Europe/London:20250206T080000
DTEND;TZID=Europe/London:20250206T170000
DTSTAMP:20260424T103339
CREATED:20250122T165513Z
LAST-MODIFIED:20250212T163051Z
UID:10000020-1738828800-1738861200@visitnewbury.org.uk
SUMMARY:Yinka Shonibare CBE: Ritual Ecstasy of the Modern exhibition
DESCRIPTION:This vibrant exhibition at The Base Greenham\, on loan from Cristea Roberts Gallery London\, showcases Shonibare’s evolving printmaking practice over the past several years. \n\n\n\n\nThe globally celebrated artist whose work examines race\, class\, and constructions of cultural identity\, explores the tangled relationships between Africa and Europe. Woodblock prints will be unveiled alongside earlier works featuring the motif of the all-American cowboy and symbols of the British empire. Turner Prize nominee Shonibare has exhibited in some of the most notable collections internationally – don’t miss your chance to see his work in West Berkshire this spring! \n\n Base Pass Holder £0* / Full price £8.25 / Concessions £7.25 / Group of 10+ £6.50 / Students £5 / Under-12s FREE \n*Click here to learn about the Base Pass \n\nImage Credit: Courtesy artist and Cristea Roberts Gallery\, London © Yinka Shonibare CBE
URL:https://visitnewbury.org.uk/event/yinka-shonibare-cbe-ritual-ecstasy-of-the-modern-exhibition/2025-02-06/
LOCATION:The Base\, Greenham\, The Base\, Greenham Business Park\, RG19 6HN
CATEGORIES:Art Exhibition
ATTACH;FMTTYPE=image/png:https://visitnewbury.org.uk/wp-content/uploads/2025/01/Yinka-Shonibare.png
END:VEVENT
BEGIN:VEVENT
DTSTART;TZID=Europe/London:20250207T080000
DTEND;TZID=Europe/London:20250207T170000
DTSTAMP:20260424T103339
CREATED:20250122T165513Z
LAST-MODIFIED:20250212T163051Z
UID:10000021-1738915200-1738947600@visitnewbury.org.uk
SUMMARY:Yinka Shonibare CBE: Ritual Ecstasy of the Modern exhibition
DESCRIPTION:This vibrant exhibition at The Base Greenham\, on loan from Cristea Roberts Gallery London\, showcases Shonibare’s evolving printmaking practice over the past several years. \n\n\n\n\nThe globally celebrated artist whose work examines race\, class\, and constructions of cultural identity\, explores the tangled relationships between Africa and Europe. Woodblock prints will be unveiled alongside earlier works featuring the motif of the all-American cowboy and symbols of the British empire. Turner Prize nominee Shonibare has exhibited in some of the most notable collections internationally – don’t miss your chance to see his work in West Berkshire this spring! \n\n Base Pass Holder £0* / Full price £8.25 / Concessions £7.25 / Group of 10+ £6.50 / Students £5 / Under-12s FREE \n*Click here to learn about the Base Pass \n\nImage Credit: Courtesy artist and Cristea Roberts Gallery\, London © Yinka Shonibare CBE
URL:https://visitnewbury.org.uk/event/yinka-shonibare-cbe-ritual-ecstasy-of-the-modern-exhibition/2025-02-07/
LOCATION:The Base\, Greenham\, The Base\, Greenham Business Park\, RG19 6HN
CATEGORIES:Art Exhibition
ATTACH;FMTTYPE=image/png:https://visitnewbury.org.uk/wp-content/uploads/2025/01/Yinka-Shonibare.png
END:VEVENT
BEGIN:VEVENT
DTSTART;TZID=Europe/London:20250208T080000
DTEND;TZID=Europe/London:20250208T170000
DTSTAMP:20260424T103339
CREATED:20250122T165513Z
LAST-MODIFIED:20250212T163051Z
UID:10000022-1739001600-1739034000@visitnewbury.org.uk
SUMMARY:Yinka Shonibare CBE: Ritual Ecstasy of the Modern exhibition
DESCRIPTION:This vibrant exhibition at The Base Greenham\, on loan from Cristea Roberts Gallery London\, showcases Shonibare’s evolving printmaking practice over the past several years. \n\n\n\n\nThe globally celebrated artist whose work examines race\, class\, and constructions of cultural identity\, explores the tangled relationships between Africa and Europe. Woodblock prints will be unveiled alongside earlier works featuring the motif of the all-American cowboy and symbols of the British empire. Turner Prize nominee Shonibare has exhibited in some of the most notable collections internationally – don’t miss your chance to see his work in West Berkshire this spring! \n\n Base Pass Holder £0* / Full price £8.25 / Concessions £7.25 / Group of 10+ £6.50 / Students £5 / Under-12s FREE \n*Click here to learn about the Base Pass \n\nImage Credit: Courtesy artist and Cristea Roberts Gallery\, London © Yinka Shonibare CBE
URL:https://visitnewbury.org.uk/event/yinka-shonibare-cbe-ritual-ecstasy-of-the-modern-exhibition/2025-02-08/
LOCATION:The Base\, Greenham\, The Base\, Greenham Business Park\, RG19 6HN
CATEGORIES:Art Exhibition
ATTACH;FMTTYPE=image/png:https://visitnewbury.org.uk/wp-content/uploads/2025/01/Yinka-Shonibare.png
END:VEVENT
BEGIN:VEVENT
DTSTART;TZID=Europe/London:20250211T080000
DTEND;TZID=Europe/London:20250211T170000
DTSTAMP:20260424T103339
CREATED:20250122T165513Z
LAST-MODIFIED:20250212T163051Z
UID:10000023-1739260800-1739293200@visitnewbury.org.uk
SUMMARY:Yinka Shonibare CBE: Ritual Ecstasy of the Modern exhibition
DESCRIPTION:This vibrant exhibition at The Base Greenham\, on loan from Cristea Roberts Gallery London\, showcases Shonibare’s evolving printmaking practice over the past several years. \n\n\n\n\nThe globally celebrated artist whose work examines race\, class\, and constructions of cultural identity\, explores the tangled relationships between Africa and Europe. Woodblock prints will be unveiled alongside earlier works featuring the motif of the all-American cowboy and symbols of the British empire. Turner Prize nominee Shonibare has exhibited in some of the most notable collections internationally – don’t miss your chance to see his work in West Berkshire this spring! \n\n Base Pass Holder £0* / Full price £8.25 / Concessions £7.25 / Group of 10+ £6.50 / Students £5 / Under-12s FREE \n*Click here to learn about the Base Pass \n\nImage Credit: Courtesy artist and Cristea Roberts Gallery\, London © Yinka Shonibare CBE
URL:https://visitnewbury.org.uk/event/yinka-shonibare-cbe-ritual-ecstasy-of-the-modern-exhibition/2025-02-11/
LOCATION:The Base\, Greenham\, The Base\, Greenham Business Park\, RG19 6HN
CATEGORIES:Art Exhibition
ATTACH;FMTTYPE=image/png:https://visitnewbury.org.uk/wp-content/uploads/2025/01/Yinka-Shonibare.png
END:VEVENT
BEGIN:VEVENT
DTSTART;TZID=Europe/London:20250212T080000
DTEND;TZID=Europe/London:20250212T170000
DTSTAMP:20260424T103339
CREATED:20250122T165513Z
LAST-MODIFIED:20250212T163051Z
UID:10000024-1739347200-1739379600@visitnewbury.org.uk
SUMMARY:Yinka Shonibare CBE: Ritual Ecstasy of the Modern exhibition
DESCRIPTION:This vibrant exhibition at The Base Greenham\, on loan from Cristea Roberts Gallery London\, showcases Shonibare’s evolving printmaking practice over the past several years. \n\n\n\n\nThe globally celebrated artist whose work examines race\, class\, and constructions of cultural identity\, explores the tangled relationships between Africa and Europe. Woodblock prints will be unveiled alongside earlier works featuring the motif of the all-American cowboy and symbols of the British empire. Turner Prize nominee Shonibare has exhibited in some of the most notable collections internationally – don’t miss your chance to see his work in West Berkshire this spring! \n\n Base Pass Holder £0* / Full price £8.25 / Concessions £7.25 / Group of 10+ £6.50 / Students £5 / Under-12s FREE \n*Click here to learn about the Base Pass \n\nImage Credit: Courtesy artist and Cristea Roberts Gallery\, London © Yinka Shonibare CBE
URL:https://visitnewbury.org.uk/event/yinka-shonibare-cbe-ritual-ecstasy-of-the-modern-exhibition/2025-02-12/
LOCATION:The Base\, Greenham\, The Base\, Greenham Business Park\, RG19 6HN
CATEGORIES:Art Exhibition
ATTACH;FMTTYPE=image/png:https://visitnewbury.org.uk/wp-content/uploads/2025/01/Yinka-Shonibare.png
END:VEVENT
BEGIN:VEVENT
DTSTART;TZID=Europe/London:20250213T080000
DTEND;TZID=Europe/London:20250213T170000
DTSTAMP:20260424T103339
CREATED:20250122T165513Z
LAST-MODIFIED:20250212T163051Z
UID:10000025-1739433600-1739466000@visitnewbury.org.uk
SUMMARY:Yinka Shonibare CBE: Ritual Ecstasy of the Modern exhibition
DESCRIPTION:This vibrant exhibition at The Base Greenham\, on loan from Cristea Roberts Gallery London\, showcases Shonibare’s evolving printmaking practice over the past several years. \n\n\n\n\nThe globally celebrated artist whose work examines race\, class\, and constructions of cultural identity\, explores the tangled relationships between Africa and Europe. Woodblock prints will be unveiled alongside earlier works featuring the motif of the all-American cowboy and symbols of the British empire. Turner Prize nominee Shonibare has exhibited in some of the most notable collections internationally – don’t miss your chance to see his work in West Berkshire this spring! \n\n Base Pass Holder £0* / Full price £8.25 / Concessions £7.25 / Group of 10+ £6.50 / Students £5 / Under-12s FREE \n*Click here to learn about the Base Pass \n\nImage Credit: Courtesy artist and Cristea Roberts Gallery\, London © Yinka Shonibare CBE
URL:https://visitnewbury.org.uk/event/yinka-shonibare-cbe-ritual-ecstasy-of-the-modern-exhibition/2025-02-13/
LOCATION:The Base\, Greenham\, The Base\, Greenham Business Park\, RG19 6HN
CATEGORIES:Art Exhibition
ATTACH;FMTTYPE=image/png:https://visitnewbury.org.uk/wp-content/uploads/2025/01/Yinka-Shonibare.png
END:VEVENT
BEGIN:VEVENT
DTSTART;TZID=Europe/London:20250214T080000
DTEND;TZID=Europe/London:20250214T170000
DTSTAMP:20260424T103339
CREATED:20250122T165513Z
LAST-MODIFIED:20250212T163051Z
UID:10000026-1739520000-1739552400@visitnewbury.org.uk
SUMMARY:Yinka Shonibare CBE: Ritual Ecstasy of the Modern exhibition
DESCRIPTION:This vibrant exhibition at The Base Greenham\, on loan from Cristea Roberts Gallery London\, showcases Shonibare’s evolving printmaking practice over the past several years. \n\n\n\n\nThe globally celebrated artist whose work examines race\, class\, and constructions of cultural identity\, explores the tangled relationships between Africa and Europe. Woodblock prints will be unveiled alongside earlier works featuring the motif of the all-American cowboy and symbols of the British empire. Turner Prize nominee Shonibare has exhibited in some of the most notable collections internationally – don’t miss your chance to see his work in West Berkshire this spring! \n\n Base Pass Holder £0* / Full price £8.25 / Concessions £7.25 / Group of 10+ £6.50 / Students £5 / Under-12s FREE \n*Click here to learn about the Base Pass \n\nImage Credit: Courtesy artist and Cristea Roberts Gallery\, London © Yinka Shonibare CBE
URL:https://visitnewbury.org.uk/event/yinka-shonibare-cbe-ritual-ecstasy-of-the-modern-exhibition/2025-02-14/
LOCATION:The Base\, Greenham\, The Base\, Greenham Business Park\, RG19 6HN
CATEGORIES:Art Exhibition
ATTACH;FMTTYPE=image/png:https://visitnewbury.org.uk/wp-content/uploads/2025/01/Yinka-Shonibare.png
END:VEVENT
BEGIN:VEVENT
DTSTART;TZID=Europe/London:20250215T080000
DTEND;TZID=Europe/London:20250215T170000
DTSTAMP:20260424T103339
CREATED:20250122T165513Z
LAST-MODIFIED:20250212T163051Z
UID:10000027-1739606400-1739638800@visitnewbury.org.uk
SUMMARY:Yinka Shonibare CBE: Ritual Ecstasy of the Modern exhibition
DESCRIPTION:This vibrant exhibition at The Base Greenham\, on loan from Cristea Roberts Gallery London\, showcases Shonibare’s evolving printmaking practice over the past several years. \n\n\n\n\nThe globally celebrated artist whose work examines race\, class\, and constructions of cultural identity\, explores the tangled relationships between Africa and Europe. Woodblock prints will be unveiled alongside earlier works featuring the motif of the all-American cowboy and symbols of the British empire. Turner Prize nominee Shonibare has exhibited in some of the most notable collections internationally – don’t miss your chance to see his work in West Berkshire this spring! \n\n Base Pass Holder £0* / Full price £8.25 / Concessions £7.25 / Group of 10+ £6.50 / Students £5 / Under-12s FREE \n*Click here to learn about the Base Pass \n\nImage Credit: Courtesy artist and Cristea Roberts Gallery\, London © Yinka Shonibare CBE
URL:https://visitnewbury.org.uk/event/yinka-shonibare-cbe-ritual-ecstasy-of-the-modern-exhibition/2025-02-15/
LOCATION:The Base\, Greenham\, The Base\, Greenham Business Park\, RG19 6HN
CATEGORIES:Art Exhibition
ATTACH;FMTTYPE=image/png:https://visitnewbury.org.uk/wp-content/uploads/2025/01/Yinka-Shonibare.png
END:VEVENT
BEGIN:VEVENT
DTSTART;TZID=Europe/London:20250218T080000
DTEND;TZID=Europe/London:20250218T170000
DTSTAMP:20260424T103339
CREATED:20250122T165513Z
LAST-MODIFIED:20250212T163051Z
UID:10000028-1739865600-1739898000@visitnewbury.org.uk
SUMMARY:Yinka Shonibare CBE: Ritual Ecstasy of the Modern exhibition
DESCRIPTION:This vibrant exhibition at The Base Greenham\, on loan from Cristea Roberts Gallery London\, showcases Shonibare’s evolving printmaking practice over the past several years. \n\n\n\n\nThe globally celebrated artist whose work examines race\, class\, and constructions of cultural identity\, explores the tangled relationships between Africa and Europe. Woodblock prints will be unveiled alongside earlier works featuring the motif of the all-American cowboy and symbols of the British empire. Turner Prize nominee Shonibare has exhibited in some of the most notable collections internationally – don’t miss your chance to see his work in West Berkshire this spring! \n\n Base Pass Holder £0* / Full price £8.25 / Concessions £7.25 / Group of 10+ £6.50 / Students £5 / Under-12s FREE \n*Click here to learn about the Base Pass \n\nImage Credit: Courtesy artist and Cristea Roberts Gallery\, London © Yinka Shonibare CBE
URL:https://visitnewbury.org.uk/event/yinka-shonibare-cbe-ritual-ecstasy-of-the-modern-exhibition/2025-02-18/
LOCATION:The Base\, Greenham\, The Base\, Greenham Business Park\, RG19 6HN
CATEGORIES:Art Exhibition
ATTACH;FMTTYPE=image/png:https://visitnewbury.org.uk/wp-content/uploads/2025/01/Yinka-Shonibare.png
END:VEVENT
BEGIN:VEVENT
DTSTART;TZID=Europe/London:20250219T080000
DTEND;TZID=Europe/London:20250219T170000
DTSTAMP:20260424T103339
CREATED:20250219T123421Z
LAST-MODIFIED:20250219T123421Z
UID:10000029-1739952000-1739984400@visitnewbury.org.uk
SUMMARY:Yinka Shonibare CBE: Ritual Ecstasy of the Modern exhibition
DESCRIPTION:This vibrant exhibition at The Base Greenham\, on loan from Cristea Roberts Gallery London\, showcases Shonibare’s evolving printmaking practice over the past several years. \n\n\n\n\nThe globally celebrated artist whose work examines race\, class\, and constructions of cultural identity\, explores the tangled relationships between Africa and Europe. Woodblock prints will be unveiled alongside earlier works featuring the motif of the all-American cowboy and symbols of the British empire. Turner Prize nominee Shonibare has exhibited in some of the most notable collections internationally – don’t miss your chance to see his work in West Berkshire this spring! \n\n Base Pass Holder £0* / Full price £8.25 / Concessions £7.25 / Group of 10+ £6.50 / Students £5 / Under-12s FREE \n*Click here to learn about the Base Pass \n\nImage Credit: Courtesy artist and Cristea Roberts Gallery\, London © Yinka Shonibare CBE
URL:https://visitnewbury.org.uk/event/yinka-shonibare-cbe-ritual-ecstasy-of-the-modern-exhibition-3/
LOCATION:The Base\, Greenham\, The Base\, Greenham Business Park\, RG19 6HN
CATEGORIES:Art Exhibition
ATTACH;FMTTYPE=image/png:https://visitnewbury.org.uk/wp-content/uploads/2025/01/Yinka-Shonibare.png
END:VEVENT
BEGIN:VEVENT
DTSTART;TZID=Europe/London:20250220T080000
DTEND;TZID=Europe/London:20250220T170000
DTSTAMP:20260424T103339
CREATED:20250219T123816Z
LAST-MODIFIED:20250219T123816Z
UID:10000030-1740038400-1740070800@visitnewbury.org.uk
SUMMARY:Yinka Shonibare CBE: Ritual Ecstasy of the Modern exhibition
DESCRIPTION:This vibrant exhibition at The Base Greenham\, on loan from Cristea Roberts Gallery London\, showcases Shonibare’s evolving printmaking practice over the past several years. \n\n\n\n\nThe globally celebrated artist whose work examines race\, class\, and constructions of cultural identity\, explores the tangled relationships between Africa and Europe. Woodblock prints will be unveiled alongside earlier works featuring the motif of the all-American cowboy and symbols of the British empire. Turner Prize nominee Shonibare has exhibited in some of the most notable collections internationally – don’t miss your chance to see his work in West Berkshire this spring! \n\n Base Pass Holder £0* / Full price £8.25 / Concessions £7.25 / Group of 10+ £6.50 / Students £5 / Under-12s FREE \n*Click here to learn about the Base Pass \n\nImage Credit: Courtesy artist and Cristea Roberts Gallery\, London © Yinka Shonibare CBE
URL:https://visitnewbury.org.uk/event/yinka-shonibare-cbe-ritual-ecstasy-of-the-modern-exhibition-3-2/2025-02-20/
LOCATION:The Base\, Greenham\, The Base\, Greenham Business Park\, RG19 6HN
CATEGORIES:Art Exhibition
ATTACH;FMTTYPE=image/png:https://visitnewbury.org.uk/wp-content/uploads/2025/01/Yinka-Shonibare.png
END:VEVENT
BEGIN:VEVENT
DTSTART;TZID=Europe/London:20250221T080000
DTEND;TZID=Europe/London:20250221T170000
DTSTAMP:20260424T103339
CREATED:20250219T123816Z
LAST-MODIFIED:20250219T123816Z
UID:10000031-1740124800-1740157200@visitnewbury.org.uk
SUMMARY:Yinka Shonibare CBE: Ritual Ecstasy of the Modern exhibition
DESCRIPTION:This vibrant exhibition at The Base Greenham\, on loan from Cristea Roberts Gallery London\, showcases Shonibare’s evolving printmaking practice over the past several years. \n\n\n\n\nThe globally celebrated artist whose work examines race\, class\, and constructions of cultural identity\, explores the tangled relationships between Africa and Europe. Woodblock prints will be unveiled alongside earlier works featuring the motif of the all-American cowboy and symbols of the British empire. Turner Prize nominee Shonibare has exhibited in some of the most notable collections internationally – don’t miss your chance to see his work in West Berkshire this spring! \n\n Base Pass Holder £0* / Full price £8.25 / Concessions £7.25 / Group of 10+ £6.50 / Students £5 / Under-12s FREE \n*Click here to learn about the Base Pass \n\nImage Credit: Courtesy artist and Cristea Roberts Gallery\, London © Yinka Shonibare CBE
URL:https://visitnewbury.org.uk/event/yinka-shonibare-cbe-ritual-ecstasy-of-the-modern-exhibition-3-2/2025-02-21/
LOCATION:The Base\, Greenham\, The Base\, Greenham Business Park\, RG19 6HN
CATEGORIES:Art Exhibition
ATTACH;FMTTYPE=image/png:https://visitnewbury.org.uk/wp-content/uploads/2025/01/Yinka-Shonibare.png
END:VEVENT
BEGIN:VEVENT
DTSTART;TZID=Europe/London:20250222T080000
DTEND;TZID=Europe/London:20250222T170000
DTSTAMP:20260424T103339
CREATED:20250219T130051Z
LAST-MODIFIED:20250219T130052Z
UID:10000032-1740211200-1740243600@visitnewbury.org.uk
SUMMARY:Yinka Shonibare CBE: Ritual Ecstasy of the Modern exhibition
DESCRIPTION:This vibrant exhibition at The Base Greenham\, on loan from Cristea Roberts Gallery London\, showcases Shonibare’s evolving printmaking practice over the past several years. \n\n\n\n\nThe globally celebrated artist whose work examines race\, class\, and constructions of cultural identity\, explores the tangled relationships between Africa and Europe. Woodblock prints will be unveiled alongside earlier works featuring the motif of the all-American cowboy and symbols of the British empire. Turner Prize nominee Shonibare has exhibited in some of the most notable collections internationally – don’t miss your chance to see his work in West Berkshire this spring! \n\n Base Pass Holder £0* / Full price £8.25 / Concessions £7.25 / Group of 10+ £6.50 / Students £5 / Under-12s FREE \n*Click here to learn about the Base Pass \n\nImage Credit: Courtesy artist and Cristea Roberts Gallery\, London © Yinka Shonibare CBE
URL:https://visitnewbury.org.uk/event/yinka-shonibare-cbe-ritual-ecstasy-of-the-modern-exhibition-3-2-2/
LOCATION:The Base\, Greenham\, The Base\, Greenham Business Park\, RG19 6HN
CATEGORIES:Art Exhibition
ATTACH;FMTTYPE=image/png:https://visitnewbury.org.uk/wp-content/uploads/2025/01/Yinka-Shonibare.png
END:VEVENT
BEGIN:VEVENT
DTSTART;TZID=Europe/London:20250223T080000
DTEND;TZID=Europe/London:20250223T170000
DTSTAMP:20260424T103339
CREATED:20250219T130342Z
LAST-MODIFIED:20250219T130342Z
UID:11000326-1740297600-1740330000@visitnewbury.org.uk
SUMMARY:Yinka Shonibare CBE: Ritual Ecstasy of the Modern exhibition
DESCRIPTION:This vibrant exhibition at The Base Greenham\, on loan from Cristea Roberts Gallery London\, showcases Shonibare’s evolving printmaking practice over the past several years. \n\n\n\n\nThe globally celebrated artist whose work examines race\, class\, and constructions of cultural identity\, explores the tangled relationships between Africa and Europe. Woodblock prints will be unveiled alongside earlier works featuring the motif of the all-American cowboy and symbols of the British empire. Turner Prize nominee Shonibare has exhibited in some of the most notable collections internationally – don’t miss your chance to see his work in West Berkshire this spring! \n\n Base Pass Holder £0* / Full price £8.25 / Concessions £7.25 / Group of 10+ £6.50 / Students £5 / Under-12s FREE \n*Click here to learn about the Base Pass \n\nImage Credit: Courtesy artist and Cristea Roberts Gallery\, London © Yinka Shonibare CBE
URL:https://visitnewbury.org.uk/event/yinka-shonibare-cbe-ritual-ecstasy-of-the-modern-exhibition-2/
LOCATION:The Base\, Greenham\, The Base\, Greenham Business Park\, RG19 6HN
CATEGORIES:Art Exhibition
ATTACH;FMTTYPE=image/png:https://visitnewbury.org.uk/wp-content/uploads/2025/01/Yinka-Shonibare.png
END:VEVENT
END:VCALENDAR