BEGIN:VCALENDAR
VERSION:2.0
PRODID:-//Visit Newbury - ECPv6.13.2.1//NONSGML v1.0//EN
CALSCALE:GREGORIAN
METHOD:PUBLISH
X-WR-CALNAME:Visit Newbury
X-ORIGINAL-URL:https://visitnewbury.org.uk
X-WR-CALDESC:Events for Visit Newbury
REFRESH-INTERVAL;VALUE=DURATION:PT1H
X-Robots-Tag:noindex
X-PUBLISHED-TTL:PT1H
BEGIN:VTIMEZONE
TZID:Europe/London
BEGIN:DAYLIGHT
TZOFFSETFROM:+0000
TZOFFSETTO:+0100
TZNAME:BST
DTSTART:20260329T010000
END:DAYLIGHT
BEGIN:STANDARD
TZOFFSETFROM:+0100
TZOFFSETTO:+0000
TZNAME:GMT
DTSTART:20261025T010000
END:STANDARD
END:VTIMEZONE
BEGIN:VEVENT
DTSTART;TZID=Europe/London:20260227T100000
DTEND;TZID=Europe/London:20260426T170000
DTSTAMP:20260422T020033
CREATED:20260123T165942Z
LAST-MODIFIED:20260123T165942Z
UID:12003241-1772186400-1777222800@visitnewbury.org.uk
SUMMARY:Wildlife Photographer of the Year 61
DESCRIPTION:The world’s finest nature images are revealed as Wildlife Photographer of the Year 61 comes to The Base! \nThe world-renowned exhibition\, now in its 61st year and on loan from the Natural History Museum in London\, features some of the most exceptional nature photography taken today from across the globe. The exhibition shines a light on powerful and fascinating images that capture hidden animal behaviour\, spectacular species and the breathtaking diversity of the natural world. Using photography’s unique emotive power to engage and inspire audiences\, the images share stories and species from around the world\, encouraging a future of advocating for the planet. \nThe exhibition runs from 27th February to 26th April\, and is open from 10am to 5pm each day (closed Mondays). \nSpecial dates to keep in mind: \nSongs & Stories in the Gallery: Saturday 7th and Thursday 19th March\, Thursday 2nd & Saturday 11th April\nGallery Lates: Thursday 12th March & Thursday 2nd April – the gallery will be open until 8pm\nPoetry Open Mic Night: Thursday 19th March\nFamily Day: Satursday 21st March\nRelaxed Day: Thursday 26th March & Thursday 9th April \nClick the link below to learn more about the exhibition\, the special dates above\, or to book your tickets.
URL:https://visitnewbury.org.uk/event/wildlife-photographer-of-the-year-61/
LOCATION:The Base\, Greenham\, The Base\, Greenham Business Park\, RG19 6HN
CATEGORIES:Art Exhibition
ATTACH;FMTTYPE=image/png:https://visitnewbury.org.uk/wp-content/uploads/2026/01/Wildlife-Photographer-of-the-Year-61-The-Base-Greenham.png
END:VEVENT
BEGIN:VEVENT
DTSTART;TZID=Europe/London:20260327T193000
DTEND;TZID=Europe/London:20260509T193000
DTSTAMP:20260422T020033
CREATED:20260319T180359Z
LAST-MODIFIED:20260319T181001Z
UID:12003614-1774639800-1778355000@visitnewbury.org.uk
SUMMARY:Victoria: A Queen Unbound
DESCRIPTION:“Diaries survive while feelings slip away. They are the skeleton on which posterity puts flesh.” \nOsborne House 1901. As Victoria faces the final days of her reign\, she clings to her diaries\, the carefully kept record of a life defined by love\, duty and profound loss. Into this certainty comes her younger self\, forcing the older Victoria to confront memories she’s chosen to bury and truths she’s decided to forget. \nVictoria and Albert are celebrated as one of history’s great love stories. Victoria had nine children with Albert\, and after his premature death at 42\, she spent the rest of her life mourning her ‘dearest angel’. At least that is the story told in her diaries. But does writing something make it true? Looking back at a young queen\, this new play tells the story of a woman pregnant for most of her 20s and 30s\, gradually surrendering her strength and authority to her controlling husband\, and growing increasingly lonely in her crumbling marriage. \nA world premiere\, from Daisy Goodwin\, the creator of the novel and ITV drama\, Victoria\, this new play offers a fresh perspective on one of history’s greatest monarchs. \nYou can find all performance times and book your tickets via the link below.
URL:https://visitnewbury.org.uk/event/victoria-a-queen-unbound/
LOCATION:Watermill Theatre\, RG20 8AE
CATEGORIES:Theatre
ATTACH;FMTTYPE=image/jpeg:https://visitnewbury.org.uk/wp-content/uploads/2026/03/Victoria-A-Queen-Unbound-Watermill-Theatre.jpg
END:VEVENT
BEGIN:VEVENT
DTSTART;TZID=Europe/London:20260422T100000
DTEND;TZID=Europe/London:20260422T160000
DTSTAMP:20260422T020033
CREATED:20260309T113547Z
LAST-MODIFIED:20260416T092330Z
UID:12003595-1776852000-1776873600@visitnewbury.org.uk
SUMMARY:Dementia Clinics
DESCRIPTION:Dementia UK’s Admiral Nurse clinics will be returning to Nationwide Building Society in Newbury in April 2026. \nThe clinics are free and there is no need or expectation to be a customer of Nationwide Building Society to access them. \nThe free clinics are for people who are worried about their own memory or that of someone else\, for anyone who has been diagnosed with dementia\, and carers of people living with dementia. \nAdmiral Nurses (specialist dementia nurses provided by Dementia UK) support with all aspects of dementia care such as: \n\nSupport around getting a diagnosis\nUnderstanding symptoms of dementia including how to respond to behaviour\nCommunicating with the person living with dementia\nPlanning future care\nGrief\, loss and bereavement\nTransitions in care\n\nTo book your appointment\, head to the link below\, or speak to a colleague in the Nationwide Branch. You can also text the word APPOINTMENT to 07478 724 000.
URL:https://visitnewbury.org.uk/event/dementia-clinics/2026-04-22/
LOCATION:Nationwide Building Society\, Nationwide Building Society\, RG14 1ND
CATEGORIES:Health & Wellbeing
ATTACH;FMTTYPE=image/jpeg:https://visitnewbury.org.uk/wp-content/uploads/2026/03/Newbury-Dementia-Clinics-April-2026-scaled.jpg
END:VEVENT
BEGIN:VEVENT
DTSTART;TZID=Europe/London:20260422T190000
DTEND;TZID=Europe/London:20260422T223000
DTSTAMP:20260422T020033
CREATED:20260203T162940Z
LAST-MODIFIED:20260203T162940Z
UID:12003356-1776884400-1776897000@visitnewbury.org.uk
SUMMARY:Newbury Offline Club: Parched
DESCRIPTION:An offline night of cocktails (other drinks are available!) and good conversation with the odd game thrown in too. \nHead to the link below to book your ticket.
URL:https://visitnewbury.org.uk/event/newbury-offline-club-april22nd/
LOCATION:Parched\, Parched\, RG14 5LL
CATEGORIES:Pub & Restaurant Events
ATTACH;FMTTYPE=image/jpeg:https://visitnewbury.org.uk/wp-content/uploads/2026/02/Newbury-Offline-Club.jpg
END:VEVENT
BEGIN:VEVENT
DTSTART;TZID=Europe/London:20260422T193000
DTEND;TZID=Europe/London:20260422T220000
DTSTAMP:20260422T020033
CREATED:20260216T165447Z
LAST-MODIFIED:20260216T165447Z
UID:12003545-1776886200-1776895200@visitnewbury.org.uk
SUMMARY:Quiz Night at The Dolphin
DESCRIPTION:Don’t miss Quiz Night at The Dolphin\, taking place every Wednesday from 7:30pm to 10pm – book your table by visiting the pub’s website in the link below!
URL:https://visitnewbury.org.uk/event/quiz-night-at-the-dolphin/2026-04-22/
LOCATION:The Dolphin\, The Dolphin Newbury\, RG14 5DT
CATEGORIES:Pub & Restaurant Events,Quiz
ATTACH;FMTTYPE=image/jpeg:https://visitnewbury.org.uk/wp-content/uploads/2026/02/The-Dolphin-Pub-Quiz-e1771260577394.jpg
END:VEVENT
END:VCALENDAR