BEGIN:VCALENDAR
VERSION:2.0
PRODID:-//Visit Newbury - ECPv6.13.2.1//NONSGML v1.0//EN
CALSCALE:GREGORIAN
METHOD:PUBLISH
X-WR-CALNAME:Visit Newbury
X-ORIGINAL-URL:https://visitnewbury.org.uk
X-WR-CALDESC:Events for Visit Newbury
REFRESH-INTERVAL;VALUE=DURATION:PT1H
X-Robots-Tag:noindex
X-PUBLISHED-TTL:PT1H
BEGIN:VTIMEZONE
TZID:Europe/London
BEGIN:DAYLIGHT
TZOFFSETFROM:+0000
TZOFFSETTO:+0100
TZNAME:BST
DTSTART:20250330T010000
END:DAYLIGHT
BEGIN:STANDARD
TZOFFSETFROM:+0100
TZOFFSETTO:+0000
TZNAME:GMT
DTSTART:20251026T010000
END:STANDARD
END:VTIMEZONE
BEGIN:VEVENT
DTSTART;TZID=Europe/London:20250927T150000
DTEND;TZID=Europe/London:20250927T150000
DTSTAMP:20260421T163335
CREATED:20250904T235249Z
LAST-MODIFIED:20250904T235249Z
UID:1126846-1758985200-1758985200@visitnewbury.org.uk
SUMMARY:Wunderbar Saturday
DESCRIPTION:It’s the second of two Wunderbar Saturday events at The Bacon Arms! \nGet ready to raise your steins and celebrate Oktoberfest\, with an incredible line up of food\, drinks\, dancing\, and of course\, plenty of music. \nAll ages welcome
URL:https://visitnewbury.org.uk/event/wunderbar-saturday-2/
LOCATION:The Bacon Arms\, The Bacon Arms\, RG14 1JB
CATEGORIES:Pub & Restaurant Events
ATTACH;FMTTYPE=image/avif:https://visitnewbury.org.uk/wp-content/uploads/2025/09/Wunderbar-Saturday-Bacon-Arms-e1757029715560.avif
END:VEVENT
END:VCALENDAR