BEGIN:VCALENDAR
VERSION:2.0
PRODID:-//Visit Newbury - ECPv6.13.2.1//NONSGML v1.0//EN
CALSCALE:GREGORIAN
METHOD:PUBLISH
X-WR-CALNAME:Visit Newbury
X-ORIGINAL-URL:https://visitnewbury.org.uk
X-WR-CALDESC:Events for Visit Newbury
REFRESH-INTERVAL;VALUE=DURATION:PT1H
X-Robots-Tag:noindex
X-PUBLISHED-TTL:PT1H
BEGIN:VTIMEZONE
TZID:Europe/London
BEGIN:DAYLIGHT
TZOFFSETFROM:+0000
TZOFFSETTO:+0100
TZNAME:BST
DTSTART:20250330T010000
END:DAYLIGHT
BEGIN:STANDARD
TZOFFSETFROM:+0100
TZOFFSETTO:+0000
TZNAME:GMT
DTSTART:20251026T010000
END:STANDARD
END:VTIMEZONE
BEGIN:VEVENT
DTSTART;TZID=Europe/London:20250823T150000
DTEND;TZID=Europe/London:20250823T170000
DTSTAMP:20260419T141001
CREATED:20250822T094349Z
LAST-MODIFIED:20250822T094349Z
UID:1126728-1755961200-1755968400@visitnewbury.org.uk
SUMMARY:Worship in the Park
DESCRIPTION:St Nic’s Band will be performing uplifting tunes in Victoria Park Bandstand between 3pm and 5pm. \nFree to attend\, so why not round up a few friends and bring along a picnic!
URL:https://visitnewbury.org.uk/event/worship-in-the-park/
LOCATION:Victoria Park\, Victoria Park\, Newbury\, RG14 1DJ
CATEGORIES:Live Music
ATTACH;FMTTYPE=image/jpeg:https://visitnewbury.org.uk/wp-content/uploads/2025/08/Worship-in-the-Park.jpg
END:VEVENT
END:VCALENDAR