BEGIN:VCALENDAR
VERSION:2.0
PRODID:-//Visit Newbury - ECPv6.13.2.1//NONSGML v1.0//EN
CALSCALE:GREGORIAN
METHOD:PUBLISH
X-WR-CALNAME:Visit Newbury
X-ORIGINAL-URL:https://visitnewbury.org.uk
X-WR-CALDESC:Events for Visit Newbury
REFRESH-INTERVAL;VALUE=DURATION:PT1H
X-Robots-Tag:noindex
X-PUBLISHED-TTL:PT1H
BEGIN:VTIMEZONE
TZID:Europe/London
BEGIN:DAYLIGHT
TZOFFSETFROM:+0000
TZOFFSETTO:+0100
TZNAME:BST
DTSTART:20250330T010000
END:DAYLIGHT
BEGIN:STANDARD
TZOFFSETFROM:+0100
TZOFFSETTO:+0000
TZNAME:GMT
DTSTART:20251026T010000
END:STANDARD
END:VTIMEZONE
BEGIN:VEVENT
DTSTART;TZID=Europe/London:20250801T100000
DTEND;TZID=Europe/London:20250906T170000
DTSTAMP:20260425T145205
CREATED:20250730T112223Z
LAST-MODIFIED:20250812T133535Z
UID:1126477-1754042400-1757178000@visitnewbury.org.uk
SUMMARY:Wild Walls Exhibition
DESCRIPTION:This summer\, immerse yourself in nature as The Base’s gallery will be transformed by street artist Katie O! \nCelebrate our local landscape and the creatures that live there\, as you explore the mural adorned walls inspired by the scenery and wildlife of Greenham Common\, which this year marks its 25th anniversary of being reopened to the public. Visitors of all ages can enter this immersive environment and explore Katie’s nature-themed designs around the gallery\, spotting familiar landmarks\, animals\, birds\, insects\, and plants along the way. \nMake your mark on the huge gallery doodle wall\, complete guided activity sheets\, and enjoy creature-spotting opportunities\, wax-rubbing\, papercrafts and colouring; we’ll have plenty to entertain nature and art-lovers in this sensory celebration of the beautiful green space on our doorstep. \nKatie O is a Midlands-based artist who creates large-scale murals and recently her beautiful painted hopscotches have been brightening up Newbury town centre. \nYou can visit the Wild Walls exhibition at The Base from Friday 1st August to Saturday 6th September (Open 10am – 5pm\, closed Mondays). \nAge guide: Suitable for all ages\, but made with families with children ages 5 – 9 in mind. \nFamily Day: Tue 5 Aug \nRelaxed Days: Thu 7 & Thu 21 Aug \nSongs and Stories in the Gallery: Thu 14 & Sat 23 Aug \nLearn more via the link below.
URL:https://visitnewbury.org.uk/event/wild-walls-exhibition/
LOCATION:The Base\, Greenham\, The Base\, Greenham Business Park\, RG19 6HN
CATEGORIES:Art Exhibition
ATTACH;FMTTYPE=image/jpeg:https://visitnewbury.org.uk/wp-content/uploads/2025/07/Wild-Walls-at-the-Base.jpg
END:VEVENT
END:VCALENDAR