BEGIN:VCALENDAR
VERSION:2.0
PRODID:-//Visit Newbury - ECPv6.13.2.1//NONSGML v1.0//EN
CALSCALE:GREGORIAN
METHOD:PUBLISH
X-WR-CALNAME:Visit Newbury
X-ORIGINAL-URL:https://visitnewbury.org.uk
X-WR-CALDESC:Events for Visit Newbury
REFRESH-INTERVAL;VALUE=DURATION:PT1H
X-Robots-Tag:noindex
X-PUBLISHED-TTL:PT1H
BEGIN:VTIMEZONE
TZID:Europe/London
BEGIN:DAYLIGHT
TZOFFSETFROM:+0000
TZOFFSETTO:+0100
TZNAME:BST
DTSTART:20260329T010000
END:DAYLIGHT
BEGIN:STANDARD
TZOFFSETFROM:+0100
TZOFFSETTO:+0000
TZNAME:GMT
DTSTART:20261025T010000
END:STANDARD
END:VTIMEZONE
BEGIN:VEVENT
DTSTART;TZID=Europe/London:20260725T190000
DTEND;TZID=Europe/London:20260725T190000
DTSTAMP:20260421T113635
CREATED:20260415T083407Z
LAST-MODIFIED:20260415T084355Z
UID:1129706-1785006000-1785006000@visitnewbury.org.uk
SUMMARY:Watchful
DESCRIPTION:A tender\, humorous and thoughtful tribute to growing older. The story of a woman and a man but also the story of a couple with children who continue to grow up. Travel back to their twenties and follow them through the decades – scroll through the scrapbook of an eventful and joyful life and discover what links us to each other. An opportunity to share moments of life and all the questions that go with them. \nThe performance takes place outside Newbury Methodist Church on Northbrook Street\, and is free to attend. Learn more at the link below.
URL:https://visitnewbury.org.uk/event/watchful/
LOCATION:Newbury Methodist Church\, Newbury Methodist Church\, RG14 1AN
CATEGORIES:Outdoor Performances
ATTACH;FMTTYPE=image/webp:https://visitnewbury.org.uk/wp-content/uploads/2026/04/Watchful-Corn-Exchange.webp
END:VEVENT
END:VCALENDAR