BEGIN:VCALENDAR
VERSION:2.0
PRODID:-//Visit Newbury - ECPv6.13.2.1//NONSGML v1.0//EN
CALSCALE:GREGORIAN
METHOD:PUBLISH
X-WR-CALNAME:Visit Newbury
X-ORIGINAL-URL:https://visitnewbury.org.uk
X-WR-CALDESC:Events for Visit Newbury
REFRESH-INTERVAL;VALUE=DURATION:PT1H
X-Robots-Tag:noindex
X-PUBLISHED-TTL:PT1H
BEGIN:VTIMEZONE
TZID:Europe/London
BEGIN:DAYLIGHT
TZOFFSETFROM:+0000
TZOFFSETTO:+0100
TZNAME:BST
DTSTART:20260329T010000
END:DAYLIGHT
BEGIN:STANDARD
TZOFFSETFROM:+0100
TZOFFSETTO:+0000
TZNAME:GMT
DTSTART:20261025T010000
END:STANDARD
END:VTIMEZONE
BEGIN:VEVENT
DTSTART;TZID=Europe/London:20260214T133000
DTEND;TZID=Europe/London:20260214T160000
DTSTAMP:20260422T221108
CREATED:20260123T122641Z
LAST-MODIFIED:20260123T170352Z
UID:1128367-1771075800-1771084800@visitnewbury.org.uk
SUMMARY:Tom Gates EPIC Stage Show
DESCRIPTION:Tom Gates EPIC Stage Show comes to the Corn Exchange\, bringing alive the illustrations and music that makes Tom Gates hugely popular around the world! \nBased on the bestselling books by Liz Pichon\, expect catchy tunes and hilarious performances. This fantastic stage show brings the best of the brilliant world of Tom Gates into one live show! \nIt’s pure fun for the whole family whether you’re a lover of the books\, the TV series (or both!)\, or you’re new to Tom and his friends. \nThere are performances at 1:30pm and 4pm. Head to the link below to book your tickets.
URL:https://visitnewbury.org.uk/event/tom-gates-epic-stage-show/
LOCATION:Corn Exchange Newbury\, Corn Exchange\, Market Place\, RG14 5BD
CATEGORIES:School Holidays & Half Term,Theatre
ATTACH;FMTTYPE=image/webp:https://visitnewbury.org.uk/wp-content/uploads/2026/01/Tom-Gates-Epic-Stage-Show.webp
END:VEVENT
END:VCALENDAR